Back to the "Multiple platform build/check report" | A B C [D] E F G H I J K L M N O P Q R S T U V W X Y Z |
This page was generated on 2017-04-23 14:36:35 -0400 (Sun, 23 Apr 2017).
Package 316/1377 | Hostname | OS / Arch | INSTALL | BUILD | CHECK | BUILD BIN | |||||
DBChIP 1.19.0 Kun Liang
| malbec2 | Linux (Ubuntu 16.04.1 LTS) / x86_64 | OK | OK | OK | ![]() | |||||
tokay2 | Windows Server 2012 R2 Standard / x64 | OK | OK | OK | OK | ![]() | |||||
toluca2 | Mac OS X Mavericks (10.9.5) / x86_64 | OK | OK | OK | [ OK ] | ||||||
veracruz2 | OS X 10.11.6 El Capitan / x86_64 | OK | OK | OK | OK | ![]() |
Package: DBChIP |
Version: 1.19.0 |
Command: rm -rf DBChIP.buildbin-libdir && mkdir DBChIP.buildbin-libdir && /Users/biocbuild/BBS/utils/build-universal.sh DBChIP_1.19.0.tar.gz /Library/Frameworks/R.framework/Versions/Current/Resources/bin/R DBChIP.buildbin-libdir |
StartedAt: 2017-04-23 11:53:08 -0400 (Sun, 23 Apr 2017) |
EndedAt: 2017-04-23 11:53:23 -0400 (Sun, 23 Apr 2017) |
EllapsedTime: 15.4 seconds |
RetCode: 0 |
Status: OK |
PackageFile: DBChIP_1.19.0.tgz |
PackageFileSize: 1.952 MiB |
############################################################################## ############################################################################## ### ### Running command: ### ### rm -rf DBChIP.buildbin-libdir && mkdir DBChIP.buildbin-libdir && /Users/biocbuild/BBS/utils/build-universal.sh DBChIP_1.19.0.tar.gz /Library/Frameworks/R.framework/Versions/Current/Resources/bin/R DBChIP.buildbin-libdir ### ############################################################################## ############################################################################## >>>>>>> >>>>>>> INSTALLATION WITH 'R CMD INSTALL --preclean --no-multiarch --library=DBChIP.buildbin-libdir DBChIP_1.19.0.tar.gz' >>>>>>> * installing *source* package ‘DBChIP’ ... ** R ** data ** inst ** preparing package for lazy loading ** help *** installing help indices ** building package indices ** installing vignettes ** testing if installed package can be loaded * DONE (DBChIP)