##############################################################################
##############################################################################
###
### Running command:
###
### /Library/Frameworks/R.framework/Versions/Current/Resources/bin/R CMD build --keep-empty-dirs --no-resave-data CopyNumber450k
###
##############################################################################
##############################################################################
* checking for file ‘CopyNumber450k/DESCRIPTION’ ... OK
* preparing ‘CopyNumber450k’:
* checking DESCRIPTION meta-information ... OK
* installing the package to build vignettes
-----------------------------------
* installing *source* package ‘CopyNumber450k’ ...
** R
Error in .install_package_code_files(".", instdir) :
files in '/private/tmp/RtmpQcVNwX/Rbuild823e14b9022c/CopyNumber450k/R' missing from 'Collate' field:
zzz.R
ERROR: unable to collate and parse R files for package ‘CopyNumber450k’
* removing ‘/private/tmp/RtmpQcVNwX/Rinst823e7e3da154/CopyNumber450k’
-----------------------------------
ERROR: package installation failed