Back to the "Multiple platform build/check report" | A B C D E F G H I J K L M N O P Q R S T [U] V W X Y Z |
This page was generated on 2017-04-23 14:36:55 -0400 (Sun, 23 Apr 2017).
Package 1346/1377 | Hostname | OS / Arch | INSTALL | BUILD | CHECK | BUILD BIN | |||||
UniProt.ws 2.15.1 Marc Carlson
| malbec2 | Linux (Ubuntu 16.04.1 LTS) / x86_64 | OK | OK | OK | ![]() | |||||
tokay2 | Windows Server 2012 R2 Standard / x64 | OK | OK | OK | OK | ![]() | |||||
toluca2 | Mac OS X Mavericks (10.9.5) / x86_64 | OK | OK | OK | [ OK ] | ||||||
veracruz2 | OS X 10.11.6 El Capitan / x86_64 | OK | OK | OK | OK | ![]() |
Package: UniProt.ws |
Version: 2.15.1 |
Command: rm -rf UniProt.ws.buildbin-libdir && mkdir UniProt.ws.buildbin-libdir && /Users/biocbuild/BBS/utils/build-universal.sh UniProt.ws_2.15.1.tar.gz /Library/Frameworks/R.framework/Versions/Current/Resources/bin/R UniProt.ws.buildbin-libdir |
StartedAt: 2017-04-23 12:51:34 -0400 (Sun, 23 Apr 2017) |
EndedAt: 2017-04-23 12:51:51 -0400 (Sun, 23 Apr 2017) |
EllapsedTime: 17.2 seconds |
RetCode: 0 |
Status: OK |
PackageFile: UniProt.ws_2.15.1.tgz |
PackageFileSize: 886.2 KiB |
############################################################################## ############################################################################## ### ### Running command: ### ### rm -rf UniProt.ws.buildbin-libdir && mkdir UniProt.ws.buildbin-libdir && /Users/biocbuild/BBS/utils/build-universal.sh UniProt.ws_2.15.1.tar.gz /Library/Frameworks/R.framework/Versions/Current/Resources/bin/R UniProt.ws.buildbin-libdir ### ############################################################################## ############################################################################## >>>>>>> >>>>>>> INSTALLATION WITH 'R CMD INSTALL --preclean --no-multiarch --library=UniProt.ws.buildbin-libdir UniProt.ws_2.15.1.tar.gz' >>>>>>> * installing *source* package ‘UniProt.ws’ ... ** R ** inst ** preparing package for lazy loading ** help *** installing help indices ** building package indices ** installing vignettes ** testing if installed package can be loaded * DONE (UniProt.ws)