##############################################################################
##############################################################################
###
### Running command:
###
### /Library/Frameworks/R.framework/Versions/Current/Resources/bin/R CMD INSTALL CellMapper
###
##############################################################################
##############################################################################
* installing to library ‘/Library/Frameworks/R.framework/Versions/3.4/Resources/library’
* installing *source* package ‘CellMapper’ ...
** R
** data
** inst
** preparing package for lazy loading
Warning: replacing previous import ‘stats::sd’ by ‘S4Vectors::sd’ when loading ‘CellMapper’
Warning: replacing previous import ‘stats::var’ by ‘S4Vectors::var’ when loading ‘CellMapper’
** help
*** installing help indices
** building package indices
** installing vignettes
** testing if installed package can be loaded
Warning: replacing previous import ‘stats::sd’ by ‘S4Vectors::sd’ when loading ‘CellMapper’
Warning: replacing previous import ‘stats::var’ by ‘S4Vectors::var’ when loading ‘CellMapper’
* DONE (CellMapper)