##############################################################################
##############################################################################
###
### Running command:
###
### cd minionSummaryData.buildbin-libdir/minionSummaryData && zip -r ../../minionSummaryData_1.3.2.zip . & cd ../..
###
##############################################################################
##############################################################################
Scanning files
adding: data/ (208 bytes security) (stored 0%)
adding: data/datalist (188 bytes security) (deflated 44%)
adding: data/s.typhi.rep1.rda (188 bytes security) (deflated 0%)
adding: data/s.typhi.rep2.rda (188 bytes security) (deflated 0%)
adding: data/s.typhi.rep3.rda (188 bytes security) (deflated 0%)
adding: DESCRIPTION (188 bytes security) (deflated 39%)
adding: doc/ (208 bytes security) (stored 0%)
adding: doc/creating-Styphi-Dataset.html (188 bytes security) (deflated 61%)
adding: doc/creating-Styphi-Dataset.R (188 bytes security) (deflated 73%)
adding: doc/creating-Styphi-Dataset.Rmd (188 bytes security) (deflated 61%)
adding: doc/index.html (188 bytes security) (deflated 60%)
adding: help/ (208 bytes security) (stored 0%)
adding: help/aliases.rds (188 bytes security) (stored 0%)
adding: help/AnIndex (188 bytes security) (deflated 55%)
adding: help/minionSummaryData.rdb (188 bytes security) (stored 0%)
adding: help/minionSummaryData.rdx (188 bytes security) (stored 0%)
adding: help/paths.rds (188 bytes security) (stored 0%)
adding: html/ (208 bytes security) (stored 0%)
adding: html/00Index.html (188 bytes security) (deflated 62%)
adding: html/R.css (188 bytes security) (deflated 75%)
adding: INDEX (188 bytes security) (deflated 25%)
adding: LICENSE (188 bytes security) (stored 0%)
adding: MD5 (188 bytes security) (deflated 43%)
adding: Meta/ (208 bytes security) (stored 0%)
adding: Meta/data.rds (188 bytes security) (stored 0%)
adding: Meta/hsearch.rds (188 bytes security) (stored 0%)
adding: Meta/links.rds (188 bytes security) (stored 0%)
adding: Meta/nsInfo.rds (188 bytes security) (stored 0%)
adding: Meta/package.rds (188 bytes security) (stored 0%)
adding: Meta/Rd.rds (188 bytes security) (stored 0%)
adding: Meta/vignette.rds (188 bytes security) (stored 0%)
adding: NAMESPACE (188 bytes security) (deflated 11%)
adding: NEWS (188 bytes security) (deflated 36%)