##############################################################################
##############################################################################
###
### Running command:
###
### chmod a+r WES.1KG.WUGSC -R && D:\biocbld\bbs-3.4-bioc\R\bin\R.exe CMD build --keep-empty-dirs --no-resave-data WES.1KG.WUGSC
###
##############################################################################
##############################################################################
* checking for file 'WES.1KG.WUGSC/DESCRIPTION' ... OK
* preparing 'WES.1KG.WUGSC':
* checking DESCRIPTION meta-information ... OK
* installing the package to build vignettes
* creating vignettes ... OK
* checking for LF line-endings in source and make files
* checking for empty or unneeded directories
* building 'WES.1KG.WUGSC_1.5.0.tar.gz'