Back to the "Multiple platform build/check report" A  B  C  D  E  F [G] H  I  J  K  L  M  N  O  P  Q  R  S  T  U  V  W  X  Y  Z 

BioC 3.3: CHECK report for ggcyto on morelia

This page was generated on 2016-04-21 13:27:41 -0700 (Thu, 21 Apr 2016).

Package 487/1210HostnameOS / ArchINSTALLBUILDCHECKBUILD BIN
ggcyto 0.99.8
Mike Jiang
Snapshot Date: 2016-04-20 17:20:35 -0700 (Wed, 20 Apr 2016)
URL: https://hedgehog.fhcrc.org/bioconductor/trunk/madman/Rpacks/ggcyto
Last Changed Rev: 114231 / Revision: 116626
Last Changed Date: 2016-03-03 15:32:08 -0800 (Thu, 03 Mar 2016)
zin2 Linux (Ubuntu 14.04.2 LTS) / x86_64  OK  OK  OK UNNEEDED, same version exists in internal repository
moscato2 Windows Server 2008 R2 Enterprise SP1 (64-bit) / x64  OK  OK  OK  OK UNNEEDED, same version exists in internal repository
morelia Mac OS X Mavericks (10.9.5) / x86_64  OK  OK [ OK ] OK UNNEEDED, same version exists in internal repository

Summary

Package: ggcyto
Version: 0.99.8
Command: /Library/Frameworks/R.framework/Versions/Current/Resources/bin/R CMD check --no-vignettes --timings ggcyto_0.99.8.tar.gz
StartedAt: 2016-04-21 03:12:19 -0700 (Thu, 21 Apr 2016)
EndedAt: 2016-04-21 03:15:08 -0700 (Thu, 21 Apr 2016)
EllapsedTime: 168.7 seconds
RetCode: 0
Status:  OK 
CheckDir: ggcyto.Rcheck
Warnings: 0

Command output

##############################################################################
##############################################################################
###
### Running command:
###
###   /Library/Frameworks/R.framework/Versions/Current/Resources/bin/R CMD check --no-vignettes --timings ggcyto_0.99.8.tar.gz
###
##############################################################################
##############################################################################


* using log directory ‘/Users/biocbuild/bbs-3.3-bioc/meat/ggcyto.Rcheck’
* using R version 3.3.0 beta (2016-04-06 r70435)
* using platform: x86_64-apple-darwin13.4.0 (64-bit)
* using session charset: UTF-8
* using option ‘--no-vignettes’
* checking for file ‘ggcyto/DESCRIPTION’ ... OK
* checking extension type ... Package
* this is package ‘ggcyto’ version ‘0.99.8’
* checking package namespace information ... OK
* checking package dependencies ... OK
* checking if this is a source package ... OK
* checking if there is a namespace ... OK
* checking for hidden files and directories ... OK
* checking for portable file names ... OK
* checking for sufficient/correct file permissions ... OK
* checking whether package ‘ggcyto’ can be installed ... [9s/10s] OK
* checking installed package size ... NOTE
  installed size is  5.5Mb
  sub-directories of 1Mb or more:
    doc   5.3Mb
* checking package directory ... OK
* checking ‘build’ directory ... OK
* checking DESCRIPTION meta-information ... OK
* checking top-level files ... OK
* checking for left-over files ... OK
* checking index information ... OK
* checking package subdirectories ... OK
* checking R files for non-ASCII characters ... OK
* checking R files for syntax errors ... OK
* checking whether the package can be loaded ... OK
* checking whether the package can be loaded with stated dependencies ... OK
* checking whether the package can be unloaded cleanly ... OK
* checking whether the namespace can be loaded with stated dependencies ... OK
* checking whether the namespace can be unloaded cleanly ... OK
* checking dependencies in R code ... NOTE
Namespace in Imports field not imported from: ‘scales’
  All declared Imports should be used.
Unexported objects imported by ':::' calls:
  ‘flowWorkspace:::.mergeGates’ ‘flowWorkspace:::compact’
  ‘ggplot2:::+.gg’ ‘ggplot2:::add_group’ ‘ggplot2:::check_aesthetics’
  ‘ggplot2:::ggplot.data.frame’ ‘ggplot2:::is.waive’
  ‘ggplot2:::is_calculated_aes’ ‘ggplot2:::make_scale’
  ‘ggplot2:::plot_clone’ ‘ggplot2:::print.ggplot’
  ‘ggplot2:::scales_add_defaults’ ‘ggplot2:::update_theme’
  See the note in ?`:::` about the use of this operator.
* checking S3 generic/method consistency ... OK
* checking replacement functions ... OK
* checking foreign function calls ... OK
* checking R code for possible problems ... NOTE
.fs2dt: no visible binding for global variable ‘name’
add_ggcyto: no visible binding for global variable ‘name’
add_ggcyto: no visible binding for global variable ‘density’
add_ggcyto: no visible binding for global variable ‘axis’
add_ggcyto: no visible binding for global variable ‘desc’
add_par: no visible global function definition for ‘modifyList’
as.ggplot: no visible binding for global variable ‘axis’
as.ggplot: no visible binding for global variable ‘name’
autoplot.GatingHierarchy : <anonymous>: no visible global function
  definition for ‘gray’
fortify.polygonGate : <anonymous>: no visible global function
  definition for ‘dist’
fortify.polygonGate : <anonymous>: no visible global function
  definition for ‘approx’
ggcyto.flowSet: no visible binding for global variable ‘name’
ggcyto.flowSet: no visible binding for global variable ‘axis’
print.ggcyto_GatingLayout: no visible binding for global variable
  ‘name’
Undefined global functions or variables:
  approx axis density desc dist gray modifyList name
Consider adding
  importFrom("grDevices", "gray")
  importFrom("graphics", "axis")
  importFrom("stats", "approx", "density", "dist")
  importFrom("utils", "modifyList")
to your NAMESPACE file.
* checking Rd files ... OK
* checking Rd metadata ... OK
* checking Rd cross-references ... OK
* checking for missing documentation entries ... OK
* checking for code/documentation mismatches ... OK
* checking Rd \usage sections ... OK
* checking Rd contents ... OK
* checking for unstated dependencies in examples ... OK
* checking installed files from ‘inst/doc’ ... OK
* checking files in ‘vignettes’ ... OK
* checking examples ... [70s/71s] OK
Examples with CPU or elapsed time > 5s
                            user system elapsed
autoplot                  13.519  0.760  14.561
plus-.ggcyto_GatingLayout  7.517  0.435   7.973
ggcyto.flowSet             6.674  0.344   7.049
* checking for unstated dependencies in vignettes ... OK
* checking package vignettes in ‘inst/doc’ ... OK
* checking running R code from vignettes ... SKIPPED
* checking re-building of vignette outputs ... SKIPPED
* checking PDF version of manual ... OK
* DONE

Status: 3 NOTEs
See
  ‘/Users/biocbuild/bbs-3.3-bioc/meat/ggcyto.Rcheck/00check.log’
for details.


ggcyto.Rcheck/00install.out:

* installing *source* package ‘ggcyto’ ...
** R
** inst
** preparing package for lazy loading
** help
*** installing help indices
** building package indices
** installing vignettes
** testing if installed package can be loaded
* DONE (ggcyto)

ggcyto.Rcheck/ggcyto-Ex.timings:

nameusersystemelapsed
as.ggplot1.4960.0751.656
autoplot13.519 0.76014.561
axis_x_inverse_trans1.4130.1161.537
compute_stats1.0890.0881.182
fortify.ellipsoidGate0.0130.0010.013
fortify.filterList0.0510.0060.056
fortify.flowSet0.1770.0560.234
fortify.polygonGate0.0120.0010.013
fortify.rectangleGate0.0150.0000.016
fortify_fs0.7340.0770.815
geom_gate3.6320.2423.892
geom_hvline0.3990.0020.403
geom_stats1.3440.1271.476
getFlowFrame0.7670.0790.851
ggcyto.GatingSet1.2440.1231.375
ggcyto4.6420.0984.757
ggcyto.flowSet6.6740.3447.049
ggcyto_GatingSet_add1.6510.1141.785
ggcyto_flowSet_add3.0590.1633.232
ggcyto_par_default0.0020.0000.002
ggcyto_par_set1.9980.2012.387
is.ggcyto0.7220.0670.793
is.ggcyto_flowSet0.6810.0480.730
is.ggcyto_par0.0010.0000.001
labs_cyto1.7150.1931.914
marginalFilter2.5660.1822.759
plus-.ggcyto_GatingLayout7.5170.4357.973
scale_x_flowJo_biexp1.4000.0711.489
scale_x_flowJo_fasinh1.3760.0471.429
scale_x_logicle1.4880.0571.552
stat_position0.7510.0490.802