Back to the "Multiple platform build/check report" A [B] C  D  E  F  G  H  I  J  K  L  M  N  O  P  Q  R  S  T  U  V  W  X  Y  Z 

BioC 3.3: CHECK report for ballgown on morelia

This page was generated on 2016-04-21 13:25:33 -0700 (Thu, 21 Apr 2016).

Package 74/1210HostnameOS / ArchINSTALLBUILDCHECKBUILD BIN
ballgown 2.3.2
Jack Fu
Snapshot Date: 2016-04-20 17:20:35 -0700 (Wed, 20 Apr 2016)
URL: https://hedgehog.fhcrc.org/bioconductor/trunk/madman/Rpacks/ballgown
Last Changed Rev: 114591 / Revision: 116626
Last Changed Date: 2016-03-10 00:49:32 -0800 (Thu, 10 Mar 2016)
zin2 Linux (Ubuntu 14.04.2 LTS) / x86_64  OK  OK  OK UNNEEDED, same version exists in internal repository
moscato2 Windows Server 2008 R2 Enterprise SP1 (64-bit) / x64  OK  OK  OK  OK UNNEEDED, same version exists in internal repository
morelia Mac OS X Mavericks (10.9.5) / x86_64  OK  OK [ OK ] OK UNNEEDED, same version exists in internal repository

Summary

Package: ballgown
Version: 2.3.2
Command: /Library/Frameworks/R.framework/Versions/Current/Resources/bin/R CMD check --no-vignettes --timings ballgown_2.3.2.tar.gz
StartedAt: 2016-04-20 23:26:05 -0700 (Wed, 20 Apr 2016)
EndedAt: 2016-04-20 23:30:08 -0700 (Wed, 20 Apr 2016)
EllapsedTime: 243.2 seconds
RetCode: 0
Status:  OK 
CheckDir: ballgown.Rcheck
Warnings: 0

Command output

##############################################################################
##############################################################################
###
### Running command:
###
###   /Library/Frameworks/R.framework/Versions/Current/Resources/bin/R CMD check --no-vignettes --timings ballgown_2.3.2.tar.gz
###
##############################################################################
##############################################################################


* using log directory ‘/Users/biocbuild/bbs-3.3-bioc/meat/ballgown.Rcheck’
* using R version 3.3.0 beta (2016-04-06 r70435)
* using platform: x86_64-apple-darwin13.4.0 (64-bit)
* using session charset: UTF-8
* using option ‘--no-vignettes’
* checking for file ‘ballgown/DESCRIPTION’ ... OK
* this is package ‘ballgown’ version ‘2.3.2’
* checking package namespace information ... OK
* checking package dependencies ... OK
* checking if this is a source package ... OK
* checking if there is a namespace ... OK
* checking for hidden files and directories ... OK
* checking for portable file names ... OK
* checking for sufficient/correct file permissions ... OK
* checking whether package ‘ballgown’ can be installed ... [19s/19s] OK
* checking installed package size ... OK
* checking package directory ... OK
* checking ‘build’ directory ... OK
* checking DESCRIPTION meta-information ... OK
* checking top-level files ... OK
* checking for left-over files ... OK
* checking index information ... OK
* checking package subdirectories ... OK
* checking R files for non-ASCII characters ... OK
* checking R files for syntax errors ... OK
* checking whether the package can be loaded ... OK
* checking whether the package can be loaded with stated dependencies ... OK
* checking whether the package can be unloaded cleanly ... OK
* checking whether the namespace can be loaded with stated dependencies ... OK
* checking whether the namespace can be unloaded cleanly ... OK
* checking dependencies in R code ... OK
* checking S3 generic/method consistency ... OK
* checking replacement functions ... OK
* checking foreign function calls ... OK
* checking R code for possible problems ... NOTE
.readExon: no visible global function definition for ‘read.table’
.readIntron: no visible global function definition for ‘read.table’
.readTranscript: no visible global function definition for ‘read.table’
assessSim: no visible global function definition for ‘read.table’
assessSim: no visible global function definition for ‘lines’
assessSim: no visible global function definition for ‘legend’
ballgown: no visible global function definition for ‘read.table’
ballgownrsem: no visible global function definition for ‘read.table’
ballgownrsem : <anonymous>: no visible global function definition for
  ‘read.table’
checkAssembledTx: no visible global function definition for ‘par’
checkAssembledTx: no visible global function definition for ‘plot’
checkAssembledTx: no visible global function definition for ‘polygon’
checkAssembledTx: no visible global function definition for ‘lines’
checkAssembledTx: no visible global function definition for ‘abline’
checkAssembledTx: no visible global function definition for ‘title’
checkAssembledTx: no visible global function definition for ‘axis’
closestColor: no visible global function definition for ‘heat.colors’
clusterTranscripts: no visible global function definition for ‘cutree’
clusterTranscripts: no visible global function definition for ‘hclust’
clusterTranscripts: no visible global function definition for ‘as.dist’
clusterTranscripts: no visible global function definition for ‘kmeans’
gffRead: no visible global function definition for ‘read.table’
plotMeans: no visible global function definition for ‘par’
plotMeans: no visible global function definition for ‘plot’
plotMeans: no visible global function definition for ‘polygon’
plotMeans: no visible global function definition for ‘lines’
plotMeans: no visible global function definition for ‘heat.colors’
plotMeans: no visible global function definition for ‘text’
plotMeans: no visible global function definition for ‘axis’
plotTranscripts: no visible global function definition for ‘par’
plotTranscripts: no visible global function definition for ‘plot’
plotTranscripts: no visible global function definition for ‘title’
plotTranscripts: no visible global function definition for ‘polygon’
plotTranscripts: no visible global function definition for ‘lines’
plotTranscripts: no visible global function definition for
  ‘heat.colors’
plotTranscripts: no visible global function definition for ‘text’
plotTranscripts: no visible global function definition for ‘axis’
stattest: no visible global function definition for ‘model.matrix’
stattest: no visible global function definition for ‘p.adjust’
writeFiles: no visible global function definition for ‘write.table’
subset,ballgown: no visible binding for global variable ‘i_id’
subset,ballgown: no visible binding for global variable ‘e_id’
subset,ballgown: no visible binding for global variable ‘t_id’
Undefined global functions or variables:
  abline as.dist axis cutree e_id hclust heat.colors i_id kmeans legend
  lines model.matrix p.adjust par plot polygon read.table t_id text
  title write.table
Consider adding
  importFrom("grDevices", "heat.colors")
  importFrom("graphics", "abline", "axis", "legend", "lines", "par",
             "plot", "polygon", "text", "title")
  importFrom("stats", "as.dist", "cutree", "hclust", "kmeans",
             "model.matrix", "p.adjust")
  importFrom("utils", "read.table", "write.table")
to your NAMESPACE file.
* checking Rd files ... OK
* checking Rd metadata ... OK
* checking Rd cross-references ... OK
* checking for missing documentation entries ... OK
* checking for code/documentation mismatches ... OK
* checking Rd \usage sections ... OK
* checking Rd contents ... OK
* checking for unstated dependencies in examples ... OK
* checking contents of ‘data’ directory ... OK
* checking data for non-ASCII characters ... OK
* checking data for ASCII and uncompressed saves ... OK
* checking installed files from ‘inst/doc’ ... OK
* checking files in ‘vignettes’ ... OK
* checking examples ... [23s/23s] OK
* checking for unstated dependencies in ‘tests’ ... OK
* checking tests ...
  Running ‘test-all.R’ [32s/32s]
 [33s/33s] OK
* checking for unstated dependencies in vignettes ... OK
* checking package vignettes in ‘inst/doc’ ... OK
* checking running R code from vignettes ... SKIPPED
* checking re-building of vignette outputs ... SKIPPED
* checking PDF version of manual ... OK
* DONE

Status: 1 NOTE
See
  ‘/Users/biocbuild/bbs-3.3-bioc/meat/ballgown.Rcheck/00check.log’
for details.


ballgown.Rcheck/00install.out:

* installing *source* package ‘ballgown’ ...
** R
** data
** inst
** preparing package for lazy loading
Creating a new generic function for ‘structure’ in package ‘ballgown’
** help
*** installing help indices
** building package indices
** installing vignettes
** testing if installed package can be loaded
* DONE (ballgown)

ballgown.Rcheck/ballgown-Ex.timings:

nameusersystemelapsed
annotate_assembly3.3360.0563.399
ballgown-class0.0660.0050.071
ballgown-constructor0.4440.0130.457
ballgownrsem3.1070.0373.146
bg0.0370.0040.040
checkAssembledTx000
clusterTranscripts0.1450.0030.148
collapseTranscripts0.2440.0030.247
contains1.5060.0191.525
dirs0.0290.0070.035
eexpr0.0370.0080.045
expr-replace0.0430.0070.049
expr0.0340.0090.042
exprfilter0.0710.0090.081
geneIDs0.0390.0090.049
geneNames0.3200.0130.334
getAttributeField1.5420.0031.545
getGenes0.3230.0130.336
gexpr0.1040.0080.113
gffRead0.3600.0010.361
gffReadGR0.3370.0020.339
iexpr0.0390.0090.049
indexes-replace0.0370.0090.047
indexes0.0390.0090.049
last0.0010.0000.002
mergedDate0.0370.0080.046
pData-replace0.0400.0080.049
pData0.0400.0090.049
pctOverlap0.6920.0160.708
plotLatentTranscripts000
plotMeans0.0000.0000.001
plotTranscripts0.0000.0000.001
sampleNames0.0340.0070.042
seqnames0.0360.0080.044
stattest0.0850.0080.093
structure0.0500.0080.058
subset0.1040.0090.112
tGene0.0430.0080.051
texpr0.0350.0080.042
transcriptIDs0.0330.0070.040
transcriptNames0.0360.0090.044
writeFiles000