Welcome to mirrors.dotsrc.org

All our mirrors of open source software are available via http, https, ftp and an onion service. More information about our mirrors including statistics and contact information is available on our mirror info pages.

For information about dotsrc.org and our other services please go to our website.

Index of /bioconductor/checkResults/3.21/data-experiment-LATEST/

File Name  ↓ File Size  ↓ Date  ↓ 
Parent directory/--
Hiiragi2013/-2025-05-08 19:01:40
DropletTestFiles/-2025-05-08 19:01:40
WeberDivechaLCdata/-2025-05-08 19:01:41
ChIPexoQualExample/-2025-05-08 19:01:40
adductData/-2025-05-08 19:01:39
ffpeExampleData/-2025-05-08 19:01:40
mCSEAdata/-2025-05-08 19:01:40
ChimpHumanBrainData/-2025-05-08 19:01:40
prostateCancerTaylor/-2025-05-08 19:01:41
RUVnormalizeData/-2025-05-08 19:01:41
stemHypoxia/-2025-05-08 19:01:41
DuoClustering2018/-2025-05-08 19:01:40
TENxPBMCData/-2025-05-08 19:01:41
breastCancerTRANSBIG/-2025-05-08 19:01:40
TumourMethData/-2025-05-08 19:01:41
HumanAffyData/-2025-05-08 19:01:40
bladderbatch/-2025-05-08 19:01:40
curatedMetagenomicData/-2025-05-08 19:01:40
optimalFlowData/-2025-05-08 19:01:41
RnBeads.mm10/-2025-05-08 19:01:41
SimBenchData/-2025-05-08 19:01:41
PhyloProfileData/-2025-05-08 19:01:41
HSMMSingleCell/-2025-05-08 19:01:40
HiCDataLymphoblast/-2025-05-08 19:01:40
biotmleData/-2025-05-08 19:01:40
NGScopyData/-2025-05-08 19:01:41
M3DExampleData/-2025-05-08 19:01:40
qPLEXdata/-2025-05-08 19:01:41
celldex/-2025-05-08 19:01:40
OMICsPCAdata/-2025-05-08 19:01:41
breastCancerVDX/-2025-05-08 19:01:40
msPurityData/-2025-05-08 19:01:40
AshkenazimSonChr21/-2025-05-08 19:01:39
PWMEnrich.Dmelanogaster.background/-2025-05-08 19:01:41
hgu2beta7/-2025-05-08 19:01:40
GSE13015/-2025-05-08 19:01:40
HiContactsData/-2025-05-08 19:01:40
CopyhelpeR/-2025-05-08 19:01:40
blimaTestingData/-2025-05-08 19:01:40
tofsimsData/-2025-05-08 19:01:41
FlowSorted.CordBloodNorway.450k/-2025-05-08 19:01:40
SFEData/-2025-05-08 19:01:41
OnassisJavaLibs/-2025-05-08 19:01:41
TENxVisiumData/-2025-05-08 19:01:41
GenomicDistributionsData/-2025-05-08 19:01:40
curatedAdipoChIP/-2025-05-08 19:01:40
marinerData/-2025-05-08 19:01:40
chromstaRData/-2025-05-08 19:01:40
ALL/-2025-05-08 19:01:39
hapmap100khind/-2025-05-08 19:01:40
CardinalWorkflows/-2025-05-08 19:01:40
HD2013SGI/-2025-05-08 19:01:40
tinesath1cdf/-2025-05-08 19:01:41
TENET.ExperimentHub/-2025-05-08 19:01:41
gaschYHS/-2025-05-08 19:01:40
davidTiling/-2025-05-08 19:01:40
miRcompData/-2025-05-08 19:01:40
Single.mTEC.Transcriptomes/-2025-05-08 19:01:41
ewceData/-2025-05-08 19:01:40
affydata/-2025-05-08 19:01:39
tweeDEseqCountData/-2025-05-08 19:01:41
colonCA/-2025-05-08 19:01:40
metaMSdata/-2025-05-08 19:01:40
spatialLIBD/-2025-05-08 19:01:41
curatedAdipoArray/-2025-05-08 19:01:40
ALLMLL/-2025-05-08 19:01:39
Affyhgu133Plus2Expr/-2025-05-08 19:01:39
scpdata/-2025-05-08 19:01:41
nanotubes/-2025-05-08 19:01:40
BeadArrayUseCases/-2025-05-08 19:01:40
ASICSdata/-2025-05-08 19:01:39
beadarrayExampleData/-2025-05-08 19:01:40
aracne.networks/-2025-05-08 19:01:39
spqnData/-2025-05-08 19:01:41
TabulaMurisData/-2025-05-08 19:01:41
serumStimulation/-2025-05-08 19:01:41
RnBeads.hg38/-2025-05-08 19:01:41
cnvGSAdata/-2025-05-08 19:01:40
prostateCancerStockholm/-2025-05-08 19:01:41
epimutacionsData/-2025-05-08 19:01:40
PCHiCdata/-2025-05-08 19:01:41
RNAmodR.Data/-2025-05-08 19:01:41
smokingMouse/-2025-05-08 19:01:41
BloodCancerMultiOmics2017/-2025-05-08 19:01:40
PWMEnrich.Mmusculus.background/-2025-05-08 19:01:41
SingleCellMultiModal/-2025-05-08 19:01:41
minionSummaryData/-2025-05-08 19:01:40
RTCGA.clinical/-2025-05-08 19:01:41
bsseqData/-2025-05-08 19:01:40
leukemiasEset/-2025-05-08 19:01:40
oct4/-2025-05-08 19:01:41
RnBeads.hg19/-2025-05-08 19:01:41
LungCancerACvsSCCGEO/-2025-05-08 19:01:40
hapmapsnp5/-2025-05-08 19:01:40
humanStemCell/-2025-05-08 19:01:40
RnBeads.mm9/-2025-05-08 19:01:41
RTCGA.PANCAN12/-2025-05-08 19:01:41
MSMB/-2025-05-08 19:01:40
scaeData/-2025-05-08 19:01:41
HiBED/-2025-05-08 19:01:40
Affyhgu133aExpr/-2025-05-08 19:01:39
hapmap500knsp/-2025-05-08 19:01:40
NanoporeRNASeq/-2025-05-08 19:01:40
mosaicsExample/-2025-05-08 19:01:40
tissueTreg/-2025-05-08 19:01:41
CCl4/-2025-05-08 19:01:40
cancerdata/-2025-05-08 19:01:40
PasillaTranscriptExpr/-2025-05-08 19:01:41
CRCL18/-2025-05-08 19:01:40
celarefData/-2025-05-08 19:01:40
MouseAgingData/-2025-05-08 19:01:40
MethylAidData/-2025-05-08 19:01:40
leeBamViews/-2025-05-08 19:01:40
hapmap500ksty/-2025-05-08 19:01:40
tinesath1probe/-2025-05-08 19:01:41
systemPipeRdata/-2025-05-08 19:01:41
FlowSorted.Blood.EPIC/-2025-05-08 19:01:40
VariantToolsData/-2025-05-08 19:01:41
RTCGA.rnaseq/-2025-05-08 19:01:41
COPDSexualDimorphism.data/-2025-05-08 19:01:40
cMap2data/-2025-05-08 19:01:40
SingleMoleculeFootprintingData/-2025-05-08 19:01:41
scATAC.Explorer/-2025-05-08 19:01:41
sampleClassifierData/-2025-05-08 19:01:41
ptairData/-2025-05-08 19:01:41
gageData/-2025-05-08 19:01:40
dyebiasexamples/-2025-05-08 19:01:40
CLLmethylation/-2025-05-08 19:01:40
preciseTADhub/-2025-05-08 19:01:41
EpipwR.data/-2025-05-08 19:01:40
RnBeads.rn5/-2025-05-08 19:01:41
KOdata/-2025-05-08 19:01:40
seventyGeneData/-2025-05-08 19:01:41
STexampleData/-2025-05-08 19:01:41
breastCancerMAINZ/-2025-05-08 19:01:40
rheumaticConditionWOLLBOLD/-2025-05-08 19:01:41
breastCancerUPP/-2025-05-08 19:01:40
homosapienDEE2CellScore/-2025-05-08 19:01:40
MEDIPSData/-2025-05-08 19:01:40
prostateCancerVarambally/-2025-05-08 19:01:41
HDCytoData/-2025-05-08 19:01:40
JASPAR2014/-2025-05-08 19:01:40
Affymoe4302Expr/-2025-05-08 19:01:39
MetaGxBreast/-2025-05-08 19:01:40
imcdatasets/-2025-05-08 19:01:40
DNAZooData/-2025-05-08 19:01:40
MetaGxPancreas/-2025-05-08 19:01:40
breastCancerNKI/-2025-05-08 19:01:40
bronchialIL13/-2025-05-08 19:01:40
FlowSorted.DLPFC.450k/-2025-05-08 19:01:40
EGSEAdata/-2025-05-08 19:01:40
yeastExpData/-2025-05-08 19:01:41
DvDdata/-2025-05-08 19:01:40
ConnectivityMap/-2025-05-08 19:01:40
NCIgraphData/-2025-05-08 19:01:40
timecoursedata/-2025-05-08 19:01:41
MetaScope/-2025-05-08 19:01:40
TCGAbiolinksGUI.data/-2025-05-08 19:01:41
chipseqDBData/-2025-05-08 19:01:40
MUGAExampleData/-2025-05-08 19:01:40
TENxBrainData/-2025-05-08 19:01:41
mcsurvdata/-2025-05-08 19:01:40
TargetScoreData/-2025-05-08 19:01:41
geneLenDataBase/-2025-05-08 19:01:40
DrugVsDiseasedata/-2025-05-08 19:01:40
CytoMethIC/-2025-05-08 19:01:40
hapmap100kxba/-2025-05-08 19:01:40
SpikeInSubset/-2025-05-08 19:01:41
CLL/-2025-05-08 19:01:40
TimerQuant/-2025-05-08 19:01:41
curatedPCaData/-2025-05-08 19:01:40
minfiData/-2025-05-08 19:01:40
mtbls2/-2025-05-08 19:01:40
AssessORFData/-2025-05-08 19:01:39
breastCancerUNT/-2025-05-08 19:01:40
MerfishData/-2025-05-08 19:01:40
DMRcatedata/-2025-05-08 19:01:40
yeastGSData/-2025-05-08 19:01:41
pd.atdschip.tiling/-2025-05-08 19:01:41
CluMSIDdata/-2025-05-08 19:01:40
DAPARdata/-2025-05-08 19:01:40
TCGAWorkflowData/-2025-05-08 19:01:41
VectraPolarisData/-2025-05-08 19:01:41
fission/-2025-05-08 19:01:40
ARRmData/-2025-05-08 19:01:39
spatialDmelxsim/-2025-05-08 19:01:41
lydata/-2025-05-08 19:01:40
simpIntLists/-2025-05-08 19:01:41
maqcExpression4plex/-2025-05-08 19:01:40
BioPlex/-2025-05-08 19:01:40
emtdata/-2025-05-08 19:01:40
SBGNview.data/-2025-05-08 19:01:41
WGSmapp/-2025-05-08 19:01:41
RforProteomics/-2025-05-08 19:01:41
GSE159526/-2025-05-08 19:01:40
healthyFlowData/-2025-05-08 19:01:40
SomatiCAData/-2025-05-08 19:01:41
TCGAMethylation450k/-2025-05-08 19:01:41
curatedAdipoRNA/-2025-05-08 19:01:40
SomaticCancerAlterations/-2025-05-08 19:01:41
RTCGA.mutations/-2025-05-08 19:01:41
hapmapsnp6/-2025-05-08 19:01:40
msqc1/-2025-05-08 19:01:40
SNAGEEdata/-2025-05-08 19:01:41
mvoutData/-2025-05-08 19:01:40
diffloopdata/-2025-05-08 19:01:40
curatedTBData/-2025-05-08 19:01:40
FlowSorted.Blood.450k/-2025-05-08 19:01:40
DExMAdata/-2025-05-08 19:01:40
SpatialDatasets/-2025-05-08 19:01:41
lumiBarnes/-2025-05-08 19:01:40
FIs/-2025-05-08 19:01:40
flowPloidyData/-2025-05-08 19:01:40
LungCancerLines/-2025-05-08 19:01:40
GSE62944/-2025-05-08 19:01:40
zebrafishRNASeq/-2025-05-08 19:01:41
topdownrdata/-2025-05-08 19:01:41
pasilla/-2025-05-08 19:01:41
SCLCBam/-2025-05-08 19:01:41
pasillaBamSubset/-2025-05-08 19:01:41
KEGGdzPathwaysGEO/-2025-05-08 19:01:40
MouseThymusAgeing/-2025-05-08 19:01:40
GSBenchMark/-2025-05-08 19:01:40
ChAMPdata/-2025-05-08 19:01:40
scanMiRData/-2025-05-08 19:01:41
healthyControlsPresenceChecker/-2025-05-08 19:01:40
fourDNData/-2025-05-08 19:01:40
prostateCancerCamcap/-2025-05-08 19:01:41
HIVcDNAvantWout03/-2025-05-08 19:01:40
TBX20BamSubset/-2025-05-08 19:01:41
CellMapperData/-2025-05-08 19:01:40
msigdb/-2025-05-08 19:01:40
gDNAinRNAseqData/-2025-05-08 19:01:40
RcisTarget.hg19.motifDBs.cisbpOnly.500bp/-2025-05-08 19:01:41
IlluminaDataTestFiles/-2025-05-08 19:01:40
MACSdata/-2025-05-08 19:01:40
RMassBankData/-2025-05-08 19:01:41
estrogen/-2025-05-08 19:01:40
GeuvadisTranscriptExpr/-2025-05-08 19:01:40
frmaExampleData/-2025-05-08 19:01:40
faahKO/-2025-05-08 19:01:40
RNAseqData.HNRNPC.bam.chr14/-2025-05-08 19:01:41
crisprScoreData/-2025-05-08 19:01:40
depmap/-2025-05-08 19:01:40
dressCheck/-2025-05-08 19:01:40
pRolocdata/-2025-05-08 19:01:41
raerdata/-2025-05-08 19:01:41
fabiaData/-2025-05-08 19:01:40
sesameData/-2025-05-08 19:01:41
MouseGastrulationData/-2025-05-08 19:01:40
lungExpression/-2025-05-08 19:01:40
KEGGandMetacoreDzPathwaysGEO/-2025-05-08 19:01:40
microbiomeDataSets/-2025-05-08 19:01:40
signatureSearchData/-2025-05-08 19:01:41
RegParallel/-2025-05-08 19:01:41
TCGAcrcmiRNA/-2025-05-08 19:01:41
LRcellTypeMarkers/-2025-05-08 19:01:40
MicrobiomeBenchmarkData/-2025-05-08 19:01:40
BioImageDbs/-2025-05-08 19:01:40
yeastCC/-2025-05-08 19:01:41
TCGAcrcmRNA/-2025-05-08 19:01:41
rcellminerData/-2025-05-08 19:01:41
hgu133abarcodevecs/-2025-05-08 19:01:40
miRNATarget/-2025-05-08 19:01:40
MAQCsubset/-2025-05-08 19:01:40
Fletcher2013a/-2025-05-08 19:01:40
ELMER.data/-2025-05-08 19:01:40
RRBSdata/-2025-05-08 19:01:41
RTCGA.RPPA/-2025-05-08 19:01:41
harbChIP/-2025-05-08 19:01:40
MEEBOdata/-2025-05-08 19:01:40
benchmarkfdrData2019/-2025-05-08 19:01:40
SVM2CRMdata/-2025-05-08 19:01:41
nullrangesData/-2025-05-08 19:01:41
Affyhgu133A2Expr/-2025-05-08 19:01:39
PepsNMRData/-2025-05-08 19:01:41
XhybCasneuf/-2025-05-08 19:01:41
tximportData/-2025-05-08 19:01:41
scMultiome/-2025-05-08 19:01:41
furrowSeg/-2025-05-08 19:01:40
grndata/-2025-05-08 19:01:40
CONFESSdata/-2025-05-08 19:01:40
RTCGA.CNV/-2025-05-08 19:01:41
GWASdata/-2025-05-08 19:01:40
COSMIC.67/-2025-05-08 19:01:40
shinyMethylData/-2025-05-08 19:01:41
ChIPXpressData/-2025-05-08 19:01:40
clustifyrdatahub/-2025-05-08 19:01:40
muleaData/-2025-05-08 19:01:40
PathNetData/-2025-05-08 19:01:41
affycompData/-2025-05-08 19:01:39
MOFAdata/-2025-05-08 19:01:40
RITANdata/-2025-05-08 19:01:41
FlowSorted.CordBlood.450k/-2025-05-08 19:01:40
tuberculosis/-2025-05-08 19:01:41
fibroEset/-2025-05-08 19:01:40
Iyer517/-2025-05-08 19:01:40
prostateCancerGrasso/-2025-05-08 19:01:41
ecoliLeucine/-2025-05-08 19:01:40
ITALICSData/-2025-05-08 19:01:40
RGMQLlib/-2025-05-08 19:01:41
TransOmicsData/-2025-05-08 19:01:41
Neve2006/-2025-05-08 19:01:40
mammaPrintData/-2025-05-08 19:01:40
EpiMix.data/-2025-05-08 19:01:40
curatedBladderData/-2025-05-08 19:01:40
gcspikelite/-2025-05-08 19:01:40
bodymapRat/-2025-05-08 19:01:40
Illumina450ProbeVariants.db/-2025-05-08 19:01:40
FieldEffectCrc/-2025-05-08 19:01:40
ReactomeGSA.data/-2025-05-08 19:01:41
TENxBUSData/-2025-05-08 19:01:41
brgedata/-2025-05-08 19:01:40
orthosData/-2025-05-08 19:01:41
macrophage/-2025-05-08 19:01:40
mouse4302barcodevecs/-2025-05-08 19:01:40
ProData/-2025-05-08 19:01:41
ccdata/-2025-05-08 19:01:40
curatedTCGAData/-2025-05-08 19:01:40
EatonEtAlChIPseq/-2025-05-08 19:01:40
microRNAome/-2025-05-08 19:01:40
kidpack/-2025-05-08 19:01:40
FlowSorted.CordBloodCombined.450k/-2025-05-08 19:01:40
AffymetrixDataTestFiles/-2025-05-08 19:01:39
scTHI.data/-2025-05-08 19:01:41
SpikeIn/-2025-05-08 19:01:41
HelloRangesData/-2025-05-08 19:01:40
JASPAR2016/-2025-05-08 19:01:40
PREDAsampledata/-2025-05-08 19:01:41
diggitdata/-2025-05-08 19:01:40
SubcellularSpatialData/-2025-05-08 19:01:41
LiebermanAidenHiC2009/-2025-05-08 19:01:40
AmpAffyExample/-2025-05-08 19:01:39
easierData/-2025-05-08 19:01:40
hgu133plus2barcodevecs/-2025-05-08 19:01:40
TMExplorer/-2025-05-08 19:01:41
beta7/-2025-05-08 19:01:40
RTCGA.methylation/-2025-05-08 19:01:41
vulcandata/-2025-05-08 19:01:41
RTCGA.miRNASeq/-2025-05-08 19:01:41
h5vcData/-2025-05-08 19:01:40
minfiDataEPIC/-2025-05-08 19:01:40
cfToolsData/-2025-05-08 19:01:40
JohnsonKinaseData/-2025-05-08 19:01:40
ObMiTi/-2025-05-08 19:01:41
IHWpaper/-2025-05-08 19:01:40
CopyNeutralIMA/-2025-05-08 19:01:40
MetaGxOvarian/-2025-05-08 19:01:40
BeadSorted.Saliva.EPIC/-2025-05-08 19:01:40
SNPhoodData/-2025-05-08 19:01:41
PtH2O2lipids/-2025-05-08 19:01:41
GIGSEAdata/-2025-05-08 19:01:40
MethylSeqData/-2025-05-08 19:01:40
dorothea/-2025-05-08 19:01:40
chipenrich.data/-2025-05-08 19:01:40
eoPredData/-2025-05-08 19:01:40
QDNAseq.mm10/-2025-05-08 19:01:41
GSVAdata/-2025-05-08 19:01:40
ProteinGymR/-2025-05-08 19:01:41
scRNAseq/-2025-05-08 19:01:41
AneuFinderData/-2025-05-08 19:01:39
etec16s/-2025-05-08 19:01:40
hgu133plus2CellScore/-2025-05-08 19:01:40
octad.db/-2025-05-08 19:01:41
NetActivityData/-2025-05-08 19:01:40
COHCAPanno/-2025-05-08 19:01:40
ListerEtAlBSseq/-2025-05-08 19:01:40
RTCGA.mRNA/-2025-05-08 19:01:41
flowWorkspaceData/-2025-05-08 19:01:40
seqc/-2025-05-08 19:01:41
HarmonizedTCGAData/-2025-05-08 19:01:40
TargetSearchData/-2025-05-08 19:01:41
gpaExample/-2025-05-08 19:01:40
muSpaData/-2025-05-08 19:01:40
pumadata/-2025-05-08 19:01:41
TabulaMurisSenisData/-2025-05-08 19:01:41
bugphyzz/-2025-05-08 19:01:40
curatedCRCData/-2025-05-08 19:01:40
pepDat/-2025-05-08 19:01:41
Fletcher2013b/-2025-05-08 19:01:40
SNAData/-2025-05-08 19:01:41
DeSousa2013/-2025-05-08 19:01:40
msd16s/-2025-05-08 19:01:40
NxtIRFdata/-2025-05-08 19:01:41
HMP16SData/-2025-05-08 19:01:40
PWMEnrich.Hsapiens.background/-2025-05-08 19:01:41
humanHippocampus2024/-2025-05-08 19:01:40
TENxXeniumData/-2025-05-08 19:01:41
HMP2Data/-2025-05-08 19:01:40
msdata/-2025-05-08 19:01:40
parathyroidSE/-2025-05-08 19:01:41
HarmanData/-2025-05-08 19:01:40
HCATonsilData/-2025-05-08 19:01:40
derfinderData/-2025-05-08 19:01:40
golubEsets/-2025-05-08 19:01:40
antiProfilesData/-2025-05-08 19:01:39
yeastNagalakshmi/-2025-05-08 19:01:41
DonaPLLP2013/-2025-05-08 19:01:40
bcellViper/-2025-05-08 19:01:40
QUBICdata/-2025-05-08 19:01:41
QDNAseq.hg19/-2025-05-08 19:01:41
biscuiteerData/-2025-05-08 19:01:40
curatedOvarianData/-2025-05-08 19:01:40
MMDiffBamSubset/-2025-05-08 19:01:40
gDRtestData/-2025-05-08 19:01:40
HighlyReplicatedRNASeq/-2025-05-08 19:01:40
synapterdata/-2025-05-08 19:01:41
breakpointRdata/-2025-05-08 19:01:40
NestLink/-2025-05-08 19:01:40
DLBCL/-2025-05-08 19:01:40
HiCDataHumanIMR90/-2025-05-08 19:01:40
prebsdata/-2025-05-08 19:01:41
tartare/-2025-05-08 19:01:41
genomationData/-2025-05-08 19:01:40
airway/-2025-05-08 19:01:39
LegATo/-2025-05-08 19:01:40
muscData/-2025-05-08 19:01:40
RnaSeqSampleSizeData/-2025-05-08 19:01:41
CoSIAdata/-2025-05-08 19:01:40
methylclockData/-2025-05-08 19:01:40
yeastRNASeq/-2025-05-08 19:01:41
WES.1KG.WUGSC/-2025-05-08 19:01:41
multiWGCNAdata/-2025-05-08 19:01:40
curatedBreastData/-2025-05-08 19:01:40
xcoredata/-2025-05-08 19:01:41
seq2pathway.data/-2025-05-08 19:01:41
HCAData/-2025-05-08 19:01:40
HEEBOdata/-2025-05-08 19:01:40
plotgardenerData/-2025-05-08 19:01:41
rRDPData/-2025-05-08 19:01:41
GSE103322/-2025-05-08 19:01:40
FANTOM3and4CAGE/-2025-05-08 19:01:40
skipped-index.dcf0 B2025-05-08 19:01:39
DEVEL3b.png2.6 KiB2025-05-08 19:01:39
Renviron.bioc3.3 KiB2025-05-08 19:01:39
report.js6.0 KiB2025-05-08 19:01:39
120px-Red_Light_Icon.svg.png7.0 KiB2025-05-08 19:01:39
nebbiolo1-NodeInfo.html7.0 KiB2025-05-08 19:01:39
120px-Green_Light_Icon.svg.png7.1 KiB2025-05-08 19:01:39
120px-Blue_Light_Icon.svg.png7.1 KiB2025-05-08 19:01:39
report.css11.0 KiB2025-05-08 19:01:39
PROPAGATION_STATUS_DB.txt31.4 KiB2025-05-08 19:01:39
meat-index.dcf46.5 KiB2025-05-08 19:01:39
BUILD_STATUS_DB.txt47.2 KiB2025-05-08 19:01:39
nebbiolo1-R-instpkgs.html529.5 KiB2025-05-08 19:01:39
index.html598.4 KiB2025-05-08 19:01:41
report.tgz1.2 MiB2025-05-08 19:01:43