Back to Multiple platform build/check report for BioC 3.21:   simplified   long
ABCDEFGHIJKLMNO[P]QRSTUVWXYZ

This page was generated on 2025-04-22 13:16 -0400 (Tue, 22 Apr 2025).

HostnameOSArch (*)R versionInstalled pkgs
nebbiolo1Linux (Ubuntu 24.04.1 LTS)x86_644.5.0 RC (2025-04-04 r88126) -- "How About a Twenty-Six" 4831
palomino7Windows Server 2022 Datacenterx644.5.0 RC (2025-04-04 r88126 ucrt) -- "How About a Twenty-Six" 4573
lconwaymacOS 12.7.1 Montereyx86_644.5.0 RC (2025-04-04 r88126) -- "How About a Twenty-Six" 4599
kjohnson3macOS 13.7.1 Venturaarm644.5.0 RC (2025-04-04 r88126) -- "How About a Twenty-Six" 4553
kunpeng2Linux (openEuler 24.03 LTS)aarch64R Under development (unstable) (2025-02-19 r87757) -- "Unsuffered Consequences" 4570
Click on any hostname to see more info about the system (e.g. compilers)      (*) as reported by 'uname -p', except on Windows and Mac OS X

Package 1606/2341HostnameOS / ArchINSTALLBUILDCHECKBUILD BIN
poem 1.0.0  (landing page)
Siyuan Luo
Snapshot Date: 2025-04-21 13:40 -0400 (Mon, 21 Apr 2025)
git_url: https://git.bioconductor.org/packages/poem
git_branch: RELEASE_3_21
git_last_commit: 4510cc2
git_last_commit_date: 2025-04-15 13:48:21 -0400 (Tue, 15 Apr 2025)
nebbiolo1Linux (Ubuntu 24.04.1 LTS) / x86_64  OK    OK    WARNINGS  YES
palomino7Windows Server 2022 Datacenter / x64  OK    OK    WARNINGS    OK  NO, package depends on 'BiocParallel' which is only available as a source package that needs compilation
lconwaymacOS 12.7.1 Monterey / x86_64  OK    OK    WARNINGS    OK  YES
kjohnson3macOS 13.7.1 Ventura / arm64  OK    OK    WARNINGS    OK  YES
kunpeng2Linux (openEuler 24.03 LTS) / aarch64  OK    OK    WARNINGS  


CHECK results for poem on lconway

To the developers/maintainers of the poem package:
- Allow up to 24 hours (and sometimes 48 hours) for your latest push to git@git.bioconductor.org:packages/poem.git to reflect on this report. See Troubleshooting Build Report for more information.
- Use the following Renviron settings to reproduce errors and warnings.
- If 'R CMD check' started to fail recently on the Linux builder(s) over a missing dependency, add the missing dependency to 'Suggests:' in your DESCRIPTION file. See Renviron.bioc for more information.

raw results


Summary

Package: poem
Version: 1.0.0
Command: /Library/Frameworks/R.framework/Resources/bin/R CMD check --install=check:poem.install-out.txt --library=/Library/Frameworks/R.framework/Resources/library --no-vignettes --timings poem_1.0.0.tar.gz
StartedAt: 2025-04-21 22:41:45 -0400 (Mon, 21 Apr 2025)
EndedAt: 2025-04-21 22:47:35 -0400 (Mon, 21 Apr 2025)
EllapsedTime: 350.0 seconds
RetCode: 0
Status:   WARNINGS  
CheckDir: poem.Rcheck
Warnings: 1

Command output

##############################################################################
##############################################################################
###
### Running command:
###
###   /Library/Frameworks/R.framework/Resources/bin/R CMD check --install=check:poem.install-out.txt --library=/Library/Frameworks/R.framework/Resources/library --no-vignettes --timings poem_1.0.0.tar.gz
###
##############################################################################
##############################################################################


* using log directory ‘/Users/biocbuild/bbs-3.21-bioc/meat/poem.Rcheck’
* using R version 4.5.0 RC (2025-04-04 r88126)
* using platform: x86_64-apple-darwin20
* R was compiled by
    Apple clang version 14.0.0 (clang-1400.0.29.202)
    GNU Fortran (GCC) 14.2.0
* running under: macOS Monterey 12.7.6
* using session charset: UTF-8
* using option ‘--no-vignettes’
* checking for file ‘poem/DESCRIPTION’ ... OK
* this is package ‘poem’ version ‘1.0.0’
* package encoding: UTF-8
* checking package namespace information ... OK
* checking package dependencies ... OK
* checking if this is a source package ... OK
* checking if there is a namespace ... OK
* checking for hidden files and directories ... OK
* checking for portable file names ... OK
* checking for sufficient/correct file permissions ... OK
* checking whether package ‘poem’ can be installed ... OK
* checking installed package size ... OK
* checking package directory ... OK
* checking ‘build’ directory ... OK
* checking DESCRIPTION meta-information ... OK
* checking top-level files ... OK
* checking for left-over files ... OK
* checking index information ... OK
* checking package subdirectories ... OK
* checking code files for non-ASCII characters ... OK
* checking R files for syntax errors ... OK
* checking whether the package can be loaded ... OK
* checking whether the package can be loaded with stated dependencies ... OK
* checking whether the package can be unloaded cleanly ... OK
* checking whether the namespace can be loaded with stated dependencies ... OK
* checking whether the namespace can be unloaded cleanly ... OK
* checking dependencies in R code ... OK
* checking S3 generic/method consistency ... OK
* checking replacement functions ... OK
* checking foreign function calls ... OK
* checking R code for possible problems ... OK
* checking Rd files ... OK
* checking Rd metadata ... OK
* checking Rd cross-references ... WARNING
Missing link(s) in Rd file 'fuzzyHardMetrics.Rd':
  ‘FuzzyPartitionMetrics’

See section 'Cross-references' in the 'Writing R Extensions' manual.

Found the following Rd file(s) with Rd \link{} targets missing package
anchors:
  fuzzyHardMetrics.Rd: FuzzyPartitionMetrics
Please provide package anchors for all Rd \link{} targets not in the
package itself and the base packages.
* checking for missing documentation entries ... OK
* checking for code/documentation mismatches ... OK
* checking Rd \usage sections ... OK
* checking Rd contents ... OK
* checking for unstated dependencies in examples ... OK
* checking contents of ‘data’ directory ... OK
* checking data for non-ASCII characters ... OK
* checking data for ASCII and uncompressed saves ... OK
* checking files in ‘vignettes’ ... OK
* checking examples ... OK
* checking for unstated dependencies in ‘tests’ ... OK
* checking tests ...
  Running ‘testthat.R’
 OK
* checking for unstated dependencies in vignettes ... OK
* checking package vignettes ... OK
* checking running R code from vignettes ... SKIPPED
* checking re-building of vignette outputs ... SKIPPED
* checking PDF version of manual ... OK
* DONE

Status: 1 WARNING
See
  ‘/Users/biocbuild/bbs-3.21-bioc/meat/poem.Rcheck/00check.log’
for details.


Installation output

poem.Rcheck/00install.out

##############################################################################
##############################################################################
###
### Running command:
###
###   /Library/Frameworks/R.framework/Resources/bin/R CMD INSTALL poem
###
##############################################################################
##############################################################################


* installing to library ‘/Library/Frameworks/R.framework/Versions/4.5-x86_64/Resources/library’
* installing *source* package ‘poem’ ...
** this is package ‘poem’ version ‘1.0.0’
** using staged installation
** R
** data
** inst
** byte-compile and prepare package for lazy loading
** help
*** installing help indices
** building package indices
** installing vignettes
** testing if installed package can be loaded from temporary location
** testing if installed package can be loaded from final location
** testing if installed package keeps a record of temporary installation path
* DONE (poem)

Tests output

poem.Rcheck/tests/testthat.Rout


R version 4.5.0 RC (2025-04-04 r88126) -- "How About a Twenty-Six"
Copyright (C) 2025 The R Foundation for Statistical Computing
Platform: x86_64-apple-darwin20

R is free software and comes with ABSOLUTELY NO WARRANTY.
You are welcome to redistribute it under certain conditions.
Type 'license()' or 'licence()' for distribution details.

R is a collaborative project with many contributors.
Type 'contributors()' for more information and
'citation()' on how to cite R or R packages in publications.

Type 'demo()' for some demos, 'help()' for on-line help, or
'help.start()' for an HTML browser interface to help.
Type 'q()' to quit R.

> # This file is part of the standard setup for testthat.
> # It is recommended that you do not modify it.
> #
> # Where should you do additional test configuration?
> # Learn more about the roles of various files in:
> # * https://r-pkgs.org/tests.html
> # * https://testthat.r-lib.org/reference/test_package.html#special-files
> 
> library(testthat)
> library(poem)
> 
> test_check("poem")
Standard error of the mean NDC across permutations:0.00342
You might want to increase the number of permutations to increase the robustness of the adjusted metrics.
Comparing between a fuzzy truth and a fuzzy prediction...
Running 100 extra permutations.
Standard error of the mean NDC across permutations:0.00227
Comparing between a fuzzy truth and a fuzzy prediction...
Running 100 extra permutations.
Standard error of the mean NDC across permutations:0.00228
Comparing between a fuzzy truth and a fuzzy prediction...
Comparing between a fuzzy truth and a hard prediction...
Standard error of the mean NDC across permutations:0.000185
the specified variable is considered as categorical...
the specified variable is considered as categorical...
the specified variable is considered as categorical...
Comparing between a fuzzy truth and a hard prediction...
Standard error of the mean NDC across permutations:0.000889
Comparing between a fuzzy truth and a hard prediction...
Standard error of the mean NDC across permutations:0.000296
Comparing between a fuzzy truth and a hard prediction...
Comparing between a fuzzy truth and a hard prediction...
[ FAIL 0 | WARN 14 | SKIP 0 | PASS 57 ]

[ FAIL 0 | WARN 14 | SKIP 0 | PASS 57 ]
> 
> proc.time()
   user  system elapsed 
 19.031   0.935  20.150 

Example timings

poem.Rcheck/poem-Ex.timings

nameusersystemelapsed
CDbw0.0300.0010.031
CHAOS0.0110.0020.015
ELSA0.3690.0410.416
PAS0.1080.0080.118
dbcv0.1130.0090.122
emb2knn0.0040.0030.007
emb2snn0.0090.0010.010
findSpatialKNN0.0160.0110.029
fuzzyHardMetrics0.0630.0010.064
fuzzyHardMetrics20.0290.0000.031
fuzzyHardSpotConcordance0.0030.0000.003
fuzzyPartitionMetrics000
fuzzySpotConcordance0.0000.0000.001
getEmbeddingMetrics0.0400.0010.041
getFuzzyLabel0.0310.0050.036
getFuzzyPartitionMetrics0.0910.0020.093
getGraphMetrics0.0710.0030.074
getNeighboringPairConcordance0.0440.0030.046
getPartitionMetrics0.0400.0010.041
getSpatialExternalMetrics0.4970.0280.529
getSpatialInternalMetrics0.3010.0060.309
knnComposition0.0400.0060.047
mockData0.0010.0000.002
spatialARI0.0120.0020.015