Back to Multiple platform build/check report for BioC 3.21: simplified long |
|
This page was generated on 2025-05-08 11:42 -0400 (Thu, 08 May 2025).
Hostname | OS | Arch (*) | R version | Installed pkgs |
---|---|---|---|---|
nebbiolo1 | Linux (Ubuntu 24.04.1 LTS) | x86_64 | 4.5.0 RC (2025-04-04 r88126) -- "How About a Twenty-Six" | 4833 |
palomino7 | Windows Server 2022 Datacenter | x64 | 4.5.0 RC (2025-04-04 r88126 ucrt) -- "How About a Twenty-Six" | 4574 |
merida1 | macOS 12.7.5 Monterey | x86_64 | 4.5.0 RC (2025-04-04 r88126) -- "How About a Twenty-Six" | 4599 |
kjohnson1 | macOS 13.6.6 Ventura | arm64 | 4.5.0 RC (2025-04-04 r88129) -- "How About a Twenty-Six" | 4553 |
kunpeng2 | Linux (openEuler 24.03 LTS) | aarch64 | R Under development (unstable) (2025-02-19 r87757) -- "Unsuffered Consequences" | 4570 |
Click on any hostname to see more info about the system (e.g. compilers) (*) as reported by 'uname -p', except on Windows and Mac OS X |
Package 1374/2341 | Hostname | OS / Arch | INSTALL | BUILD | CHECK | BUILD BIN | ||||||||
mspms 1.0.0 (landing page) Charlie Bayne
| nebbiolo1 | Linux (Ubuntu 24.04.1 LTS) / x86_64 | OK | OK | OK | ![]() | ||||||||
palomino7 | Windows Server 2022 Datacenter / x64 | OK | OK | OK | OK | ![]() | ||||||||
merida1 | macOS 12.7.5 Monterey / x86_64 | OK | OK | OK | OK | ![]() | ||||||||
kjohnson1 | macOS 13.6.6 Ventura / arm64 | OK | OK | OK | OK | ![]() | ||||||||
kunpeng2 | Linux (openEuler 24.03 LTS) / aarch64 | OK | OK | OK | ||||||||||
To the developers/maintainers of the mspms package: - Allow up to 24 hours (and sometimes 48 hours) for your latest push to git@git.bioconductor.org:packages/mspms.git to reflect on this report. See Troubleshooting Build Report for more information. - Use the following Renviron settings to reproduce errors and warnings. - If 'R CMD check' started to fail recently on the Linux builder(s) over a missing dependency, add the missing dependency to 'Suggests:' in your DESCRIPTION file. See Renviron.bioc for more information. |
Package: mspms |
Version: 1.0.0 |
Command: E:\biocbuild\bbs-3.21-bioc\R\bin\R.exe CMD check --no-multiarch --install=check:mspms.install-out.txt --library=E:\biocbuild\bbs-3.21-bioc\R\library --no-vignettes --timings mspms_1.0.0.tar.gz |
StartedAt: 2025-05-06 04:25:45 -0400 (Tue, 06 May 2025) |
EndedAt: 2025-05-06 04:40:35 -0400 (Tue, 06 May 2025) |
EllapsedTime: 889.7 seconds |
RetCode: 0 |
Status: OK |
CheckDir: mspms.Rcheck |
Warnings: 0 |
############################################################################## ############################################################################## ### ### Running command: ### ### E:\biocbuild\bbs-3.21-bioc\R\bin\R.exe CMD check --no-multiarch --install=check:mspms.install-out.txt --library=E:\biocbuild\bbs-3.21-bioc\R\library --no-vignettes --timings mspms_1.0.0.tar.gz ### ############################################################################## ############################################################################## * using log directory 'E:/biocbuild/bbs-3.21-bioc/meat/mspms.Rcheck' * using R version 4.5.0 RC (2025-04-04 r88126 ucrt) * using platform: x86_64-w64-mingw32 * R was compiled by gcc.exe (GCC) 14.2.0 GNU Fortran (GCC) 14.2.0 * running under: Windows Server 2022 x64 (build 20348) * using session charset: UTF-8 * using option '--no-vignettes' * checking for file 'mspms/DESCRIPTION' ... OK * checking extension type ... Package * this is package 'mspms' version '1.0.0' * package encoding: UTF-8 * checking package namespace information ... OK * checking package dependencies ... OK * checking if this is a source package ... OK * checking if there is a namespace ... OK * checking for hidden files and directories ... OK * checking for portable file names ... OK * checking whether package 'mspms' can be installed ... OK * checking installed package size ... OK * checking package directory ... OK * checking 'build' directory ... OK * checking DESCRIPTION meta-information ... OK * checking top-level files ... OK * checking for left-over files ... OK * checking index information ... OK * checking package subdirectories ... OK * checking code files for non-ASCII characters ... OK * checking R files for syntax errors ... OK * checking whether the package can be loaded ... OK * checking whether the package can be loaded with stated dependencies ... OK * checking whether the package can be unloaded cleanly ... OK * checking whether the namespace can be loaded with stated dependencies ... OK * checking whether the namespace can be unloaded cleanly ... OK * checking dependencies in R code ... OK * checking S3 generic/method consistency ... OK * checking replacement functions ... OK * checking foreign function calls ... OK * checking R code for possible problems ... NOTE calc_limma_design_matrix: no visible global function definition for 'model.matrix' limma_stats: no visible binding for global variable 'peptide' limma_stats: no visible binding for global variable 'contrast' limma_stats: no visible binding for global variable 'group1' limma_stats: no visible binding for global variable 'time' Undefined global functions or variables: contrast group1 model.matrix peptide time Consider adding importFrom("stats", "model.matrix", "time") to your NAMESPACE file. * checking Rd files ... OK * checking Rd metadata ... OK * checking Rd cross-references ... NOTE Non-topic package-anchored link(s) in Rd file 'pipe.Rd': '[magrittr:pipe]{%>%}' See section 'Cross-references' in the 'Writing R Extensions' manual. * checking for missing documentation entries ... OK * checking for code/documentation mismatches ... OK * checking Rd \usage sections ... OK * checking Rd contents ... OK * checking for unstated dependencies in examples ... OK * checking contents of 'data' directory ... OK * checking data for non-ASCII characters ... OK * checking LazyData ... OK * checking data for ASCII and uncompressed saves ... OK * checking files in 'vignettes' ... OK * checking examples ... OK Examples with CPU (user + system) or elapsed time > 5s user system elapsed log2fc_t_test 142.30 0.87 143.23 plot_heatmap 24.94 1.55 31.62 limma_stats 9.79 0.52 10.31 prepare_peaks 8.28 0.28 8.53 prepare_fragpipe 6.79 0.30 7.06 * checking for unstated dependencies in 'tests' ... OK * checking tests ... Running 'testthat.R' OK * checking for unstated dependencies in vignettes ... OK * checking package vignettes ... OK * checking running R code from vignettes ... SKIPPED * checking re-building of vignette outputs ... SKIPPED * checking PDF version of manual ... OK * DONE Status: 2 NOTEs See 'E:/biocbuild/bbs-3.21-bioc/meat/mspms.Rcheck/00check.log' for details.
mspms.Rcheck/00install.out
############################################################################## ############################################################################## ### ### Running command: ### ### E:\biocbuild\bbs-3.21-bioc\R\bin\R.exe CMD INSTALL mspms ### ############################################################################## ############################################################################## * installing to library 'E:/biocbuild/bbs-3.21-bioc/R/library' * installing *source* package 'mspms' ... ** this is package 'mspms' version '1.0.0' ** using staged installation ** R ** data *** moving datasets to lazyload DB ** inst ** byte-compile and prepare package for lazy loading ** help *** installing help indices *** copying figures ** building package indices ** installing vignettes ** testing if installed package can be loaded from temporary location ** testing if installed package can be loaded from final location ** testing if installed package keeps a record of temporary installation path * DONE (mspms)
mspms.Rcheck/tests/testthat.Rout
R version 4.5.0 RC (2025-04-04 r88126 ucrt) -- "How About a Twenty-Six" Copyright (C) 2025 The R Foundation for Statistical Computing Platform: x86_64-w64-mingw32/x64 R is free software and comes with ABSOLUTELY NO WARRANTY. You are welcome to redistribute it under certain conditions. Type 'license()' or 'licence()' for distribution details. R is a collaborative project with many contributors. Type 'contributors()' for more information and 'citation()' on how to cite R or R packages in publications. Type 'demo()' for some demos, 'help()' for on-line help, or 'help.start()' for an HTML browser interface to help. Type 'q()' to quit R. > # This file is part of the standard setup for testthat. > # It is recommended that you do not modify it. > # > # Where should you do additional test configuration? > # Learn more about the roles of various files in: > # * https://r-pkgs.org/testing-design.html#sec-tests-files-overview > # * https://testthat.r-lib.org/articles/special-files.html > > library(testthat) > library(mspms) > > test_check("mspms") Loading required namespace: QFeatures Joining with `by = join_by(quantCols)` Joining with `by = join_by(quantCols)` Joining with `by = join_by(quantCols)` Joining with `by = join_by(quantCols)` Scale for x is already present. Adding another scale for x, which will replace the existing scale. Scale for x is already present. Adding another scale for x, which will replace the existing scale. Rows: 2444 Columns: 32 -- Column specification -------------------------------------------------------- Delimiter: "," chr (6): Protein Accession, Peptide, Used, Candidate, Sample Profile (Ratio... dbl (25): Protein Group, Protein ID, Quality, Significance, Avg. ppm, Avg. A... lgl (1): PTM i Use `spec()` to retrieve the full column specification for this data. i Specify the column types or set `show_col_types = FALSE` to quiet this message. 841 peptides were removed because they had a quality score < 0.3 (34%) Rows: 12 Columns: 4 -- Column specification -------------------------------------------------------- Delimiter: "," chr (3): quantCols, group, condition dbl (1): time i Use `spec()` to retrieve the full column specification for this data. i Specify the column types or set `show_col_types = FALSE` to quiet this message. Checking arguments. Loading data as a 'SummarizedExperiment' object. Formatting sample annotations (colData). Formatting data as a 'QFeatures' object. Setting assay rownames. Loading required namespace: imputeLCMD Imputing along margin 2 (samples/columns). Your row data contain missing values. Please read the relevant section(s) in the aggregateFeatures manual page regarding the effects of missing values on data aggregation. Joining with `by = join_by(quantCols)` Joining with `by = join_by(quantCols)` Scale for x is already present. Adding another scale for x, which will replace the existing scale. Scale for x is already present. Adding another scale for x, which will replace the existing scale. Joining with `by = join_by(quantCols)` Joining with `by = join_by(quantCols)` Joining with `by = join_by(quantCols)` Joining with `by = join_by(quantCols)` Joining with `by = join_by(quantCols)` Rows: 1847 Columns: 63 -- Column specification -------------------------------------------------------- Delimiter: "\t" chr (19): Peptide Sequence, Prev AA, Next AA, Protein, Protein ID, Entry Nam... dbl (40): Start, End, Peptide Length, CatA_0000_1 Spectral Count, CatA_0000_... num (1): Charges lgl (3): Gene, Mapped Genes, Mapped Proteins i Use `spec()` to retrieve the full column specification for this data. i Specify the column types or set `show_col_types = FALSE` to quiet this message. Rows: 12 Columns: 4 -- Column specification -------------------------------------------------------- Delimiter: "," chr (3): quantCols, group, condition dbl (1): time i Use `spec()` to retrieve the full column specification for this data. i Specify the column types or set `show_col_types = FALSE` to quiet this message. Checking arguments. Loading data as a 'SummarizedExperiment' object. Formatting sample annotations (colData). Formatting data as a 'QFeatures' object. Setting assay rownames. Rows: 2444 Columns: 1 -- Column specification -------------------------------------------------------- Delimiter: "\t" chr (1): Protein Group,Protein ID,Protein Accession,Peptide,Used,Candidate,Q... i Use `spec()` to retrieve the full column specification for this data. i Specify the column types or set `show_col_types = FALSE` to quiet this message. Rows: 1207 Columns: 68 -- Column specification -------------------------------------------------------- Delimiter: "\t" chr (17): Confidence, Annotated Sequence, Master Protein Accessions, Positio... dbl (48): Peptide Groups Peptide Group ID, Qvality PEP, Qvality q-value, # P... lgl (3): Checked, Modifications, Modifications in Master Proteins i Use `spec()` to retrieve the full column specification for this data. i Specify the column types or set `show_col_types = FALSE` to quiet this message. Rows: 12 Columns: 4 -- Column specification -------------------------------------------------------- Delimiter: "," chr (3): quantCols, group, condition dbl (1): time i Use `spec()` to retrieve the full column specification for this data. i Specify the column types or set `show_col_types = FALSE` to quiet this message. Checking arguments. Loading data as a 'SummarizedExperiment' object. Formatting sample annotations (colData). Formatting data as a 'QFeatures' object. Setting assay rownames. Rows: 1207 Columns: 68 -- Column specification -------------------------------------------------------- Delimiter: "\t" chr (17): Confidence, Annotated Sequence, Master Protein Accessions, Positio... dbl (48): Peptide Groups Peptide Group ID, Qvality PEP, Qvality q-value, # P... lgl (3): Checked, Modifications, Modifications in Master Proteins i Use `spec()` to retrieve the full column specification for this data. i Specify the column types or set `show_col_types = FALSE` to quiet this message. Rows: 12 Columns: 4 -- Column specification -------------------------------------------------------- Delimiter: "," chr (3): quantCols, group, condition dbl (1): time i Use `spec()` to retrieve the full column specification for this data. i Specify the column types or set `show_col_types = FALSE` to quiet this message. Checking arguments. Loading data as a 'SummarizedExperiment' object. Formatting sample annotations (colData). Formatting data as a 'QFeatures' object. Setting assay rownames. Rows: 2444 Columns: 32 -- Column specification -------------------------------------------------------- Delimiter: "," chr (6): Protein Accession, Peptide, Used, Candidate, Sample Profile (Ratio... dbl (25): Protein Group, Protein ID, Quality, Significance, Avg. ppm, Avg. A... lgl (1): PTM i Use `spec()` to retrieve the full column specification for this data. i Specify the column types or set `show_col_types = FALSE` to quiet this message. 841 peptides were removed because they had a quality score < 0.3 (34%) Rows: 12 Columns: 4 -- Column specification -------------------------------------------------------- Delimiter: "," chr (3): quantCols, group, condition dbl (1): time i Use `spec()` to retrieve the full column specification for this data. i Specify the column types or set `show_col_types = FALSE` to quiet this message. Checking arguments. Loading data as a 'SummarizedExperiment' object. Formatting sample annotations (colData). Formatting data as a 'QFeatures' object. Setting assay rownames. Rows: 2444 Columns: 32 -- Column specification -------------------------------------------------------- Delimiter: "," chr (6): Protein Accession, Peptide, Used, Candidate, Sample Profile (Ratio... dbl (25): Protein Group, Protein ID, Quality, Significance, Avg. ppm, Avg. A... lgl (1): PTM i Use `spec()` to retrieve the full column specification for this data. i Specify the column types or set `show_col_types = FALSE` to quiet this message. Rows: 1 Columns: 1 -- Column specification -------------------------------------------------------- Delimiter: "," chr (1): tests/testdata/ i Use `spec()` to retrieve the full column specification for this data. i Specify the column types or set `show_col_types = FALSE` to quiet this message. Joining with `by = join_by(quantCols)` Joining with `by = join_by(quantCols)` Checking arguments. Loading data as a 'SummarizedExperiment' object. Formatting sample annotations (colData). Formatting data as a 'QFeatures' object. Setting assay rownames. Imputing along margin 2 (samples/columns). Your row data contain missing values. Please read the relevant section(s) in the aggregateFeatures manual page regarding the effects of missing values on data aggregation. Joining with `by = join_by(quantCols)` Joining with `by = join_by(quantCols)` Joining with `by = join_by(quantCols)` [ FAIL 0 | WARN 7 | SKIP 0 | PASS 118 ] [ FAIL 0 | WARN 7 | SKIP 0 | PASS 118 ] > > proc.time() user system elapsed 590.01 7.45 597.14
mspms.Rcheck/mspms-Ex.timings
name | user | system | elapsed | |
calculate_all_cleavages | 0.00 | 0.02 | 0.02 | |
generate_report | 0.02 | 0.00 | 0.02 | |
limma_stats | 9.79 | 0.52 | 10.31 | |
log2fc_t_test | 142.30 | 0.87 | 143.23 | |
mspms_tidy | 0.06 | 0.03 | 0.09 | |
plot_all_icelogos | 1.49 | 0.05 | 2.03 | |
plot_cleavages_per_pos | 0.56 | 0.00 | 0.57 | |
plot_heatmap | 24.94 | 1.55 | 31.62 | |
plot_icelogo | 0.61 | 0.04 | 0.69 | |
plot_nd_peptides | 0.52 | 0.02 | 0.55 | |
plot_pca | 4.01 | 0.08 | 4.13 | |
plot_qc_check | 1.00 | 0.03 | 1.06 | |
plot_time_course | 0.03 | 0.00 | 0.03 | |
plot_volcano | 0.53 | 0.06 | 0.61 | |
prepare_fragpipe | 6.79 | 0.30 | 7.06 | |
prepare_pd | 0 | 0 | 0 | |
prepare_peaks | 8.28 | 0.28 | 8.53 | |
process_qf | 1.42 | 0.06 | 2.16 | |