Back to Multiple platform build/check report for BioC 3.21: simplified long |
|
This page was generated on 2025-05-05 11:40 -0400 (Mon, 05 May 2025).
Hostname | OS | Arch (*) | R version | Installed pkgs |
---|---|---|---|---|
nebbiolo1 | Linux (Ubuntu 24.04.1 LTS) | x86_64 | 4.5.0 RC (2025-04-04 r88126) -- "How About a Twenty-Six" | 4832 |
palomino7 | Windows Server 2022 Datacenter | x64 | 4.5.0 RC (2025-04-04 r88126 ucrt) -- "How About a Twenty-Six" | 4574 |
merida1 | macOS 12.7.5 Monterey | x86_64 | 4.5.0 RC (2025-04-04 r88126) -- "How About a Twenty-Six" | 4599 |
kjohnson1 | macOS 13.6.6 Ventura | arm64 | 4.5.0 RC (2025-04-04 r88129) -- "How About a Twenty-Six" | 4553 |
Click on any hostname to see more info about the system (e.g. compilers) (*) as reported by 'uname -p', except on Windows and Mac OS X |
Package 210/2341 | Hostname | OS / Arch | INSTALL | BUILD | CHECK | BUILD BIN | ||||||||
biodbUniprot 1.14.0 (landing page) Pierrick Roger
| nebbiolo1 | Linux (Ubuntu 24.04.1 LTS) / x86_64 | OK | OK | OK | ![]() | ||||||||
palomino7 | Windows Server 2022 Datacenter / x64 | OK | OK | ERROR | OK | |||||||||
merida1 | macOS 12.7.5 Monterey / x86_64 | OK | OK | OK | OK | ![]() | ||||||||
kjohnson1 | macOS 13.6.6 Ventura / arm64 | OK | OK | OK | OK | ![]() | ||||||||
To the developers/maintainers of the biodbUniprot package: - Allow up to 24 hours (and sometimes 48 hours) for your latest push to git@git.bioconductor.org:packages/biodbUniprot.git to reflect on this report. See Troubleshooting Build Report for more information. - Use the following Renviron settings to reproduce errors and warnings. - If 'R CMD check' started to fail recently on the Linux builder(s) over a missing dependency, add the missing dependency to 'Suggests:' in your DESCRIPTION file. See Renviron.bioc for more information. |
Package: biodbUniprot |
Version: 1.14.0 |
Command: E:\biocbuild\bbs-3.21-bioc\R\bin\R.exe CMD check --no-multiarch --install=check:biodbUniprot.install-out.txt --library=E:\biocbuild\bbs-3.21-bioc\R\library --no-vignettes --timings biodbUniprot_1.14.0.tar.gz |
StartedAt: 2025-05-02 00:07:11 -0400 (Fri, 02 May 2025) |
EndedAt: 2025-05-02 00:12:59 -0400 (Fri, 02 May 2025) |
EllapsedTime: 347.9 seconds |
RetCode: 1 |
Status: ERROR |
CheckDir: biodbUniprot.Rcheck |
Warnings: NA |
############################################################################## ############################################################################## ### ### Running command: ### ### E:\biocbuild\bbs-3.21-bioc\R\bin\R.exe CMD check --no-multiarch --install=check:biodbUniprot.install-out.txt --library=E:\biocbuild\bbs-3.21-bioc\R\library --no-vignettes --timings biodbUniprot_1.14.0.tar.gz ### ############################################################################## ############################################################################## * using log directory 'E:/biocbuild/bbs-3.21-bioc/meat/biodbUniprot.Rcheck' * using R version 4.5.0 RC (2025-04-04 r88126 ucrt) * using platform: x86_64-w64-mingw32 * R was compiled by gcc.exe (GCC) 14.2.0 GNU Fortran (GCC) 14.2.0 * running under: Windows Server 2022 x64 (build 20348) * using session charset: UTF-8 * using option '--no-vignettes' * checking for file 'biodbUniprot/DESCRIPTION' ... OK * this is package 'biodbUniprot' version '1.14.0' * package encoding: UTF-8 * checking package namespace information ... OK * checking package dependencies ... OK * checking if this is a source package ... OK * checking if there is a namespace ... OK * checking for hidden files and directories ... OK * checking for portable file names ... OK * checking whether package 'biodbUniprot' can be installed ... OK * checking installed package size ... OK * checking package directory ... OK * checking DESCRIPTION meta-information ... OK * checking top-level files ... OK * checking for left-over files ... OK * checking index information ... OK * checking package subdirectories ... OK * checking code files for non-ASCII characters ... OK * checking R files for syntax errors ... OK * checking whether the package can be loaded ... OK * checking whether the package can be loaded with stated dependencies ... OK * checking whether the package can be unloaded cleanly ... OK * checking whether the namespace can be loaded with stated dependencies ... OK * checking whether the namespace can be unloaded cleanly ... OK * checking dependencies in R code ... OK * checking S3 generic/method consistency ... OK * checking replacement functions ... OK * checking foreign function calls ... OK * checking R code for possible problems ... OK * checking Rd files ... OK * checking Rd metadata ... OK * checking Rd cross-references ... OK * checking for missing documentation entries ... OK * checking for code/documentation mismatches ... OK * checking Rd \usage sections ... OK * checking Rd contents ... OK * checking for unstated dependencies in examples ... OK * checking files in 'vignettes' ... OK * checking examples ... OK Examples with CPU (user + system) or elapsed time > 5s user system elapsed UniprotConn 4.2 2.39 153.03 * checking for unstated dependencies in 'tests' ... OK * checking tests ... Running 'testthat.R' ERROR Running the tests in 'tests/testthat.R' failed. Last 13 lines of output: ── Failure ('test_100_generic.R:16:1'): The peak table is correct. ───────────── any(vapply(entries, is.null, FUN.VALUE = TRUE)) is not FALSE `actual`: TRUE `expected`: FALSE One of the entries is NULL. Backtrace: ▆ 1. ├─base::do.call(fct, params) 2. └─biodb (local) `<fn>`(conn = `<UnprtCnn>`, opt = `<named list>`) 3. └─testthat::expect_false(...) [ FAIL 14 | WARN 0 | SKIP 0 | PASS 112 ] Error: Test failures Execution halted * checking for unstated dependencies in vignettes ... OK * checking package vignettes ... OK * checking running R code from vignettes ... SKIPPED * checking re-building of vignette outputs ... SKIPPED * checking PDF version of manual ... OK * DONE Status: 1 ERROR See 'E:/biocbuild/bbs-3.21-bioc/meat/biodbUniprot.Rcheck/00check.log' for details.
biodbUniprot.Rcheck/00install.out
############################################################################## ############################################################################## ### ### Running command: ### ### E:\biocbuild\bbs-3.21-bioc\R\bin\R.exe CMD INSTALL biodbUniprot ### ############################################################################## ############################################################################## * installing to library 'E:/biocbuild/bbs-3.21-bioc/R/library' * installing *source* package 'biodbUniprot' ... ** this is package 'biodbUniprot' version '1.14.0' ** using staged installation ** R ** inst ** byte-compile and prepare package for lazy loading ** help *** installing help indices ** building package indices ** installing vignettes ** testing if installed package can be loaded from temporary location ** testing if installed package can be loaded from final location ** testing if installed package keeps a record of temporary installation path * DONE (biodbUniprot)
biodbUniprot.Rcheck/tests/testthat.Rout.fail
R version 4.5.0 RC (2025-04-04 r88126 ucrt) -- "How About a Twenty-Six" Copyright (C) 2025 The R Foundation for Statistical Computing Platform: x86_64-w64-mingw32/x64 R is free software and comes with ABSOLUTELY NO WARRANTY. You are welcome to redistribute it under certain conditions. Type 'license()' or 'licence()' for distribution details. R is a collaborative project with many contributors. Type 'contributors()' for more information and 'citation()' on how to cite R or R packages in publications. Type 'demo()' for some demos, 'help()' for on-line help, or 'help.start()' for an HTML browser interface to help. Type 'q()' to quit R. > # vi: fdm=marker > # Script needed to run testthat automatically from ‘R CMD check’. See > # testthat::test_dir documentation. > library(testthat) > library(biodbUniprot) > Sys.setenv(TESTTHAT_REPORTER = "summary") > test_check("biodbUniprot") [ FAIL 14 | WARN 0 | SKIP 0 | PASS 112 ] ══ Failed tests ════════════════════════════════════════════════════════════════ ── Error ('test_100_generic.R:16:1'): RT unit is defined when there is an RT value. ── Error in `eval_bare(expr, quo_get_env(quo))`: attempt to apply non-function Backtrace: ▆ 1. ├─base::do.call(fct, params) 2. └─biodb (local) `<fn>`(conn = `<UnprtCnn>`, opt = `<named list>`) 3. └─testthat::expect_true(...) 4. └─testthat::quasi_label(enquo(object), label, arg = "object") 5. └─rlang::eval_bare(expr, quo_get_env(quo)) ── Failure ('test_100_generic.R:16:1'): We can search for an entry by searchable field ── !is.null(entry) is not TRUE `actual`: FALSE `expected`: TRUE Backtrace: ▆ 1. ├─base::do.call(fct, params) 2. └─biodb (local) `<fn>`(conn = `<UnprtCnn>`, opt = `<named list>`) 3. └─testthat::expect_true(!is.null(entry)) ── Error ('test_100_generic.R:16:1'): We can search for an entry by searchable field ── Error in `entry$getFieldValue(f)`: attempt to apply non-function Backtrace: ▆ 1. ├─base::do.call(fct, params) 2. └─biodb (local) `<fn>`(conn = `<UnprtCnn>`, opt = `<named list>`) ── Failure ('test_100_generic.R:16:1'): We can search for an entry by name. ──── !is.null(entry) is not TRUE `actual`: FALSE `expected`: TRUE Backtrace: ▆ 1. ├─base::do.call(fct, params) 2. └─biodb (local) `<fn>`(conn = `<UnprtCnn>`, opt = `<named list>`) 3. └─testthat::expect_true(!is.null(entry)) ── Error ('test_100_generic.R:16:1'): We can search for an entry by name. ────── Error in `entry$getFieldValue("name")`: attempt to apply non-function Backtrace: ▆ 1. ├─base::do.call(fct, params) 2. └─biodb (local) `<fn>`(conn = `<UnprtCnn>`, opt = `<named list>`) ── Failure ('test_100_generic.R:16:1'): We can load an entry from the database. ── any(vapply(entries, is.null, FUN.VALUE = TRUE)) is not FALSE `actual`: TRUE `expected`: FALSE Backtrace: ▆ 1. ├─base::do.call(fct, params) 2. └─biodb (local) `<fn>`(conn = `<UnprtCnn>`, opt = `<named list>`) 3. └─opt$refEntries$getRealEntry(id) 4. └─self$getRealEntries(ids = id) 5. └─testthat::expect_false(any(vapply(entries, is.null, FUN.VALUE = TRUE))) ── Failure ('test_100_generic.R:16:1'): We can load an entry from the database. ── `e` inherits from `'NULL'` not `'character'`. Backtrace: ▆ 1. ├─base::do.call(fct, params) 2. └─biodb (local) `<fn>`(conn = `<UnprtCnn>`, opt = `<named list>`) 3. └─testthat::expect_is(e, "BiodbEntry") ── Failure ('test_100_generic.R:16:1'): We can search for a compound ─────────── !is.null(entry) is not TRUE `actual`: FALSE `expected`: TRUE Backtrace: ▆ 1. ├─base::do.call(fct, params) 2. └─biodb (local) `<fn>`(db = `<UnprtCnn>`, opt = `<named list>`) 3. └─testthat::expect_true(!is.null(entry)) ── Error ('test_100_generic.R:16:1'): We can search for a compound ───────────── Error in `entry$getFieldValue("name")`: attempt to apply non-function Backtrace: ▆ 1. ├─base::do.call(fct, params) 2. └─biodb (local) `<fn>`(db = `<UnprtCnn>`, opt = `<named list>`) ── Error ('test_100_generic.R:16:1'): annotateMzValues() accepts a single vector. ── Error in `e$hasField(mf)`: attempt to apply non-function Backtrace: ▆ 1. ├─base::do.call(fct, params) 2. └─biodb (local) `<fn>`(conn = `<UnprtCnn>`, opt = `<named list>`) 3. └─base::vapply(entries, function(e) e$hasField(mf), FUN.VALUE = TRUE) 4. └─biodb (local) FUN(X[[i]], ...) ── Error ('test_100_generic.R:16:1'): ppm tolerance works in annotateMzValues() ── Error in `e$hasField(mf)`: attempt to apply non-function Backtrace: ▆ 1. ├─base::do.call(fct, params) 2. └─biodb (local) `<fn>`(conn = `<UnprtCnn>`, opt = `<named list>`) 3. └─base::vapply(entries, function(e) e$hasField(mf), FUN.VALUE = TRUE) 4. └─biodb (local) FUN(X[[i]], ...) ── Error ('test_100_generic.R:16:1'): Input data frame is not modified by annotateMzValues() ── Error in `e$hasField(mf)`: attempt to apply non-function Backtrace: ▆ 1. ├─base::do.call(fct, params) 2. └─biodb (local) `<fn>`(conn = `<UnprtCnn>`, opt = `<named list>`) 3. └─base::vapply(entries, function(e) e$hasField(mf), FUN.VALUE = TRUE) 4. └─biodb (local) FUN(X[[i]], ...) ── Failure ('test_100_generic.R:16:1'): One wrong entry does not block the retrieval of good ones ── any(vapply(entries[2:length(entries)], is.null, FUN.VALUE = TRUE)) is not FALSE `actual`: TRUE `expected`: FALSE Backtrace: ▆ 1. ├─base::do.call(fct, params) 2. └─biodb (local) `<fn>`(conn = `<UnprtCnn>`, opt = `<named list>`) 3. └─testthat::expect_false(...) ── Failure ('test_100_generic.R:16:1'): The peak table is correct. ───────────── any(vapply(entries, is.null, FUN.VALUE = TRUE)) is not FALSE `actual`: TRUE `expected`: FALSE One of the entries is NULL. Backtrace: ▆ 1. ├─base::do.call(fct, params) 2. └─biodb (local) `<fn>`(conn = `<UnprtCnn>`, opt = `<named list>`) 3. └─testthat::expect_false(...) [ FAIL 14 | WARN 0 | SKIP 0 | PASS 112 ] Error: Test failures Execution halted
biodbUniprot.Rcheck/biodbUniprot-Ex.timings
name | user | system | elapsed | |
UniprotConn | 4.20 | 2.39 | 153.03 | |
UniprotEntry | 0.49 | 0.02 | 0.53 | |