Back to Multiple platform build/check report for BioC 3.21:   simplified   long
ABCDEFGHIJKLMNOPQR[S]TUVWXYZ

This page was generated on 2025-07-07 11:39 -0400 (Mon, 07 Jul 2025).

HostnameOSArch (*)R versionInstalled pkgs
nebbiolo1Linux (Ubuntu 24.04.2 LTS)x86_644.5.1 (2025-06-13) -- "Great Square Root" 4818
palomino7Windows Server 2022 Datacenterx644.5.1 (2025-06-13 ucrt) -- "Great Square Root" 4561
merida1macOS 12.7.5 Montereyx86_644.5.1 RC (2025-06-05 r88288) -- "Great Square Root" 4600
kjohnson1macOS 13.6.6 Venturaarm644.5.1 Patched (2025-06-14 r88325) -- "Great Square Root" 4541
Click on any hostname to see more info about the system (e.g. compilers)      (*) as reported by 'uname -p', except on Windows and Mac OS X

Package 1980/2341HostnameOS / ArchINSTALLBUILDCHECKBUILD BIN
SharedObject 1.22.0  (landing page)
Jiefei Wang
Snapshot Date: 2025-07-03 13:40 -0400 (Thu, 03 Jul 2025)
git_url: https://git.bioconductor.org/packages/SharedObject
git_branch: RELEASE_3_21
git_last_commit: 4beeb17
git_last_commit_date: 2025-04-15 11:49:51 -0400 (Tue, 15 Apr 2025)
nebbiolo1Linux (Ubuntu 24.04.2 LTS) / x86_64  OK    OK    WARNINGS  UNNEEDED, same version is already published
palomino7Windows Server 2022 Datacenter / x64  OK    OK    WARNINGS    OK  UNNEEDED, same version is already published
merida1macOS 12.7.5 Monterey / x86_64  OK    OK    WARNINGS    OK  UNNEEDED, same version is already published
kjohnson1macOS 13.6.6 Ventura / arm64  OK    OK    WARNINGS    OK  UNNEEDED, same version is already published


BUILD results for SharedObject on nebbiolo1

To the developers/maintainers of the SharedObject package:
- Allow up to 24 hours (and sometimes 48 hours) for your latest push to git@git.bioconductor.org:packages/SharedObject.git to reflect on this report. See Troubleshooting Build Report for more information.
- Use the following Renviron settings to reproduce errors and warnings.
- If 'R CMD check' started to fail recently on the Linux builder(s) over a missing dependency, add the missing dependency to 'Suggests:' in your DESCRIPTION file. See Renviron.bioc for more information.

raw results


Summary

Package: SharedObject
Version: 1.22.0
Command: /home/biocbuild/bbs-3.21-bioc/R/bin/R CMD build --keep-empty-dirs --no-resave-data SharedObject
StartedAt: 2025-07-06 19:11:04 -0400 (Sun, 06 Jul 2025)
EndedAt: 2025-07-06 19:11:43 -0400 (Sun, 06 Jul 2025)
EllapsedTime: 39.0 seconds
RetCode: 0
Status:   OK  
PackageFile: SharedObject_1.22.0.tar.gz
PackageFileSize: 2.825 MiB

Command output

##############################################################################
##############################################################################
###
### Running command:
###
###   /home/biocbuild/bbs-3.21-bioc/R/bin/R CMD build --keep-empty-dirs --no-resave-data SharedObject
###
##############################################################################
##############################################################################


* checking for file ‘SharedObject/DESCRIPTION’ ... OK
* preparing ‘SharedObject’:
* checking DESCRIPTION meta-information ... OK
* cleaning src
* installing the package to build vignettes
* creating vignettes ... OK
* cleaning src
* checking for LF line-endings in source and make files and shell scripts
* checking for empty or unneeded directories
* building ‘SharedObject_1.22.0.tar.gz’