Back to Multiple platform build/check report for BioC 3.21: simplified long |
|
This page was generated on 2025-07-10 11:39 -0400 (Thu, 10 Jul 2025).
Hostname | OS | Arch (*) | R version | Installed pkgs |
---|---|---|---|---|
nebbiolo1 | Linux (Ubuntu 24.04.2 LTS) | x86_64 | 4.5.1 (2025-06-13) -- "Great Square Root" | 4818 |
palomino7 | Windows Server 2022 Datacenter | x64 | 4.5.1 (2025-06-13 ucrt) -- "Great Square Root" | 4561 |
merida1 | macOS 12.7.5 Monterey | x86_64 | 4.5.1 RC (2025-06-05 r88288) -- "Great Square Root" | 4600 |
kjohnson1 | macOS 13.6.6 Ventura | arm64 | 4.5.1 Patched (2025-06-14 r88325) -- "Great Square Root" | 4541 |
Click on any hostname to see more info about the system (e.g. compilers) (*) as reported by 'uname -p', except on Windows and Mac OS X |
Package 1412/2341 | Hostname | OS / Arch | INSTALL | BUILD | CHECK | BUILD BIN | ||||||||
MutationalPatterns 3.18.0 (landing page) Mark van Roosmalen
| nebbiolo1 | Linux (Ubuntu 24.04.2 LTS) / x86_64 | OK | OK | OK | ![]() | ||||||||
palomino7 | Windows Server 2022 Datacenter / x64 | OK | OK | OK | OK | ![]() | ||||||||
merida1 | macOS 12.7.5 Monterey / x86_64 | OK | ERROR | skipped | skipped | |||||||||
kjohnson1 | macOS 13.6.6 Ventura / arm64 | OK | ERROR | skipped | skipped | |||||||||
To the developers/maintainers of the MutationalPatterns package: - Allow up to 24 hours (and sometimes 48 hours) for your latest push to git@git.bioconductor.org:packages/MutationalPatterns.git to reflect on this report. See Troubleshooting Build Report for more information. - Use the following Renviron settings to reproduce errors and warnings. - If 'R CMD check' started to fail recently on the Linux builder(s) over a missing dependency, add the missing dependency to 'Suggests:' in your DESCRIPTION file. See Renviron.bioc for more information. |
Package: MutationalPatterns |
Version: 3.18.0 |
Command: /home/biocbuild/bbs-3.21-bioc/R/bin/R CMD check --install=check:MutationalPatterns.install-out.txt --library=/home/biocbuild/bbs-3.21-bioc/R/site-library --timings MutationalPatterns_3.18.0.tar.gz |
StartedAt: 2025-07-10 01:25:54 -0400 (Thu, 10 Jul 2025) |
EndedAt: 2025-07-10 01:43:45 -0400 (Thu, 10 Jul 2025) |
EllapsedTime: 1071.7 seconds |
RetCode: 0 |
Status: OK |
CheckDir: MutationalPatterns.Rcheck |
Warnings: 0 |
############################################################################## ############################################################################## ### ### Running command: ### ### /home/biocbuild/bbs-3.21-bioc/R/bin/R CMD check --install=check:MutationalPatterns.install-out.txt --library=/home/biocbuild/bbs-3.21-bioc/R/site-library --timings MutationalPatterns_3.18.0.tar.gz ### ############################################################################## ############################################################################## * using log directory ‘/home/biocbuild/bbs-3.21-bioc/meat/MutationalPatterns.Rcheck’ * using R version 4.5.1 (2025-06-13) * using platform: x86_64-pc-linux-gnu * R was compiled by gcc (Ubuntu 13.3.0-6ubuntu2~24.04) 13.3.0 GNU Fortran (Ubuntu 13.3.0-6ubuntu2~24.04) 13.3.0 * running under: Ubuntu 24.04.2 LTS * using session charset: UTF-8 * checking for file ‘MutationalPatterns/DESCRIPTION’ ... OK * checking extension type ... Package * this is package ‘MutationalPatterns’ version ‘3.18.0’ * package encoding: UTF-8 * checking package namespace information ... OK * checking package dependencies ... OK * checking if this is a source package ... OK * checking if there is a namespace ... OK * checking for hidden files and directories ... OK * checking for portable file names ... OK * checking for sufficient/correct file permissions ... OK * checking whether package ‘MutationalPatterns’ can be installed ... OK * checking installed package size ... OK * checking package directory ... OK * checking ‘build’ directory ... OK * checking DESCRIPTION meta-information ... NOTE License stub is invalid DCF. * checking top-level files ... OK * checking for left-over files ... OK * checking index information ... OK * checking package subdirectories ... OK * checking code files for non-ASCII characters ... OK * checking R files for syntax errors ... OK * checking whether the package can be loaded ... OK * checking whether the package can be loaded with stated dependencies ... OK * checking whether the package can be unloaded cleanly ... OK * checking whether the namespace can be loaded with stated dependencies ... OK * checking whether the namespace can be unloaded cleanly ... OK * checking loading without being on the library search path ... OK * checking dependencies in R code ... OK * checking S3 generic/method consistency ... OK * checking replacement functions ... OK * checking foreign function calls ... OK * checking R code for possible problems ... OK * checking Rd files ... OK * checking Rd metadata ... OK * checking Rd cross-references ... OK * checking for missing documentation entries ... OK * checking for code/documentation mismatches ... OK * checking Rd \usage sections ... OK * checking Rd contents ... OK * checking for unstated dependencies in examples ... OK * checking files in ‘vignettes’ ... OK * checking examples ... OK Examples with CPU (user + system) or elapsed time > 5s user system elapsed context_potential_damage_analysis 22.476 0.662 23.145 read_vcfs_as_granges 18.777 0.321 23.087 plot_lesion_segregation 13.691 0.109 13.801 get_mut_type 11.112 0.046 11.158 bin_mutation_density 10.438 0.594 11.038 calculate_lesion_segregation 10.065 0.429 10.495 genomic_distribution 10.269 0.209 10.483 plot_compare_indels 7.988 0.026 8.015 plot_indel_contexts 7.376 0.053 7.429 get_indel_context 6.340 0.907 7.249 plot_profile_heatmap 4.947 0.116 5.065 fit_to_signatures_bootstrapped 5.002 0.036 5.038 * checking for unstated dependencies in ‘tests’ ... OK * checking tests ... Running ‘testthat.R’ OK * checking for unstated dependencies in vignettes ... OK * checking package vignettes ... OK * checking re-building of vignette outputs ... OK * checking PDF version of manual ... OK * DONE Status: 1 NOTE See ‘/home/biocbuild/bbs-3.21-bioc/meat/MutationalPatterns.Rcheck/00check.log’ for details.
MutationalPatterns.Rcheck/00install.out
############################################################################## ############################################################################## ### ### Running command: ### ### /home/biocbuild/bbs-3.21-bioc/R/bin/R CMD INSTALL MutationalPatterns ### ############################################################################## ############################################################################## * installing to library ‘/home/biocbuild/bbs-3.21-bioc/R/site-library’ * installing *source* package ‘MutationalPatterns’ ... ** this is package ‘MutationalPatterns’ version ‘3.18.0’ ** using staged installation ** R ** inst ** byte-compile and prepare package for lazy loading ** help *** installing help indices ** building package indices ** installing vignettes ** testing if installed package can be loaded from temporary location ** testing if installed package can be loaded from final location ** testing if installed package keeps a record of temporary installation path * DONE (MutationalPatterns)
MutationalPatterns.Rcheck/tests/testthat.Rout
R version 4.5.1 (2025-06-13) -- "Great Square Root" Copyright (C) 2025 The R Foundation for Statistical Computing Platform: x86_64-pc-linux-gnu R is free software and comes with ABSOLUTELY NO WARRANTY. You are welcome to redistribute it under certain conditions. Type 'license()' or 'licence()' for distribution details. R is a collaborative project with many contributors. Type 'contributors()' for more information and 'citation()' on how to cite R or R packages in publications. Type 'demo()' for some demos, 'help()' for on-line help, or 'help.start()' for an HTML browser interface to help. Type 'q()' to quit R. > library(testthat) > library(MutationalPatterns) Loading required package: GenomicRanges Loading required package: stats4 Loading required package: BiocGenerics Loading required package: generics Attaching package: 'generics' The following objects are masked from 'package:base': as.difftime, as.factor, as.ordered, intersect, is.element, setdiff, setequal, union Attaching package: 'BiocGenerics' The following objects are masked from 'package:stats': IQR, mad, sd, var, xtabs The following objects are masked from 'package:base': Filter, Find, Map, Position, Reduce, anyDuplicated, aperm, append, as.data.frame, basename, cbind, colnames, dirname, do.call, duplicated, eval, evalq, get, grep, grepl, is.unsorted, lapply, mapply, match, mget, order, paste, pmax, pmax.int, pmin, pmin.int, rank, rbind, rownames, sapply, saveRDS, table, tapply, unique, unsplit, which.max, which.min Loading required package: S4Vectors Attaching package: 'S4Vectors' The following object is masked from 'package:utils': findMatches The following objects are masked from 'package:base': I, expand.grid, unname Loading required package: IRanges Loading required package: GenomeInfoDb Loading required package: NMF Loading required package: registry Loading required package: rngtools Loading required package: cluster NMF - BioConductor layer [OK] | Shared memory capabilities [NO: bigmemory] | Cores 2/2 To enable shared memory capabilities, try: install.extras(' NMF ') Attaching package: 'NMF' The following object is masked from 'package:S4Vectors': nrun The following object is masked from 'package:generics': fit The following object is masked from 'package:testthat': compare > > test_check("MutationalPatterns") [ FAIL 0 | WARN 5 | SKIP 0 | PASS 474 ] [ FAIL 0 | WARN 5 | SKIP 0 | PASS 474 ] > > proc.time() user system elapsed 189.889 7.886 207.473
MutationalPatterns.Rcheck/MutationalPatterns-Ex.timings
name | user | system | elapsed | |
bin_mutation_density | 10.438 | 0.594 | 11.038 | |
binomial_test | 0.009 | 0.004 | 0.012 | |
calculate_lesion_segregation | 10.065 | 0.429 | 10.495 | |
cluster_signatures | 0.046 | 0.002 | 0.050 | |
context_potential_damage_analysis | 22.476 | 0.662 | 23.145 | |
convert_sigs_to_ref | 0.034 | 0.002 | 0.039 | |
cos_sim | 0 | 0 | 0 | |
cos_sim_matrix | 0.019 | 0.002 | 0.022 | |
count_dbs_contexts | 0.083 | 0.002 | 0.085 | |
count_indel_contexts | 0.092 | 0.002 | 0.094 | |
count_mbs_contexts | 0.068 | 0.000 | 0.069 | |
determine_regional_similarity | 2.804 | 0.443 | 3.250 | |
enrichment_depletion_test | 0.129 | 0.001 | 0.131 | |
extract_signatures | 0.000 | 0.001 | 0.002 | |
fit_to_signatures | 0.085 | 0.009 | 0.095 | |
fit_to_signatures_bootstrapped | 5.002 | 0.036 | 5.038 | |
fit_to_signatures_strict | 2.857 | 0.004 | 2.861 | |
genomic_distribution | 10.269 | 0.209 | 10.483 | |
get_dbs_context | 0.257 | 0.004 | 0.262 | |
get_indel_context | 6.340 | 0.907 | 7.249 | |
get_known_signatures | 0.228 | 0.455 | 0.687 | |
get_mut_type | 11.112 | 0.046 | 11.158 | |
lengthen_mut_matrix | 0.010 | 0.009 | 0.020 | |
merge_signatures | 1.052 | 0.148 | 1.200 | |
mut_context | 1.111 | 0.216 | 1.327 | |
mut_matrix | 1.750 | 0.306 | 2.056 | |
mut_matrix_stranded | 3.833 | 0.453 | 4.286 | |
mut_strand | 0.883 | 0.019 | 0.902 | |
mut_type | 0.026 | 0.001 | 0.028 | |
mut_type_occurrences | 0.856 | 0.131 | 0.987 | |
mutations_from_vcf | 0.025 | 0.001 | 0.027 | |
plot_192_profile | 3.058 | 0.007 | 3.066 | |
plot_96_profile | 2.469 | 0.001 | 2.471 | |
plot_bootstrapped_contribution | 1.872 | 0.002 | 1.874 | |
plot_compare_dbs | 4.976 | 0.003 | 4.984 | |
plot_compare_indels | 7.988 | 0.026 | 8.015 | |
plot_compare_mbs | 0.849 | 0.000 | 0.850 | |
plot_compare_profiles | 2.137 | 0.016 | 2.153 | |
plot_contribution | 1.553 | 0.003 | 1.557 | |
plot_contribution_heatmap | 1.504 | 0.004 | 1.508 | |
plot_correlation_bootstrap | 1.683 | 0.095 | 1.778 | |
plot_cosine_heatmap | 1.687 | 0.078 | 1.765 | |
plot_dbs_contexts | 3.563 | 0.014 | 3.577 | |
plot_enrichment_depletion | 3.184 | 0.022 | 3.205 | |
plot_indel_contexts | 7.376 | 0.053 | 7.429 | |
plot_lesion_segregation | 13.691 | 0.109 | 13.801 | |
plot_main_dbs_contexts | 0.497 | 0.002 | 0.500 | |
plot_main_indel_contexts | 0.609 | 0.000 | 0.609 | |
plot_mbs_contexts | 0.474 | 0.019 | 0.494 | |
plot_original_vs_reconstructed | 0.483 | 0.005 | 0.488 | |
plot_profile_heatmap | 4.947 | 0.116 | 5.065 | |
plot_profile_region | 0.994 | 0.001 | 0.995 | |
plot_rainfall | 1.624 | 0.005 | 1.629 | |
plot_regional_similarity | 1.345 | 0.003 | 1.348 | |
plot_river | 4.693 | 0.007 | 4.701 | |
plot_signature_strand_bias | 0.669 | 0.002 | 0.671 | |
plot_spectrum | 4.107 | 0.178 | 4.285 | |
plot_spectrum_region | 4.371 | 0.141 | 4.512 | |
plot_strand | 0.175 | 0.002 | 0.177 | |
plot_strand_bias | 0.687 | 0.002 | 0.689 | |
pool_mut_mat | 0.033 | 0.003 | 0.036 | |
read_vcfs_as_granges | 18.777 | 0.321 | 23.087 | |
rename_nmf_signatures | 0.024 | 0.035 | 0.059 | |
signature_potential_damage_analysis | 0.083 | 0.000 | 0.083 | |
split_muts_region | 4.149 | 0.006 | 4.155 | |
strand_bias_test | 0.105 | 0.000 | 0.105 | |
strand_occurrences | 0.143 | 0.002 | 0.146 | |
type_context | 1.226 | 0.208 | 1.434 | |