Back to Multiple platform build/check report for BioC 3.21:   simplified   long
ABCDEFGHIJKL[M]NOPQRSTUVWXYZ

This page was generated on 2025-07-21 11:41 -0400 (Mon, 21 Jul 2025).

HostnameOSArch (*)R versionInstalled pkgs
nebbiolo1Linux (Ubuntu 24.04.2 LTS)x86_644.5.1 (2025-06-13) -- "Great Square Root" 4821
palomino7Windows Server 2022 Datacenterx644.5.1 (2025-06-13 ucrt) -- "Great Square Root" 4563
merida1macOS 12.7.5 Montereyx86_644.5.1 RC (2025-06-05 r88288) -- "Great Square Root" 4601
kjohnson1macOS 13.6.6 Venturaarm644.5.1 Patched (2025-06-14 r88325) -- "Great Square Root" 4542
Click on any hostname to see more info about the system (e.g. compilers)      (*) as reported by 'uname -p', except on Windows and Mac OS X

Package 1361/2341HostnameOS / ArchINSTALLBUILDCHECKBUILD BIN
MsBackendRawFileReader 1.14.0  (landing page)
Christian Panse
Snapshot Date: 2025-07-17 13:40 -0400 (Thu, 17 Jul 2025)
git_url: https://git.bioconductor.org/packages/MsBackendRawFileReader
git_branch: RELEASE_3_21
git_last_commit: a5e44a0
git_last_commit_date: 2025-04-15 12:40:32 -0400 (Tue, 15 Apr 2025)
nebbiolo1Linux (Ubuntu 24.04.2 LTS) / x86_64  OK    OK    OK  UNNEEDED, same version is already published
palomino7Windows Server 2022 Datacenter / x64  OK    OK    OK    OK  UNNEEDED, same version is already published
merida1macOS 12.7.5 Monterey / x86_64  OK    OK    OK    OK  UNNEEDED, same version is already published
kjohnson1macOS 13.6.6 Ventura / arm64  OK    ERROR  skippedskipped


CHECK results for MsBackendRawFileReader on palomino7

To the developers/maintainers of the MsBackendRawFileReader package:
- Allow up to 24 hours (and sometimes 48 hours) for your latest push to git@git.bioconductor.org:packages/MsBackendRawFileReader.git to reflect on this report. See Troubleshooting Build Report for more information.
- Use the following Renviron settings to reproduce errors and warnings.
- If 'R CMD check' started to fail recently on the Linux builder(s) over a missing dependency, add the missing dependency to 'Suggests:' in your DESCRIPTION file. See Renviron.bioc for more information.

raw results


Summary

Package: MsBackendRawFileReader
Version: 1.14.0
Command: E:\biocbuild\bbs-3.21-bioc\R\bin\R.exe CMD check --no-multiarch --install=check:MsBackendRawFileReader.install-out.txt --library=E:\biocbuild\bbs-3.21-bioc\R\library --no-vignettes --timings MsBackendRawFileReader_1.14.0.tar.gz
StartedAt: 2025-07-18 04:28:10 -0400 (Fri, 18 Jul 2025)
EndedAt: 2025-07-18 04:35:16 -0400 (Fri, 18 Jul 2025)
EllapsedTime: 425.5 seconds
RetCode: 0
Status:   OK  
CheckDir: MsBackendRawFileReader.Rcheck
Warnings: 0

Command output

##############################################################################
##############################################################################
###
### Running command:
###
###   E:\biocbuild\bbs-3.21-bioc\R\bin\R.exe CMD check --no-multiarch --install=check:MsBackendRawFileReader.install-out.txt --library=E:\biocbuild\bbs-3.21-bioc\R\library --no-vignettes --timings MsBackendRawFileReader_1.14.0.tar.gz
###
##############################################################################
##############################################################################


* using log directory 'E:/biocbuild/bbs-3.21-bioc/meat/MsBackendRawFileReader.Rcheck'
* using R version 4.5.1 (2025-06-13 ucrt)
* using platform: x86_64-w64-mingw32
* R was compiled by
    gcc.exe (GCC) 14.2.0
    GNU Fortran (GCC) 14.2.0
* running under: Windows Server 2022 x64 (build 20348)
* using session charset: UTF-8
* using option '--no-vignettes'
* checking for file 'MsBackendRawFileReader/DESCRIPTION' ... OK
* checking extension type ... Package
* this is package 'MsBackendRawFileReader' version '1.14.0'
* package encoding: UTF-8
* checking package namespace information ... OK
* checking package dependencies ... OK
* checking if this is a source package ... OK
* checking if there is a namespace ... OK
* checking for hidden files and directories ... OK
* checking for portable file names ... OK
* checking whether package 'MsBackendRawFileReader' can be installed ... OK
* checking installed package size ... OK
* checking package directory ... OK
* checking 'build' directory ... OK
* checking DESCRIPTION meta-information ... OK
* checking top-level files ... OK
* checking for left-over files ... OK
* checking index information ... OK
* checking package subdirectories ... OK
* checking code files for non-ASCII characters ... OK
* checking R files for syntax errors ... OK
* checking whether the package can be loaded ... OK
* checking whether the package can be loaded with stated dependencies ... OK
* checking whether the package can be unloaded cleanly ... OK
* checking whether the namespace can be loaded with stated dependencies ... OK
* checking whether the namespace can be unloaded cleanly ... OK
* checking whether startup messages can be suppressed ... OK
* checking dependencies in R code ... OK
* checking S3 generic/method consistency ... OK
* checking replacement functions ... OK
* checking foreign function calls ... OK
* checking R code for possible problems ... OK
* checking Rd files ... OK
* checking Rd metadata ... OK
* checking Rd cross-references ... OK
* checking for missing documentation entries ... OK
* checking for code/documentation mismatches ... OK
* checking Rd \usage sections ... OK
* checking Rd contents ... OK
* checking for unstated dependencies in examples ... OK
* checking files in 'vignettes' ... OK
* checking examples ... OK
Examples with CPU (user + system) or elapsed time > 5s
                             user system elapsed
ioBenchmark                  9.86   3.25  120.73
MsBackendRawFileReader       1.27   0.03   41.14
MsBackendRawFileReader-class 0.93   0.03   13.13
hidden_aliases               0.27   0.02   11.58
* checking for unstated dependencies in 'tests' ... OK
* checking tests ...
  Running 'testthat.R'
 OK
* checking for unstated dependencies in vignettes ... OK
* checking package vignettes ... OK
* checking running R code from vignettes ... SKIPPED
* checking re-building of vignette outputs ... SKIPPED
* checking PDF version of manual ... OK
* DONE

Status: OK


Installation output

MsBackendRawFileReader.Rcheck/00install.out

##############################################################################
##############################################################################
###
### Running command:
###
###   E:\biocbuild\bbs-3.21-bioc\R\bin\R.exe CMD INSTALL MsBackendRawFileReader
###
##############################################################################
##############################################################################


* installing to library 'E:/biocbuild/bbs-3.21-bioc/R/library'
* installing *source* package 'MsBackendRawFileReader' ...
** this is package 'MsBackendRawFileReader' version '1.14.0'
** using staged installation
** R
** inst
** byte-compile and prepare package for lazy loading
** help
*** installing help indices
** building package indices
** installing vignettes
** testing if installed package can be loaded from temporary location
** testing if installed package can be loaded from final location
** testing if installed package keeps a record of temporary installation path
* DONE (MsBackendRawFileReader)

Tests output

MsBackendRawFileReader.Rcheck/tests/testthat.Rout

R version 4.5.1 (2025-06-13 ucrt) -- "Great Square Root"
Copyright (C) 2025 The R Foundation for Statistical Computing
Platform: x86_64-w64-mingw32/x64

R is free software and comes with ABSOLUTELY NO WARRANTY.
You are welcome to redistribute it under certain conditions.
Type 'license()' or 'licence()' for distribution details.

R is a collaborative project with many contributors.
Type 'contributors()' for more information and
'citation()' on how to cite R or R packages in publications.

Type 'demo()' for some demos, 'help()' for on-line help, or
'help.start()' for an HTML browser interface to help.
Type 'q()' to quit R.

> library("testthat")
> library("MsBackendRawFileReader")
Loading required package: Spectra
Loading required package: S4Vectors
Loading required package: stats4
Loading required package: BiocGenerics
Loading required package: generics

Attaching package: 'generics'

The following objects are masked from 'package:base':

    as.difftime, as.factor, as.ordered, intersect, is.element, setdiff,
    setequal, union


Attaching package: 'BiocGenerics'

The following objects are masked from 'package:stats':

    IQR, mad, sd, var, xtabs

The following objects are masked from 'package:base':

    Filter, Find, Map, Position, Reduce, anyDuplicated, aperm, append,
    as.data.frame, basename, cbind, colnames, dirname, do.call,
    duplicated, eval, evalq, get, grep, grepl, is.unsorted, lapply,
    mapply, match, mget, order, paste, pmax, pmax.int, pmin, pmin.int,
    rank, rbind, rownames, sapply, saveRDS, table, tapply, unique,
    unsplit, which.max, which.min


Attaching package: 'S4Vectors'

The following object is masked from 'package:utils':

    findMatches

The following objects are masked from 'package:base':

    I, expand.grid, unname

Loading required package: BiocParallel
> library("Spectra")
> 
> 
> sample_raw_file <- file.path(system.file(package = "rawrr"),
+                                 'extdata', 'sample.raw')
> 
> sample_mzXML_file <- file.path(path.package(package = 'MsBackendRawFileReader'),
+                                 'extdata', 'sample.mzXML')
> 
> 
> sample_raw <-  backendInitialize(MsBackendRawFileReader::MsBackendRawFileReader(), files = sample_raw_file)
> 
> 
> #sample_mzr <-  backendInitialize(MsBackendMzR(), files = sample_mzXML_file)
> 
> 
> mgf_file <- file.path(system.file(package = "MsBackendRawFileReader"),
+                              'extdata', '3159619b11ed_4590_9594.mgf')
> 
> 
> rv <- lapply(1:2, function(x){
+   file.copy(from = sample_raw_file, to = tempfile(fileext='.raw'))})
> 
> 
> register(SnowParam(workers = 1, type = "SOCK") , default = TRUE); 
> sample_raw_2 <- backendInitialize(MsBackendRawFileReader(),
+     files = file.path(tempdir(),
+          list.files(path = tempdir(), pattern = 'raw$')))
> 
> 
> test_check("MsBackendRawFileReader")
[ FAIL 0 | WARN 1 | SKIP 2 | PASS 21 ]

══ Skipped tests (2) ═══════════════════════════════════════════════════════════
• isFALSE(file.exists(sample_mzXML_file)) is TRUE (1):
  'test_MsBackendMzR_MsBackendRawFileReader.R:1:1'
• isFALSE(require(MsBackendRawMgf)) is TRUE (1): 'test_top_n_mgf.R:1:1'

[ FAIL 0 | WARN 1 | SKIP 2 | PASS 21 ]
> 
> 
> be <- Spectra::backendInitialize(MsBackendRawFileReader::MsBackendRawFileReader(),
+                                  files = c(sample_raw_file))
> 
> ## Run the MsBackend spectra variable test suite
> 
> test_suite <- system.file("test_backends", "test_MsBackend",
+                           package = "Spectra")
> 
> #res <- test_file(paste0(test_suite, "/test_spectra_variables.R"),
> #                 reporter = check_reporter(), stop_on_failure = TRUE)
> 
> 
> ## Run the whole suite.
> res <- test_dir(test_suite, stop_on_failure = TRUE)
✔ | F W  S  OK | Context

⠏ |          0 | peaks_variables                                                
⠙ |          2 | peaks_variables                                                
⠸ |          4 | peaks_variables                                                
✔ |          4 | peaks_variables [5.8s]

⠏ |          0 | spectra_subsetting                                             
⠋ |          1 | spectra_subsetting                                             
⠏ |         10 | spectra_subsetting                                             
⠇ |         19 | spectra_subsetting                                             
⠴ |         26 | spectra_subsetting                                             
⠦ |         37 | spectra_subsetting                                             
⠴ |         46 | spectra_subsetting                                             
⠧ |         58 | spectra_subsetting                                             
⠦ |         67 | spectra_subsetting                                             
⠴ |         76 | spectra_subsetting                                             
⠴ |         86 | spectra_subsetting                                             
⠸ |         94 | spectra_subsetting                                             
⠸ |        104 | spectra_subsetting                                             
⠹ |        113 | spectra_subsetting                                             
⠙ |        122 | spectra_subsetting                                             
⠙ |        132 | spectra_subsetting                                             
⠙ |        142 | spectra_subsetting                                             
⠙ |        152 | spectra_subsetting                                             
⠏ |        160 | spectra_subsetting                                             
⠇ |        169 | spectra_subsetting                                             
⠧ |        178 | spectra_subsetting                                             
⠦ |        187 | spectra_subsetting                                             
⠴ |        196 | spectra_subsetting                                             
⠼ |        205 | spectra_subsetting                                             
⠸ |        214 | spectra_subsetting                                             
⠹ |        223 | spectra_subsetting                                             
⠙ |        232 | spectra_subsetting                                             
⠋ |        241 | spectra_subsetting                                             
⠏ |        250 | spectra_subsetting                                             
⠋ |        261 | spectra_subsetting                                             
⠇ |        269 | spectra_subsetting                                             
⠹ |        283 | spectra_subsetting                                             
⠼ |        295 | spectra_subsetting                                             
⠸ |        304 | spectra_subsetting                                             
⠸ |        314 | spectra_subsetting                                             
⠙ |        322 | spectra_subsetting                                             
⠋ |        331 | spectra_subsetting                                             
⠏ |        340 | spectra_subsetting                                             
⠙ |        352 | spectra_subsetting                                             
⠸ |        364 | spectra_subsetting                                             
⠸ |        374 | spectra_subsetting                                             
⠼ |        385 | spectra_subsetting                                             
⠸ |        394 | spectra_subsetting                                             
⠸ |        404 | spectra_subsetting                                             
⠼ |        415 | spectra_subsetting                                             
⠦ |        427 | spectra_subsetting                                             
⠇ |        439 | spectra_subsetting                                             
⠧ |        448 | spectra_subsetting                                             
⠏ |        460 | spectra_subsetting                                             
⠙ |        472 | spectra_subsetting                                             
⠸ |        484 | spectra_subsetting                                             
⠹ |        493 | spectra_subsetting                                             
⠙ |        502 | spectra_subsetting                                             
⠋ |        511 | spectra_subsetting                                             
⠏ |        520 | spectra_subsetting                                             
⠙ |        532 | spectra_subsetting                                             
⠙ |        542 | spectra_subsetting                                             
⠴ |        556 | spectra_subsetting                                             
⠏ |        570 | spectra_subsetting                                             
⠇ |        579 | spectra_subsetting                                             
⠇ |        589 | spectra_subsetting                                             
⠧ |        598 | spectra_subsetting                                             
⠦ |        607 | spectra_subsetting                                             
⠴ |        616 | spectra_subsetting                                             
⠼ |        625 | spectra_subsetting                                             
⠸ |        634 | spectra_subsetting                                             
⠸ |        644 | spectra_subsetting                                             
⠴ |        656 | spectra_subsetting                                             
⠧ |        668 | spectra_subsetting                                             
⠙ |        682 | spectra_subsetting                                             
⠋ |        691 | spectra_subsetting                                             
⠹ |        703 | spectra_subsetting                                             
⠙ |        712 | spectra_subsetting                                             
⠋ |        721 | spectra_subsetting                                             
⠏ |        730 | spectra_subsetting                                             
⠇ |        739 | spectra_subsetting                                             
⠏ |        750 | spectra_subsetting                                             
⠦ |        757 | spectra_subsetting                                             
⠇ |        769 | spectra_subsetting                                             
⠦ |        777 | spectra_subsetting                                             
⠼ |        785 | spectra_subsetting                                             
⠹ |        793 | spectra_subsetting                                             
⠼ |        805 | spectra_subsetting                                             
⠦ |        817 | spectra_subsetting                                             
⠇ |        829 | spectra_subsetting                                             
⠇ |        839 | spectra_subsetting                                             
⠇ |        849 | spectra_subsetting                                             
⠦ |        857 | spectra_subsetting                                             
⠼ |        865 | spectra_subsetting                                             
⠸ |        874 | spectra_subsetting                                             
⠸ |        884 | spectra_subsetting                                             
⠹ |        893 | spectra_subsetting                                             
⠙ |        902 | spectra_subsetting                                             
⠹ |        913 | spectra_subsetting                                             
⠴ |        926 | spectra_subsetting                                             
⠦ |        937 | spectra_subsetting                                             
⠇ |        949 | spectra_subsetting                                             
⠋ |        961 | spectra_subsetting                                             
⠹ |        973 | spectra_subsetting                                             
⠙ |        982 | spectra_subsetting                                             
⠸ |        994 | spectra_subsetting                                             
⠹ |        1003 | spectra_subsetting                                            
⠹ |        1013 | spectra_subsetting                                            
⠸ |        1024 | spectra_subsetting                                            
⠹ |        1033 | spectra_subsetting                                            
⠼ |        1045 | spectra_subsetting                                            
⠸ |        1054 | spectra_subsetting                                            
⠹ |        1063 | spectra_subsetting                                            
⠙ |        1072 | spectra_subsetting                                            
⠋ |        1081 | spectra_subsetting                                            
⠋ |        1091 | spectra_subsetting                                            
⠙ |        1102 | spectra_subsetting                                            
⠋ |        1111 | spectra_subsetting                                            
⠏ |        1120 | spectra_subsetting                                            
⠇ |        1129 | spectra_subsetting                                            
⠙ |        1142 | spectra_subsetting                                            
⠹ |        1153 | spectra_subsetting                                            
⠼ |        1165 | spectra_subsetting                                            
⠼ |        1175 | spectra_subsetting                                            
⠹ |        1183 | spectra_subsetting                                            
⠙ |        1192 | spectra_subsetting                                            
⠸ |        1204 | spectra_subsetting                                            
⠹ |        1213 | spectra_subsetting                                            
⠙ |        1222 | spectra_subsetting                                            
⠋ |        1231 | spectra_subsetting                                            
⠏ |        1240 | spectra_subsetting                                            
⠇ |        1249 | spectra_subsetting                                            
⠇ |        1259 | spectra_subsetting                                            
⠏ |        1270 | spectra_subsetting                                            
⠙ |        1282 | spectra_subsetting                                            
⠦ |        1297 | spectra_subsetting                                            
⠇ |        1309 | spectra_subsetting                                            
⠋ |        1321 | spectra_subsetting                                            
⠸ |        1334 | spectra_subsetting                                            
⠙ |        1342 | spectra_subsetting                                            
⠋ |        1351 | spectra_subsetting                                            
⠏ |        1360 | spectra_subsetting                                            
⠏ |        1370 | spectra_subsetting                                            
⠇ |        1379 | spectra_subsetting                                            
⠧ |        1388 | spectra_subsetting                                            
⠴ |        1396 | spectra_subsetting                                            
⠴ |        1406 | spectra_subsetting                                            
⠦ |        1417 | spectra_subsetting                                            
⠴ |        1426 | spectra_subsetting                                            
⠼ |        1435 | spectra_subsetting                                            
⠸ |        1444 | spectra_subsetting                                            
⠹ |        1453 | spectra_subsetting                                            
⠙ |        1462 | spectra_subsetting                                            
⠋ |        1471 | spectra_subsetting                                            
⠹ |        1483 | spectra_subsetting                                            
⠙ |        1492 | spectra_subsetting                                            
⠋ |        1501 | spectra_subsetting                                            
⠏ |        1510 | spectra_subsetting                                            
⠇ |        1519 | spectra_subsetting                                            
⠧ |        1528 | spectra_subsetting                                            
⠏ |        1540 | spectra_subsetting                                            
⠇ |        1549 | spectra_subsetting                                            
⠧ |        1558 | spectra_subsetting                                            
⠏ |        1570 | spectra_subsetting                                            
⠏ |        1580 | spectra_subsetting                                            
⠇ |        1589 | spectra_subsetting                                            
⠦ |        1597 | spectra_subsetting                                            
⠇ |        1609 | spectra_subsetting                                            
⠋ |        1621 | spectra_subsetting                                            
⠏ |        1630 | spectra_subsetting                                            
⠏ |        1640 | spectra_subsetting                                            
⠇ |        1649 | spectra_subsetting                                            
⠧ |        1658 | spectra_subsetting                                            
⠴ |        1666 | spectra_subsetting                                            
⠧ |        1678 | spectra_subsetting                                            
⠏ |        1690 | spectra_subsetting                                            
⠙ |        1702 | spectra_subsetting                                            
⠙ |        1712 | spectra_subsetting                                            
⠹ |        1723 | spectra_subsetting                                            
⠦ |        1727 | spectra_subsetting                                            
⠇ |        1729 | spectra_subsetting                                            
⠋ |        1731 | spectra_subsetting                                            
⠹ |        1733 | spectra_subsetting                                            
⠼ |        1735 | spectra_subsetting                                            
⠦ |        1737 | spectra_subsetting                                            
⠇ |        1739 | spectra_subsetting                                            
⠋ |        1741 | spectra_subsetting                                            
⠹ |        1743 | spectra_subsetting                                            
⠼ |        1745 | spectra_subsetting                                            
⠦ |        1747 | spectra_subsetting                                            
⠇ |        1749 | spectra_subsetting                                            
⠋ |        1751 | spectra_subsetting                                            
⠹ |        1753 | spectra_subsetting                                            
⠼ |        1755 | spectra_subsetting                                            
⠦ |        1757 | spectra_subsetting                                            
⠇ |        1759 | spectra_subsetting                                            
⠙ |        1762 | spectra_subsetting                                            
⠼ |        1765 | spectra_subsetting                                            
⠦ |        1767 | spectra_subsetting                                            
⠇ |        1769 | spectra_subsetting                                            
⠋ |        1771 | spectra_subsetting                                            
⠹ |        1773 | spectra_subsetting                                            
⠼ |        1775 | spectra_subsetting                                            
⠦ |        1777 | spectra_subsetting                                            
⠇ |        1779 | spectra_subsetting                                            
⠋ |        1781 | spectra_subsetting                                            
⠹ |        1783 | spectra_subsetting                                            
⠼ |        1785 | spectra_subsetting                                            
⠦ |        1787 | spectra_subsetting                                            
⠇ |        1789 | spectra_subsetting                                            
⠋ |        1791 | spectra_subsetting                                            
⠹ |        1793 | spectra_subsetting                                            
⠼ |        1795 | spectra_subsetting                                            
⠦ |        1797 | spectra_subsetting                                            
⠇ |        1799 | spectra_subsetting                                            
⠋ |        1801 | spectra_subsetting                                            
⠹ |        1803 | spectra_subsetting                                            
⠴ |        1806 | spectra_subsetting                                            
⠧ |        1808 | spectra_subsetting                                            
⠏ |        1810 | spectra_subsetting                                            
⠙ |        1812 | spectra_subsetting                                            
⠼ |        1815 | spectra_subsetting                                            
⠦ |        1817 | spectra_subsetting                                            
⠏ |        1820 | spectra_subsetting                                            
⠹ |        1823 | spectra_subsetting                                            
⠼ |        1825 | spectra_subsetting                                            
⠦ |        1827 | spectra_subsetting                                            
⠇ |        1829 | spectra_subsetting                                            
⠋ |        1831 | spectra_subsetting                                            
⠹ |        1833 | spectra_subsetting                                            
⠼ |        1835 | spectra_subsetting                                            
⠦ |        1837 | spectra_subsetting                                            
⠧ |        1838 | spectra_subsetting                                            
⠏ |        1840 | spectra_subsetting                                            
⠙ |        1842 | spectra_subsetting                                            
⠸ |        1844 | spectra_subsetting                                            
⠴ |        1846 | spectra_subsetting                                            
⠧ |        1848 | spectra_subsetting                                            
⠋ |        1851 | spectra_subsetting                                            
⠸ |        1854 | spectra_subsetting                                            
⠴ |        1856 | spectra_subsetting                                            
⠧ |        1858 | spectra_subsetting                                            
⠏ |        1860 | spectra_subsetting                                            
⠙ |        1862 | spectra_subsetting                                            
⠸ |        1864 | spectra_subsetting                                            
⠴ |        1866 | spectra_subsetting                                            
⠧ |        1868 | spectra_subsetting                                            
⠏ |        1870 | spectra_subsetting                                            
⠙ |        1872 | spectra_subsetting                                            
⠸ |        1874 | spectra_subsetting                                            
⠴ |        1876 | spectra_subsetting                                            
⠧ |        1878 | spectra_subsetting                                            
⠏ |        1880 | spectra_subsetting                                            
⠙ |        1882 | spectra_subsetting                                            
⠸ |        1884 | spectra_subsetting                                            
⠴ |        1886 | spectra_subsetting                                            
⠧ |        1888 | spectra_subsetting                                            
⠏ |        1890 | spectra_subsetting                                            
⠹ |        1893 | spectra_subsetting                                            
⠼ |        1895 | spectra_subsetting                                            
⠧ |        1898 | spectra_subsetting                                            
⠋ |        1901 | spectra_subsetting                                            
⠸ |        1904 | spectra_subsetting                                            
⠦ |        1907 | spectra_subsetting                                            
⠇ |        1909 | spectra_subsetting                                            
⠋ |        1911 | spectra_subsetting                                            
⠹ |        1913 | spectra_subsetting                                            
⠼ |        1915 | spectra_subsetting                                            
⠦ |        1917 | spectra_subsetting                                            
⠇ |        1919 | spectra_subsetting                                            
⠋ |        1921 | spectra_subsetting                                            
⠹ |        1923 | spectra_subsetting                                            
⠼ |        1925 | spectra_subsetting                                            
⠦ |        1927 | spectra_subsetting                                            
⠇ |        1929 | spectra_subsetting                                            
⠋ |        1931 | spectra_subsetting                                            
⠸ |        1934 | spectra_subsetting                                            
⠦ |        1937 | spectra_subsetting                                            
⠇ |        1939 | spectra_subsetting                                            
⠋ |        1941 | spectra_subsetting                                            
⠹ |        1943 | spectra_subsetting                                            
⠼ |        1945 | spectra_subsetting                                            
⠦ |        1947 | spectra_subsetting                                            
⠇ |        1949 | spectra_subsetting                                            
⠋ |        1951 | spectra_subsetting                                            
⠹ |        1953 | spectra_subsetting                                            
⠼ |        1955 | spectra_subsetting                                            
⠦ |        1957 | spectra_subsetting                                            
⠇ |        1959 | spectra_subsetting                                            
⠋ |        1961 | spectra_subsetting                                            
⠸ |        1964 | spectra_subsetting                                            
⠴ |        1966 | spectra_subsetting                                            
⠧ |        1968 | spectra_subsetting                                            
⠏ |        1970 | spectra_subsetting                                            
⠙ |        1972 | spectra_subsetting                                            
⠸ |        1974 | spectra_subsetting                                            
⠴ |        1976 | spectra_subsetting                                            
⠧ |        1978 | spectra_subsetting                                            
⠏ |        1980 | spectra_subsetting                                            
⠙ |        1982 | spectra_subsetting                                            
⠸ |        1984 | spectra_subsetting                                            
⠴ |        1986 | spectra_subsetting                                            
⠧ |        1988 | spectra_subsetting                                            
⠏ |        1990 | spectra_subsetting                                            
⠙ |        1992 | spectra_subsetting                                            
⠸ |        1994 | spectra_subsetting                                            
⠴ |        1996 | spectra_subsetting                                            
⠧ |        1998 | spectra_subsetting                                            
⠏ |        2000 | spectra_subsetting                                            
⠙ |        2002 | spectra_subsetting                                            
⠸ |        2004 | spectra_subsetting                                            
⠴ |        2006 | spectra_subsetting                                            
⠧ |        2008 | spectra_subsetting                                            
⠏ |        2010 | spectra_subsetting                                            
⠙ |        2012 | spectra_subsetting                                            
⠸ |        2014 | spectra_subsetting                                            
⠴ |        2016 | spectra_subsetting                                            
⠧ |        2018 | spectra_subsetting                                            
⠏ |        2020 | spectra_subsetting                                            
⠙ |        2022 | spectra_subsetting                                            
⠸ |        2024 | spectra_subsetting                                            
⠴ |        2026 | spectra_subsetting                                            
⠧ |        2028 | spectra_subsetting                                            
⠏ |        2030 | spectra_subsetting                                            
⠙ |        2032 | spectra_subsetting                                            
⠸ |        2034 | spectra_subsetting                                            
⠦ |        2037 | spectra_subsetting                                            
⠇ |        2039 | spectra_subsetting                                            
⠋ |        2041 | spectra_subsetting                                            
⠹ |        2043 | spectra_subsetting                                            
⠼ |        2045 | spectra_subsetting                                            
⠦ |        2047 | spectra_subsetting                                            
⠇ |        2049 | spectra_subsetting                                            
⠋ |        2051 | spectra_subsetting                                            
⠹ |        2053 | spectra_subsetting                                            
⠼ |        2055 | spectra_subsetting                                            
⠦ |        2057 | spectra_subsetting                                            
⠇ |        2059 | spectra_subsetting                                            
⠋ |        2061 | spectra_subsetting                                            
⠹ |        2063 | spectra_subsetting                                            
⠼ |        2065 | spectra_subsetting                                            
⠦ |        2067 | spectra_subsetting                                            
⠇ |        2069 | spectra_subsetting                                            
⠙ |        2072 | spectra_subsetting                                            
⠸ |        2074 | spectra_subsetting                                            
⠴ |        2076 | spectra_subsetting                                            
⠧ |        2078 | spectra_subsetting                                            
⠏ |        2080 | spectra_subsetting                                            
⠋ |        2081 | spectra_subsetting                                            
⠹ |        2083 | spectra_subsetting                                            
⠼ |        2085 | spectra_subsetting                                            
⠦ |        2087 | spectra_subsetting                                            
⠇ |        2089 | spectra_subsetting                                            
⠋ |        2091 | spectra_subsetting                                            
⠹ |        2093 | spectra_subsetting                                            
⠼ |        2095 | spectra_subsetting                                            
⠦ |        2097 | spectra_subsetting                                            
⠇ |        2099 | spectra_subsetting                                            
⠋ |        2101 | spectra_subsetting                                            
⠹ |        2103 | spectra_subsetting                                            
⠼ |        2105 | spectra_subsetting                                            
⠦ |        2107 | spectra_subsetting                                            
⠇ |        2109 | spectra_subsetting                                            
⠋ |        2111 | spectra_subsetting                                            
⠹ |        2113 | spectra_subsetting                                            
⠼ |        2115 | spectra_subsetting                                            
⠦ |        2117 | spectra_subsetting                                            
⠇ |        2119 | spectra_subsetting                                            
⠋ |        2121 | spectra_subsetting                                            
⠹ |        2123 | spectra_subsetting                                            
⠼ |        2125 | spectra_subsetting                                            
⠦ |        2127 | spectra_subsetting                                            
⠇ |        2129 | spectra_subsetting                                            
⠙ |        2132 | spectra_subsetting                                            
⠹ |        2133 | spectra_subsetting                                            
⠼ |        2135 | spectra_subsetting                                            
⠦ |        2137 | spectra_subsetting                                            
⠇ |        2139 | spectra_subsetting                                            
⠙ |        2142 | spectra_subsetting                                            
⠸ |        2144 | spectra_subsetting                                            
⠴ |        2146 | spectra_subsetting                                            
⠧ |        2148 | spectra_subsetting                                            
⠏ |        2150 | spectra_subsetting                                            
⠙ |        2152 | spectra_subsetting                                            
⠸ |        2154 | spectra_subsetting                                            
⠴ |        2156 | spectra_subsetting                                            
⠧ |        2158 | spectra_subsetting                                            
⠏ |        2160 | spectra_subsetting                                            
⠙ |        2162 | spectra_subsetting                                            
⠸ |        2164 | spectra_subsetting                                            
⠴ |        2166 | spectra_subsetting                                            
⠧ |        2168 | spectra_subsetting                                            
⠏ |        2170 | spectra_subsetting                                            
⠹ |        2173 | spectra_subsetting                                            
⠼ |        2175 | spectra_subsetting                                            
⠦ |        2177 | spectra_subsetting                                            
⠇ |        2179 | spectra_subsetting                                            
⠙ |        2182 | spectra_subsetting                                            
⠸ |        2184 | spectra_subsetting                                            
⠴ |        2186 | spectra_subsetting                                            
⠧ |        2188 | spectra_subsetting                                            
⠏ |        2190 | spectra_subsetting                                            
⠙ |        2192 | spectra_subsetting                                            
⠸ |        2194 | spectra_subsetting                                            
⠦ |        2197 | spectra_subsetting                                            
⠏ |        2200 | spectra_subsetting                                            
⠹ |        2203 | spectra_subsetting                                            
⠼ |        2205 | spectra_subsetting                                            
⠦ |        2207 | spectra_subsetting                                            
⠇ |        2209 | spectra_subsetting                                            
⠋ |        2211 | spectra_subsetting                                            
⠹ |        2213 | spectra_subsetting                                            
⠼ |        2215 | spectra_subsetting                                            
⠦ |        2217 | spectra_subsetting                                            
⠇ |        2219 | spectra_subsetting                                            
⠙ |        2222 | spectra_subsetting                                            
⠸ |        2224 | spectra_subsetting                                            
⠦ |        2227 | spectra_subsetting                                            
⠏ |        2230 | spectra_subsetting                                            
⠙ |        2232 | spectra_subsetting                                            
⠸ |        2234 | spectra_subsetting                                            
⠴ |        2236 | spectra_subsetting                                            
⠧ |        2238 | spectra_subsetting                                            
⠏ |        2240 | spectra_subsetting                                            
⠙ |        2242 | spectra_subsetting                                            
⠸ |        2244 | spectra_subsetting                                            
⠴ |        2246 | spectra_subsetting                                            
⠧ |        2248 | spectra_subsetting                                            
⠏ |        2250 | spectra_subsetting                                            
⠙ |        2252 | spectra_subsetting                                            
⠸ |        2254 | spectra_subsetting                                            
⠦ |        2257 | spectra_subsetting                                            
⠇ |        2259 | spectra_subsetting                                            
⠋ |        2261 | spectra_subsetting                                            
⠹ |        2263 | spectra_subsetting                                            
⠼ |        2265 | spectra_subsetting                                            
⠦ |        2267 | spectra_subsetting                                            
⠇ |        2269 | spectra_subsetting                                            
⠋ |        2271 | spectra_subsetting                                            
⠹ |        2273 | spectra_subsetting                                            
⠼ |        2275 | spectra_subsetting                                            
⠦ |        2277 | spectra_subsetting                                            
⠏ |        2280 | spectra_subsetting                                            
⠙ |        2282 | spectra_subsetting                                            
⠸ |        2284 | spectra_subsetting                                            
⠴ |        2286 | spectra_subsetting                                            
⠧ |        2288 | spectra_subsetting                                            
⠏ |        2290 | spectra_subsetting                                            
⠹ |        2293 | spectra_subsetting                                            
⠼ |        2295 | spectra_subsetting                                            
⠦ |        2297 | spectra_subsetting                                            
⠇ |        2299 | spectra_subsetting                                            
⠹ |        2303 | spectra_subsetting                                            
⠇ |        2309 | spectra_subsetting                                            
⠹ |        2313 | spectra_subsetting                                            
⠇ |        2319 | spectra_subsetting                                            
⠦ |        2327 | spectra_subsetting                                            
⠙ |        2332 | spectra_subsetting                                            
⠸ |        2334 | spectra_subsetting                                            
✔ |        2342 | spectra_subsetting [60.5s]

⠏ |          0 | spectra_variables                                              
⠼ |          5 | spectra_variables                                              
⠙ |         12 | spectra_variables                                              
⠸ |         14 | spectra_variables                                              
⠴ |         16 | spectra_variables                                              
⠦ |         27 | spectra_variables                                              
⠇ |         29 | spectra_variables                                              
⠋ |         31 | spectra_variables                                              
⠹ |         43 | spectra_variables                                              
⠸ |         54 | spectra_variables                                              
✔ |      1  62 | spectra_variables [22.4s]

══ Results ═════════════════════════════════════════════════════════════════════
Duration: 88.8 s

── Skipped tests (1) ───────────────────────────────────────────────────────────
• empty test (1): 'test_spectra_variables.R:262:1'

[ FAIL 0 | WARN 0 | SKIP 1 | PASS 2408 ]
> 
> proc.time()
   user  system elapsed 
  75.78    4.79  152.06 

Example timings

MsBackendRawFileReader.Rcheck/MsBackendRawFileReader-Ex.timings

nameusersystemelapsed
MsBackendRawFileReader-class 0.93 0.0313.13
MsBackendRawFileReader 1.27 0.0341.14
hidden_aliases 0.27 0.0211.58
ioBenchmark 9.86 3.25120.73