Back to Multiple platform build/check report for BioC 3.21:   simplified   long
ABCDEF[G]HIJKLMNOPQRSTUVWXYZ

This page was generated on 2025-05-01 11:40 -0400 (Thu, 01 May 2025).

HostnameOSArch (*)R versionInstalled pkgs
nebbiolo1Linux (Ubuntu 24.04.1 LTS)x86_644.5.0 RC (2025-04-04 r88126) -- "How About a Twenty-Six" 4832
palomino7Windows Server 2022 Datacenterx644.5.0 RC (2025-04-04 r88126 ucrt) -- "How About a Twenty-Six" 4574
merida1macOS 12.7.5 Montereyx86_644.5.0 RC (2025-04-04 r88126) -- "How About a Twenty-Six" 4599
kjohnson1macOS 13.6.6 Venturaarm644.5.0 RC (2025-04-04 r88129) -- "How About a Twenty-Six" 4553
Click on any hostname to see more info about the system (e.g. compilers)      (*) as reported by 'uname -p', except on Windows and Mac OS X

Package 805/2341HostnameOS / ArchINSTALLBUILDCHECKBUILD BIN
GeneBreak 1.38.0  (landing page)
Evert van den Broek
Snapshot Date: 2025-04-28 17:48 -0400 (Mon, 28 Apr 2025)
git_url: https://git.bioconductor.org/packages/GeneBreak
git_branch: RELEASE_3_21
git_last_commit: 092168b
git_last_commit_date: 2025-04-15 10:55:57 -0400 (Tue, 15 Apr 2025)
nebbiolo1Linux (Ubuntu 24.04.1 LTS) / x86_64  OK    OK    OK  UNNEEDED, same version is already published
palomino7Windows Server 2022 Datacenter / x64  OK    OK    OK    OK  UNNEEDED, same version is already published
merida1macOS 12.7.5 Monterey / x86_64  OK    OK    OK    OK  UNNEEDED, same version is already published
kjohnson1macOS 13.6.6 Ventura / arm64  OK    OK    OK    OK  UNNEEDED, same version is already published


CHECK results for GeneBreak on palomino7

To the developers/maintainers of the GeneBreak package:
- Allow up to 24 hours (and sometimes 48 hours) for your latest push to git@git.bioconductor.org:packages/GeneBreak.git to reflect on this report. See Troubleshooting Build Report for more information.
- Use the following Renviron settings to reproduce errors and warnings.
- If 'R CMD check' started to fail recently on the Linux builder(s) over a missing dependency, add the missing dependency to 'Suggests:' in your DESCRIPTION file. See Renviron.bioc for more information.

raw results


Summary

Package: GeneBreak
Version: 1.38.0
Command: E:\biocbuild\bbs-3.21-bioc\R\bin\R.exe CMD check --no-multiarch --install=check:GeneBreak.install-out.txt --library=E:\biocbuild\bbs-3.21-bioc\R\library --no-vignettes --timings GeneBreak_1.38.0.tar.gz
StartedAt: 2025-04-29 05:47:15 -0400 (Tue, 29 Apr 2025)
EndedAt: 2025-04-29 05:51:06 -0400 (Tue, 29 Apr 2025)
EllapsedTime: 231.1 seconds
RetCode: 0
Status:   OK  
CheckDir: GeneBreak.Rcheck
Warnings: 0

Command output

##############################################################################
##############################################################################
###
### Running command:
###
###   E:\biocbuild\bbs-3.21-bioc\R\bin\R.exe CMD check --no-multiarch --install=check:GeneBreak.install-out.txt --library=E:\biocbuild\bbs-3.21-bioc\R\library --no-vignettes --timings GeneBreak_1.38.0.tar.gz
###
##############################################################################
##############################################################################


* using log directory 'E:/biocbuild/bbs-3.21-bioc/meat/GeneBreak.Rcheck'
* using R version 4.5.0 RC (2025-04-04 r88126 ucrt)
* using platform: x86_64-w64-mingw32
* R was compiled by
    gcc.exe (GCC) 14.2.0
    GNU Fortran (GCC) 14.2.0
* running under: Windows Server 2022 x64 (build 20348)
* using session charset: UTF-8
* using option '--no-vignettes'
* checking for file 'GeneBreak/DESCRIPTION' ... OK
* checking extension type ... Package
* this is package 'GeneBreak' version '1.38.0'
* checking package namespace information ... OK
* checking package dependencies ... OK
* checking if this is a source package ... OK
* checking if there is a namespace ... OK
* checking for hidden files and directories ... OK
* checking for portable file names ... OK
* checking whether package 'GeneBreak' can be installed ... OK
* checking installed package size ... OK
* checking package directory ... OK
* checking 'build' directory ... OK
* checking DESCRIPTION meta-information ... OK
* checking top-level files ... OK
* checking for left-over files ... OK
* checking index information ... OK
* checking package subdirectories ... OK
* checking code files for non-ASCII characters ... OK
* checking R files for syntax errors ... OK
* checking whether the package can be loaded ... OK
* checking whether the package can be loaded with stated dependencies ... OK
* checking whether the package can be unloaded cleanly ... OK
* checking whether the namespace can be loaded with stated dependencies ... OK
* checking whether the namespace can be unloaded cleanly ... OK
* checking dependencies in R code ... OK
* checking S3 generic/method consistency ... OK
* checking replacement functions ... OK
* checking foreign function calls ... OK
* checking R code for possible problems ... NOTE
.glmbreak: no visible global function definition for 'glm'
.glmbreak: no visible global function definition for 'predict'
addGeneAnnotation,CopyNumberBreakPoints: no visible global function
  definition for 'head'
bpStats,CopyNumberBreakPoints: no visible global function definition
  for 'sd'
bpStats,CopyNumberBreakPoints: no visible global function definition
  for 'p.adjust'
Undefined global functions or variables:
  glm head p.adjust predict sd
Consider adding
  importFrom("stats", "glm", "p.adjust", "predict", "sd")
  importFrom("utils", "head")
to your NAMESPACE file.
* checking Rd files ... OK
* checking Rd metadata ... OK
* checking Rd cross-references ... OK
* checking for missing documentation entries ... OK
* checking for code/documentation mismatches ... OK
* checking Rd \usage sections ... OK
* checking Rd contents ... OK
* checking for unstated dependencies in examples ... OK
* checking contents of 'data' directory ... OK
* checking data for non-ASCII characters ... OK
* checking data for ASCII and uncompressed saves ... OK
* checking sizes of PDF files under 'inst/doc' ... OK
* checking files in 'vignettes' ... OK
* checking examples ... OK
Examples with CPU (user + system) or elapsed time > 5s
                                                user system elapsed
CopyNumberBreakPointGenes-class                 8.28   1.14    9.42
bpPlot-CopyNumberBreakPoints-method             6.12   1.18    7.33
bpStats-CopyNumberBreakPoints-method            5.75   1.37    7.12
recurrentGenes-CopyNumberBreakPointGenes-method 5.43   1.20    6.63
* checking for unstated dependencies in vignettes ... OK
* checking package vignettes ... OK
* checking running R code from vignettes ... SKIPPED
* checking re-building of vignette outputs ... SKIPPED
* checking PDF version of manual ... OK
* DONE

Status: 1 NOTE
See
  'E:/biocbuild/bbs-3.21-bioc/meat/GeneBreak.Rcheck/00check.log'
for details.


Installation output

GeneBreak.Rcheck/00install.out

##############################################################################
##############################################################################
###
### Running command:
###
###   E:\biocbuild\bbs-3.21-bioc\R\bin\R.exe CMD INSTALL GeneBreak
###
##############################################################################
##############################################################################


* installing to library 'E:/biocbuild/bbs-3.21-bioc/R/library'
* installing *source* package 'GeneBreak' ...
** this is package 'GeneBreak' version '1.38.0'
** using staged installation
** R
** data
** byte-compile and prepare package for lazy loading
Creating a new generic function for 'segmentData' in package 'GeneBreak'
** help
*** installing help indices
** building package indices
** installing vignettes
** testing if installed package can be loaded from temporary location
** testing if installed package can be loaded from final location
** testing if installed package keeps a record of temporary installation path
* DONE (GeneBreak)

Tests output


Example timings

GeneBreak.Rcheck/GeneBreak-Ex.timings

nameusersystemelapsed
CopyNumberBreakPointGenes-class8.281.149.42
CopyNumberBreakPoints-class2.050.242.35
accessOptions-CopyNumberBreakPoints-method1.180.091.28
addGeneAnnotation-CopyNumberBreakPoints-method1.860.342.20
bpFilter-CopyNumberBreakPoints-method1.850.222.07
bpGenes-CopyNumberBreakPointGenes-method2.110.532.64
bpPlot-CopyNumberBreakPoints-method6.121.187.33
bpStats-CopyNumberBreakPoints-method5.751.377.12
breakpointData-CopyNumberBreakPoints-method1.380.421.80
breakpointsPerGene-CopyNumberBreakPointGenes-method2.200.612.81
callData-CopyNumberBreakPoints-method1.190.391.57
featureChromosomes-CopyNumberBreakPoints-method0.950.131.08
featureInfo-CopyNumberBreakPoints-method2.140.372.51
featuresPerGene-CopyNumberBreakPointGenes-method1.890.412.30
geneChromosomes-CopyNumberBreakPointGenes-method1.710.261.97
geneInfo-CopyNumberBreakPointGenes-method1.950.332.28
getBreakpoints1.760.332.10
namesFeatures-CopyNumberBreakPoints-method0.610.190.80
recurrentGenes-CopyNumberBreakPointGenes-method5.431.206.63
sampleNames-CopyNumberBreakPoints-method0.870.251.12
segmentData-CopyNumberBreakPoints-method1.450.451.91