Back to Multiple platform build/check report for BioC 3.21:   simplified   long
ABCDE[F]GHIJKLMNOPQRSTUVWXYZ

This page was generated on 2025-05-01 11:41 -0400 (Thu, 01 May 2025).

HostnameOSArch (*)R versionInstalled pkgs
nebbiolo1Linux (Ubuntu 24.04.1 LTS)x86_644.5.0 RC (2025-04-04 r88126) -- "How About a Twenty-Six" 4832
palomino7Windows Server 2022 Datacenterx644.5.0 RC (2025-04-04 r88126 ucrt) -- "How About a Twenty-Six" 4574
merida1macOS 12.7.5 Montereyx86_644.5.0 RC (2025-04-04 r88126) -- "How About a Twenty-Six" 4599
kjohnson1macOS 13.6.6 Venturaarm644.5.0 RC (2025-04-04 r88129) -- "How About a Twenty-Six" 4553
Click on any hostname to see more info about the system (e.g. compilers)      (*) as reported by 'uname -p', except on Windows and Mac OS X

Package 767/2341HostnameOS / ArchINSTALLBUILDCHECKBUILD BIN
FRASER 2.4.0  (landing page)
Christian Mertes
Snapshot Date: 2025-04-28 17:48 -0400 (Mon, 28 Apr 2025)
git_url: https://git.bioconductor.org/packages/FRASER
git_branch: RELEASE_3_21
git_last_commit: 57bd79b
git_last_commit_date: 2025-04-15 11:57:50 -0400 (Tue, 15 Apr 2025)
nebbiolo1Linux (Ubuntu 24.04.1 LTS) / x86_64  OK    OK    OK  UNNEEDED, same version is already published
palomino7Windows Server 2022 Datacenter / x64  OK    OK    OK    OK  UNNEEDED, same version is already published
merida1macOS 12.7.5 Monterey / x86_64  OK    OK    OK    OK  UNNEEDED, same version is already published
kjohnson1macOS 13.6.6 Ventura / arm64  OK    OK    OK    OK  UNNEEDED, same version is already published


CHECK results for FRASER on merida1

To the developers/maintainers of the FRASER package:
- Allow up to 24 hours (and sometimes 48 hours) for your latest push to git@git.bioconductor.org:packages/FRASER.git to reflect on this report. See Troubleshooting Build Report for more information.
- Use the following Renviron settings to reproduce errors and warnings.
- If 'R CMD check' started to fail recently on the Linux builder(s) over a missing dependency, add the missing dependency to 'Suggests:' in your DESCRIPTION file. See Renviron.bioc for more information.

raw results


Summary

Package: FRASER
Version: 2.4.0
Command: /Library/Frameworks/R.framework/Resources/bin/R CMD check --install=check:FRASER.install-out.txt --library=/Library/Frameworks/R.framework/Resources/library --no-vignettes --timings FRASER_2.4.0.tar.gz
StartedAt: 2025-04-29 07:03:39 -0400 (Tue, 29 Apr 2025)
EndedAt: 2025-04-29 07:38:46 -0400 (Tue, 29 Apr 2025)
EllapsedTime: 2107.0 seconds
RetCode: 0
Status:   OK  
CheckDir: FRASER.Rcheck
Warnings: 0

Command output

##############################################################################
##############################################################################
###
### Running command:
###
###   /Library/Frameworks/R.framework/Resources/bin/R CMD check --install=check:FRASER.install-out.txt --library=/Library/Frameworks/R.framework/Resources/library --no-vignettes --timings FRASER_2.4.0.tar.gz
###
##############################################################################
##############################################################################


* using log directory ‘/Users/biocbuild/bbs-3.21-bioc/meat/FRASER.Rcheck’
* using R version 4.5.0 RC (2025-04-04 r88126)
* using platform: x86_64-apple-darwin20
* R was compiled by
    Apple clang version 14.0.0 (clang-1400.0.29.202)
    GNU Fortran (GCC) 14.2.0
* running under: macOS Monterey 12.7.6
* using session charset: UTF-8
* using option ‘--no-vignettes’
* checking for file ‘FRASER/DESCRIPTION’ ... OK
* checking extension type ... Package
* this is package ‘FRASER’ version ‘2.4.0’
* package encoding: UTF-8
* checking package namespace information ... OK
* checking package dependencies ... INFO
Imports includes 32 non-default packages.
Importing from so many packages makes the package vulnerable to any of
them becoming unavailable.  Move as many as possible to Suggests and
use conditionally.
* checking if this is a source package ... OK
* checking if there is a namespace ... OK
* checking for hidden files and directories ... OK
* checking for portable file names ... OK
* checking for sufficient/correct file permissions ... OK
* checking whether package ‘FRASER’ can be installed ... OK
* used C++ compiler: ‘Apple clang version 14.0.0 (clang-1400.0.29.202)’
* used SDK: ‘MacOSX11.3.sdk’
* checking installed package size ... OK
* checking package directory ... OK
* checking ‘build’ directory ... OK
* checking DESCRIPTION meta-information ... NOTE
License stub is invalid DCF.
* checking top-level files ... OK
* checking for left-over files ... OK
* checking index information ... OK
* checking package subdirectories ... OK
* checking code files for non-ASCII characters ... OK
* checking R files for syntax errors ... OK
* checking whether the package can be loaded ... OK
* checking whether the package can be loaded with stated dependencies ... OK
* checking whether the package can be unloaded cleanly ... OK
* checking whether the namespace can be loaded with stated dependencies ... OK
* checking whether the namespace can be unloaded cleanly ... OK
* checking whether startup messages can be suppressed ... OK
* checking dependencies in R code ... NOTE
Unexported objects imported by ':::' calls:
  'S4Vectors:::selectSome' 'ggbio:::.buildFacetsFromArgs'
  See the note in ?`:::` about the use of this operator.
* checking S3 generic/method consistency ... OK
* checking replacement functions ... OK
* checking foreign function calls ... OK
* checking R code for possible problems ... NOTE
annotateRangesWithTxDb: no visible binding for global variable
  ‘include’
calculatePadjValuesOnSubset : <anonymous>: no visible binding for
  global variable ‘gene_rowIdx’
plotVolcano.FRASER: no visible binding for global variable
  ‘aberrantLabel’
plotVolcano,FraserDataSet: no visible binding for global variable
  ‘aberrantLabel’
results,FraserDataSet: no visible binding for global variable ‘padjust’
results,FraserDataSet: no visible binding for global variable
  ‘pValueGene’
results,FraserDataSet: no visible binding for global variable
  ‘padjustGene’
Undefined global functions or variables:
  aberrantLabel gene_rowIdx include pValueGene padjust padjustGene
* checking Rd files ... OK
* checking Rd metadata ... OK
* checking Rd cross-references ... NOTE
Found the following Rd file(s) with Rd \link{} targets missing package
anchors:
  plotFunctions.Rd: aberrant
Please provide package anchors for all Rd \link{} targets not in the
package itself and the base packages.
* checking for missing documentation entries ... OK
* checking for code/documentation mismatches ... OK
* checking Rd \usage sections ... OK
* checking Rd contents ... OK
* checking for unstated dependencies in examples ... OK
* checking line endings in C/C++/Fortran sources/headers ... OK
* checking line endings in Makefiles ... OK
* checking compilation flags in Makevars ... OK
* checking for GNU extensions in Makefiles ... OK
* checking for portable use of $(BLAS_LIBS) and $(LAPACK_LIBS) ... OK
* checking use of PKG_*FLAGS in Makefiles ... OK
* checking compiled code ... NOTE
Note: information on .o files is not available
* checking sizes of PDF files under ‘inst/doc’ ... OK
* checking files in ‘vignettes’ ... OK
* checking examples ... OK
Examples with CPU (user + system) or elapsed time > 5s
                              user system elapsed
plotFunctions              276.298  3.340 287.808
potentialImpactAnnotations  98.990  1.249 103.877
FRASER                      84.229  0.996  86.686
injectOutliers              62.453  0.213  62.838
results                     51.279  0.409  53.309
optimHyperParams            47.367  0.171  47.921
mergeExternalData           45.572  0.308  46.200
annotateRanges              44.709  0.649  56.234
calculatePSIValues          40.024  0.262  41.383
fds-methods                 37.850  0.206  38.382
filtering                   37.151  0.181  37.416
subset                      36.519  0.215  38.079
createTestFraserDataSet     35.103  0.225  36.122
counts                      34.639  0.236  35.911
getter_setter_functions     34.630  0.202  34.993
makeSimulatedFraserDataSet   9.190  0.045   9.250
* checking for unstated dependencies in ‘tests’ ... OK
* checking tests ...
  Running ‘testthat.R’
 OK
* checking for unstated dependencies in vignettes ... OK
* checking package vignettes ... OK
* checking running R code from vignettes ... SKIPPED
* checking re-building of vignette outputs ... SKIPPED
* checking PDF version of manual ... OK
* DONE

Status: 5 NOTEs
See
  ‘/Users/biocbuild/bbs-3.21-bioc/meat/FRASER.Rcheck/00check.log’
for details.


Installation output

FRASER.Rcheck/00install.out

##############################################################################
##############################################################################
###
### Running command:
###
###   /Library/Frameworks/R.framework/Resources/bin/R CMD INSTALL FRASER
###
##############################################################################
##############################################################################


* installing to library ‘/Library/Frameworks/R.framework/Versions/4.5-x86_64/Resources/library’
* installing *source* package ‘FRASER’ ...
** this is package ‘FRASER’ version ‘2.4.0’
** using staged installation
** libs
using C++ compiler: ‘Apple clang version 14.0.0 (clang-1400.0.29.202)’
using SDK: ‘MacOSX11.3.sdk’
clang++ -arch x86_64 -std=gnu++17 -I"/Library/Frameworks/R.framework/Resources/include" -DNDEBUG  -I'/Library/Frameworks/R.framework/Versions/4.5-x86_64/Resources/library/RcppArmadillo/include' -I'/Library/Frameworks/R.framework/Versions/4.5-x86_64/Resources/library/Rcpp/include' -I/opt/R/x86_64/include    -DARMA_DONT_USE_OPENMP -fPIC  -falign-functions=64 -Wall -g -O2   -c RcppExports.cpp -o RcppExports.o
clang++ -arch x86_64 -std=gnu++17 -I"/Library/Frameworks/R.framework/Resources/include" -DNDEBUG  -I'/Library/Frameworks/R.framework/Versions/4.5-x86_64/Resources/library/RcppArmadillo/include' -I'/Library/Frameworks/R.framework/Versions/4.5-x86_64/Resources/library/Rcpp/include' -I/opt/R/x86_64/include    -DARMA_DONT_USE_OPENMP -fPIC  -falign-functions=64 -Wall -g -O2   -c loss_n_gradient_functions.cpp -o loss_n_gradient_functions.o
clang++ -arch x86_64 -std=gnu++17 -dynamiclib -Wl,-headerpad_max_install_names -undefined dynamic_lookup -L/Library/Frameworks/R.framework/Resources/lib -L/opt/R/x86_64/lib -o FRASER.so RcppExports.o loss_n_gradient_functions.o -L/Library/Frameworks/R.framework/Resources/lib -lRlapack -L/Library/Frameworks/R.framework/Resources/lib -lRblas -L/opt/gfortran/lib/gcc/x86_64-apple-darwin20.0/14.2.0 -L/opt/gfortran/lib -lemutls_w -lheapt_w -lgfortran -lquadmath -F/Library/Frameworks/R.framework/.. -framework R
installing to /Library/Frameworks/R.framework/Versions/4.5-x86_64/Resources/library/00LOCK-FRASER/00new/FRASER/libs
** R
** inst
** byte-compile and prepare package for lazy loading
** help
*** installing help indices
** building package indices
** installing vignettes
** testing if installed package can be loaded from temporary location
** checking absolute paths in shared objects and dynamic libraries
** testing if installed package can be loaded from final location
** testing if installed package keeps a record of temporary installation path
* DONE (FRASER)

Tests output

FRASER.Rcheck/tests/testthat.Rout


R version 4.5.0 RC (2025-04-04 r88126) -- "How About a Twenty-Six"
Copyright (C) 2025 The R Foundation for Statistical Computing
Platform: x86_64-apple-darwin20

R is free software and comes with ABSOLUTELY NO WARRANTY.
You are welcome to redistribute it under certain conditions.
Type 'license()' or 'licence()' for distribution details.

R is a collaborative project with many contributors.
Type 'contributors()' for more information and
'citation()' on how to cite R or R packages in publications.

Type 'demo()' for some demos, 'help()' for on-line help, or
'help.start()' for an HTML browser interface to help.
Type 'q()' to quit R.

> library(testthat)
> library(FRASER)
Loading required package: BiocParallel
Loading required package: data.table
Loading required package: Rsamtools
Loading required package: GenomeInfoDb
Loading required package: BiocGenerics
Loading required package: generics

Attaching package: 'generics'

The following objects are masked from 'package:base':

    as.difftime, as.factor, as.ordered, intersect, is.element, setdiff,
    setequal, union


Attaching package: 'BiocGenerics'

The following objects are masked from 'package:stats':

    IQR, mad, sd, var, xtabs

The following objects are masked from 'package:base':

    Filter, Find, Map, Position, Reduce, anyDuplicated, aperm, append,
    as.data.frame, basename, cbind, colnames, dirname, do.call,
    duplicated, eval, evalq, get, grep, grepl, is.unsorted, lapply,
    mapply, match, mget, order, paste, pmax, pmax.int, pmin, pmin.int,
    rank, rbind, rownames, sapply, saveRDS, table, tapply, unique,
    unsplit, which.max, which.min

Loading required package: S4Vectors
Loading required package: stats4

Attaching package: 'S4Vectors'

The following objects are masked from 'package:data.table':

    first, second

The following object is masked from 'package:utils':

    findMatches

The following objects are masked from 'package:base':

    I, expand.grid, unname

Loading required package: IRanges

Attaching package: 'IRanges'

The following object is masked from 'package:data.table':

    shift

Loading required package: GenomicRanges
Loading required package: Biostrings
Loading required package: XVector

Attaching package: 'Biostrings'

The following object is masked from 'package:base':

    strsplit

Loading required package: SummarizedExperiment
Loading required package: MatrixGenerics
Loading required package: matrixStats

Attaching package: 'MatrixGenerics'

The following objects are masked from 'package:matrixStats':

    colAlls, colAnyNAs, colAnys, colAvgsPerRowSet, colCollapse,
    colCounts, colCummaxs, colCummins, colCumprods, colCumsums,
    colDiffs, colIQRDiffs, colIQRs, colLogSumExps, colMadDiffs,
    colMads, colMaxs, colMeans2, colMedians, colMins, colOrderStats,
    colProds, colQuantiles, colRanges, colRanks, colSdDiffs, colSds,
    colSums2, colTabulates, colVarDiffs, colVars, colWeightedMads,
    colWeightedMeans, colWeightedMedians, colWeightedSds,
    colWeightedVars, rowAlls, rowAnyNAs, rowAnys, rowAvgsPerColSet,
    rowCollapse, rowCounts, rowCummaxs, rowCummins, rowCumprods,
    rowCumsums, rowDiffs, rowIQRDiffs, rowIQRs, rowLogSumExps,
    rowMadDiffs, rowMads, rowMaxs, rowMeans2, rowMedians, rowMins,
    rowOrderStats, rowProds, rowQuantiles, rowRanges, rowRanks,
    rowSdDiffs, rowSds, rowSums2, rowTabulates, rowVarDiffs, rowVars,
    rowWeightedMads, rowWeightedMeans, rowWeightedMedians,
    rowWeightedSds, rowWeightedVars

Loading required package: Biobase
Welcome to Bioconductor

    Vignettes contain introductory material; view with
    'browseVignettes()'. To cite Bioconductor, see
    'citation("Biobase")', and for packages 'citation("pkgname")'.


Attaching package: 'Biobase'

The following object is masked from 'package:MatrixGenerics':

    rowMedians

The following objects are masked from 'package:matrixStats':

    anyMissing, rowMedians


Attaching package: 'FRASER'

The following object is masked from 'package:Biobase':

    samples

The following object is masked from 'package:GenomeInfoDb':

    mapSeqlevels

> 
> # to speed up the testing on windows do it in serial mode
> if(.Platform$OS.type != "unix") {
+     register(SerialParam())
+ }
> 
> test_check("FRASER")
[ FAIL 0 | WARN 523 | SKIP 0 | PASS 97 ]

[ FAIL 0 | WARN 523 | SKIP 0 | PASS 97 ]
> 
> proc.time()
   user  system elapsed 
424.325  88.531 386.440 

Example timings

FRASER.Rcheck/FRASER-Ex.timings

nameusersystemelapsed
FRASER84.229 0.99686.686
FraserDataSet0.8170.0330.858
annotateRanges44.709 0.64956.234
calculatePSIValues40.024 0.26241.383
countRNA2.0160.0412.262
counts34.639 0.23635.911
createTestFraserDataSet35.103 0.22536.122
fds-methods37.850 0.20638.382
filtering37.151 0.18137.416
getter_setter_functions34.630 0.20234.993
injectOutliers62.453 0.21362.838
loadFraserDataSet0.8270.0080.836
makeSimulatedFraserDataSet9.1900.0459.250
mergeExternalData45.572 0.30846.200
optimHyperParams47.367 0.17147.921
plotFunctions276.298 3.340287.808
potentialImpactAnnotations 98.990 1.249103.877
psiTypes0.0000.0010.001
results51.279 0.40953.309
subset36.519 0.21538.079