Back to Multiple platform build/check report for BioC 3.21:   simplified   long
ABC[D]EFGHIJKLMNOPQRSTUVWXYZ

This page was generated on 2025-05-01 11:41 -0400 (Thu, 01 May 2025).

HostnameOSArch (*)R versionInstalled pkgs
nebbiolo1Linux (Ubuntu 24.04.1 LTS)x86_644.5.0 RC (2025-04-04 r88126) -- "How About a Twenty-Six" 4832
palomino7Windows Server 2022 Datacenterx644.5.0 RC (2025-04-04 r88126 ucrt) -- "How About a Twenty-Six" 4574
merida1macOS 12.7.5 Montereyx86_644.5.0 RC (2025-04-04 r88126) -- "How About a Twenty-Six" 4599
kjohnson1macOS 13.6.6 Venturaarm644.5.0 RC (2025-04-04 r88129) -- "How About a Twenty-Six" 4553
Click on any hostname to see more info about the system (e.g. compilers)      (*) as reported by 'uname -p', except on Windows and Mac OS X

Package 542/2341HostnameOS / ArchINSTALLBUILDCHECKBUILD BIN
DEGreport 1.44.0  (landing page)
Lorena Pantano
Snapshot Date: 2025-04-28 17:48 -0400 (Mon, 28 Apr 2025)
git_url: https://git.bioconductor.org/packages/DEGreport
git_branch: RELEASE_3_21
git_last_commit: 2e68385
git_last_commit_date: 2025-04-15 10:31:54 -0400 (Tue, 15 Apr 2025)
nebbiolo1Linux (Ubuntu 24.04.1 LTS) / x86_64  OK    OK    OK  UNNEEDED, same version is already published
palomino7Windows Server 2022 Datacenter / x64  OK    OK    OK    OK  UNNEEDED, same version is already published
merida1macOS 12.7.5 Monterey / x86_64  OK    OK    OK    OK  UNNEEDED, same version is already published
kjohnson1macOS 13.6.6 Ventura / arm64  OK    OK    OK    OK  UNNEEDED, same version is already published


CHECK results for DEGreport on merida1

To the developers/maintainers of the DEGreport package:
- Allow up to 24 hours (and sometimes 48 hours) for your latest push to git@git.bioconductor.org:packages/DEGreport.git to reflect on this report. See Troubleshooting Build Report for more information.
- Use the following Renviron settings to reproduce errors and warnings.
- If 'R CMD check' started to fail recently on the Linux builder(s) over a missing dependency, add the missing dependency to 'Suggests:' in your DESCRIPTION file. See Renviron.bioc for more information.

raw results


Summary

Package: DEGreport
Version: 1.44.0
Command: /Library/Frameworks/R.framework/Resources/bin/R CMD check --install=check:DEGreport.install-out.txt --library=/Library/Frameworks/R.framework/Resources/library --no-vignettes --timings DEGreport_1.44.0.tar.gz
StartedAt: 2025-04-29 05:47:34 -0400 (Tue, 29 Apr 2025)
EndedAt: 2025-04-29 05:59:08 -0400 (Tue, 29 Apr 2025)
EllapsedTime: 694.6 seconds
RetCode: 0
Status:   OK  
CheckDir: DEGreport.Rcheck
Warnings: 0

Command output

##############################################################################
##############################################################################
###
### Running command:
###
###   /Library/Frameworks/R.framework/Resources/bin/R CMD check --install=check:DEGreport.install-out.txt --library=/Library/Frameworks/R.framework/Resources/library --no-vignettes --timings DEGreport_1.44.0.tar.gz
###
##############################################################################
##############################################################################


* using log directory ‘/Users/biocbuild/bbs-3.21-bioc/meat/DEGreport.Rcheck’
* using R version 4.5.0 RC (2025-04-04 r88126)
* using platform: x86_64-apple-darwin20
* R was compiled by
    Apple clang version 14.0.0 (clang-1400.0.29.202)
    GNU Fortran (GCC) 14.2.0
* running under: macOS Monterey 12.7.6
* using session charset: UTF-8
* using option ‘--no-vignettes’
* checking for file ‘DEGreport/DESCRIPTION’ ... OK
* checking extension type ... Package
* this is package ‘DEGreport’ version ‘1.44.0’
* package encoding: UTF-8
* checking package namespace information ... OK
* checking package dependencies ... INFO
Imports includes 29 non-default packages.
Importing from so many packages makes the package vulnerable to any of
them becoming unavailable.  Move as many as possible to Suggests and
use conditionally.
* checking if this is a source package ... OK
* checking if there is a namespace ... OK
* checking for hidden files and directories ... NOTE
Found the following hidden files and directories:
  .travis.yml
These were most likely included in error. See section ‘Package
structure’ in the ‘Writing R Extensions’ manual.
* checking for portable file names ... OK
* checking for sufficient/correct file permissions ... OK
* checking whether package ‘DEGreport’ can be installed ... OK
* checking installed package size ... OK
* checking package directory ... OK
* checking ‘build’ directory ... OK
* checking DESCRIPTION meta-information ... NOTE
License stub is invalid DCF.
* checking top-level files ... OK
* checking for left-over files ... OK
* checking index information ... OK
* checking package subdirectories ... OK
* checking code files for non-ASCII characters ... OK
* checking R files for syntax errors ... OK
* checking whether the package can be loaded ... OK
* checking whether the package can be loaded with stated dependencies ... OK
* checking whether the package can be unloaded cleanly ... OK
* checking whether the namespace can be loaded with stated dependencies ... OK
* checking whether the namespace can be unloaded cleanly ... OK
* checking dependencies in R code ... NOTE
':::' call which should be '::': ‘dendextend:::cutree’
  See the note in ?`:::` about the use of this operator.
* checking S3 generic/method consistency ... OK
* checking replacement functions ... OK
* checking foreign function calls ... OK
* checking R code for possible problems ... NOTE
.benckmark_cutoff: no visible binding for global variable ‘cutoff’
.benckmark_cutoff: no visible binding for global variable ‘cluster’
.convertIDs: no visible global function definition for ‘keys’
.correct_fdr: no visible global function definition for ‘fdrtool’
.generate_scatter_plot: no visible binding for global variable
  ‘compare’
.generate_scatter_plot: no visible binding for global variable ‘covar’
.get_counts: no visible global function definition for ‘counts’
.model: no visible global function definition for ‘lm’
.plot_raw: no visible binding for global variable ‘.x’
.plot_shrunken: no visible binding for global variable ‘.x’
.process: no visible binding for global variable ‘genes’
.process: no visible binding for global variable ‘cluster’
.reduce : <anonymous> : <anonymous>: no visible global function
  definition for ‘boxplot’
.reduce_covariates : <anonymous>: no visible binding for global
  variable ‘fdr’
.reduce_covariates : <anonymous>: no visible binding for global
  variable ‘compare’
.reduce_covariates : <anonymous>: no visible binding for global
  variable ‘r’
.reduce_covariates : <anonymous>: no visible binding for global
  variable ‘p.value’
.run_cluster_profiler: no visible global function definition for
  ‘enrichGO’
.run_cluster_profiler: no visible global function definition for
  ‘simplify’
.select_concensus_genes: no visible global function definition for
  ‘desc’
.select_concensus_genes: no visible binding for global variable ‘score’
.select_concensus_genes: no visible binding for global variable ‘k’
.select_concensus_genes: no visible binding for global variable
  ‘itemConsensus’
.summarise_res: no visible global function definition for ‘matches’
.summarise_res: no visible binding for global variable ‘comparison’
.summarise_res: no visible binding for global variable ‘gene’
.summarise_res: no visible binding for global variable ‘value_fdr’
.summarise_res: no visible binding for global variable ‘value_fc’
.table_w_fc: no visible binding for global variable ‘comp’
.table_w_fc: no visible binding for global variable ‘log2FoldChange’
degCheckFactors: no visible binding for global variable ‘ratios’
degCorCov: no visible binding for global variable ‘compare’
degCovariates: no visible binding for global variable ‘x’
degCovariates: no visible binding for global variable ‘y’
degCovariates: no visible binding for global variable ‘xend’
degCovariates: no visible binding for global variable ‘yend’
degCovariates: no visible binding for global variable ‘pvalue’
degMA: no visible binding for global variable ‘base_mean’
degMA: no visible binding for global variable ‘log2fc’
degMV: no visible binding for global variable ‘min_median’
degMV: no visible binding for global variable ‘max_sd’
degPatterns: no visible global function definition for ‘rowMedians’
degPatterns: no visible binding for global variable ‘genes’
degPlotCluster: no visible binding for global variable ‘genes’
degPlotCluster: no visible binding for global variable ‘cluster’
degPlotWide : <anonymous>: no visible binding for global variable
  ‘count’
significants,TopTags: no visible binding for global variable ‘FDR’
significants,TopTags: no visible binding for global variable ‘logFC’
significants,list : <anonymous>: no visible global function definition
  for ‘matches’
Undefined global functions or variables:
  .x FDR base_mean boxplot cluster comp compare comparison count counts
  covar cutoff desc enrichGO fdr fdrtool gene genes itemConsensus k
  keys lm log2FoldChange log2fc logFC matches max_sd min_median p.value
  pvalue r ratios rowMedians score simplify value_fc value_fdr x xend y
  yend
Consider adding
  importFrom("graphics", "boxplot")
  importFrom("stats", "lm")
to your NAMESPACE file.
* checking Rd files ... OK
* checking Rd metadata ... OK
* checking Rd cross-references ... NOTE
Found the following Rd file(s) with Rd \link{} targets missing package
anchors:
  degMA.Rd: ggplot
  degPatterns.Rd: ConsensusClusterPlus
  degPlotCluster.Rd: ggplot2
  degSummary.Rd: DESeqDataSet, DESeqResults, results
  geom_cor.Rd: ggplot2, aes, aes_, ggplot, fortify, borders, layer
Please provide package anchors for all Rd \link{} targets not in the
package itself and the base packages.
* checking for missing documentation entries ... OK
* checking for code/documentation mismatches ... OK
* checking Rd \usage sections ... OK
* checking Rd contents ... OK
* checking for unstated dependencies in examples ... OK
* checking contents of ‘data’ directory ... OK
* checking data for non-ASCII characters ... OK
* checking data for ASCII and uncompressed saves ... OK
* checking files in ‘vignettes’ ... OK
* checking examples ... OK
Examples with CPU (user + system) or elapsed time > 5s
                 user system elapsed
degResults     15.340  0.149  17.827
degPlot        14.831  0.161  17.304
degComps       13.805  0.109  16.812
degColors      12.682  0.365  15.597
degQC          11.668  0.098  13.702
significants   11.411  0.092  12.988
degMV          11.297  0.195  13.258
degSummary     10.537  0.104  12.172
degMB          10.216  0.180  12.406
degVar         10.051  0.140  12.423
degVB           9.908  0.197  12.368
degMean         9.956  0.110  11.855
DEGSet          9.753  0.210  11.988
degPlotWide     9.723  0.102  11.240
degDefault      7.155  0.168   8.533
degMA           7.190  0.071   8.348
degVolcano      5.193  0.077   6.629
degPlotCluster  4.489  0.105   5.326
* checking for unstated dependencies in ‘tests’ ... OK
* checking tests ...
  Running ‘testthat.R’
 OK
* checking for unstated dependencies in vignettes ... OK
* checking package vignettes ... OK
* checking running R code from vignettes ... SKIPPED
* checking re-building of vignette outputs ... SKIPPED
* checking PDF version of manual ... OK
* DONE

Status: 5 NOTEs
See
  ‘/Users/biocbuild/bbs-3.21-bioc/meat/DEGreport.Rcheck/00check.log’
for details.


Installation output

DEGreport.Rcheck/00install.out

##############################################################################
##############################################################################
###
### Running command:
###
###   /Library/Frameworks/R.framework/Resources/bin/R CMD INSTALL DEGreport
###
##############################################################################
##############################################################################


* installing to library ‘/Library/Frameworks/R.framework/Versions/4.5-x86_64/Resources/library’
* installing *source* package ‘DEGreport’ ...
** this is package ‘DEGreport’ version ‘1.44.0’
** using staged installation
** R
** data
** inst
** byte-compile and prepare package for lazy loading
** help
*** installing help indices
** building package indices
** installing vignettes
** testing if installed package can be loaded from temporary location
** testing if installed package can be loaded from final location
** testing if installed package keeps a record of temporary installation path
* DONE (DEGreport)

Tests output

DEGreport.Rcheck/tests/testthat.Rout


R version 4.5.0 RC (2025-04-04 r88126) -- "How About a Twenty-Six"
Copyright (C) 2025 The R Foundation for Statistical Computing
Platform: x86_64-apple-darwin20

R is free software and comes with ABSOLUTELY NO WARRANTY.
You are welcome to redistribute it under certain conditions.
Type 'license()' or 'licence()' for distribution details.

R is a collaborative project with many contributors.
Type 'contributors()' for more information and
'citation()' on how to cite R or R packages in publications.

Type 'demo()' for some demos, 'help()' for on-line help, or
'help.start()' for an HTML browser interface to help.
Type 'q()' to quit R.

> library(testthat)
> library(edgeR)
Loading required package: limma
> library(DESeq2)
Loading required package: S4Vectors
Loading required package: stats4
Loading required package: BiocGenerics
Loading required package: generics

Attaching package: 'generics'

The following objects are masked from 'package:base':

    as.difftime, as.factor, as.ordered, intersect, is.element, setdiff,
    setequal, union


Attaching package: 'BiocGenerics'

The following object is masked from 'package:limma':

    plotMA

The following objects are masked from 'package:stats':

    IQR, mad, sd, var, xtabs

The following objects are masked from 'package:base':

    Filter, Find, Map, Position, Reduce, anyDuplicated, aperm, append,
    as.data.frame, basename, cbind, colnames, dirname, do.call,
    duplicated, eval, evalq, get, grep, grepl, is.unsorted, lapply,
    mapply, match, mget, order, paste, pmax, pmax.int, pmin, pmin.int,
    rank, rbind, rownames, sapply, saveRDS, table, tapply, unique,
    unsplit, which.max, which.min


Attaching package: 'S4Vectors'

The following object is masked from 'package:utils':

    findMatches

The following objects are masked from 'package:base':

    I, expand.grid, unname

Loading required package: IRanges
Loading required package: GenomicRanges
Loading required package: GenomeInfoDb
Loading required package: SummarizedExperiment
Loading required package: MatrixGenerics
Loading required package: matrixStats

Attaching package: 'MatrixGenerics'

The following objects are masked from 'package:matrixStats':

    colAlls, colAnyNAs, colAnys, colAvgsPerRowSet, colCollapse,
    colCounts, colCummaxs, colCummins, colCumprods, colCumsums,
    colDiffs, colIQRDiffs, colIQRs, colLogSumExps, colMadDiffs,
    colMads, colMaxs, colMeans2, colMedians, colMins, colOrderStats,
    colProds, colQuantiles, colRanges, colRanks, colSdDiffs, colSds,
    colSums2, colTabulates, colVarDiffs, colVars, colWeightedMads,
    colWeightedMeans, colWeightedMedians, colWeightedSds,
    colWeightedVars, rowAlls, rowAnyNAs, rowAnys, rowAvgsPerColSet,
    rowCollapse, rowCounts, rowCummaxs, rowCummins, rowCumprods,
    rowCumsums, rowDiffs, rowIQRDiffs, rowIQRs, rowLogSumExps,
    rowMadDiffs, rowMads, rowMaxs, rowMeans2, rowMedians, rowMins,
    rowOrderStats, rowProds, rowQuantiles, rowRanges, rowRanks,
    rowSdDiffs, rowSds, rowSums2, rowTabulates, rowVarDiffs, rowVars,
    rowWeightedMads, rowWeightedMeans, rowWeightedMedians,
    rowWeightedSds, rowWeightedVars

Loading required package: Biobase
Welcome to Bioconductor

    Vignettes contain introductory material; view with
    'browseVignettes()'. To cite Bioconductor, see
    'citation("Biobase")', and for packages 'citation("pkgname")'.


Attaching package: 'Biobase'

The following object is masked from 'package:MatrixGenerics':

    rowMedians

The following objects are masked from 'package:matrixStats':

    anyMissing, rowMedians

> library(DEGreport)
> 
> # test_check("DEGreport")
> 
> proc.time()
   user  system elapsed 
 19.064   1.121  23.232 

Example timings

DEGreport.Rcheck/DEGreport-Ex.timings

nameusersystemelapsed
DEGSet 9.753 0.21011.988
degCheckFactors2.4570.0782.842
degColors12.682 0.36515.597
degComps13.805 0.10916.812
degCorCov1.3540.0531.671
degCovariates4.1060.0684.914
degDefault7.1550.1688.533
degFilter0.5260.0390.648
degMA7.1900.0718.348
degMB10.216 0.18012.406
degMDS1.3020.0461.604
degMV11.297 0.19513.258
degMean 9.956 0.11011.855
degObj0.4990.0480.747
degPCA1.3870.0471.675
degPatterns3.6840.1064.501
degPlot14.831 0.16117.304
degPlotCluster4.4890.1055.326
degPlotWide 9.723 0.10211.240
degQC11.668 0.09813.702
degResults15.340 0.14917.827
degSignature1.3270.0411.577
degSummary10.537 0.10412.172
degVB 9.908 0.19712.368
degVar10.051 0.14012.423
degVolcano5.1930.0776.629
geom_cor0.8770.0421.035
significants11.411 0.09212.988