Back to Multiple platform build/check report for BioC 3.21:   simplified   long
AB[C]DEFGHIJKLMNOPQRSTUVWXYZ

This page was generated on 2025-05-01 11:40 -0400 (Thu, 01 May 2025).

HostnameOSArch (*)R versionInstalled pkgs
nebbiolo1Linux (Ubuntu 24.04.1 LTS)x86_644.5.0 RC (2025-04-04 r88126) -- "How About a Twenty-Six" 4832
palomino7Windows Server 2022 Datacenterx644.5.0 RC (2025-04-04 r88126 ucrt) -- "How About a Twenty-Six" 4574
merida1macOS 12.7.5 Montereyx86_644.5.0 RC (2025-04-04 r88126) -- "How About a Twenty-Six" 4599
kjohnson1macOS 13.6.6 Venturaarm644.5.0 RC (2025-04-04 r88129) -- "How About a Twenty-Six" 4553
Click on any hostname to see more info about the system (e.g. compilers)      (*) as reported by 'uname -p', except on Windows and Mac OS X

Package 336/2341HostnameOS / ArchINSTALLBUILDCHECKBUILD BIN
Chicago 1.36.0  (landing page)
Mikhail Spivakov
Snapshot Date: 2025-04-28 17:48 -0400 (Mon, 28 Apr 2025)
git_url: https://git.bioconductor.org/packages/Chicago
git_branch: RELEASE_3_21
git_last_commit: ad00daa
git_last_commit_date: 2025-04-15 10:56:37 -0400 (Tue, 15 Apr 2025)
nebbiolo1Linux (Ubuntu 24.04.1 LTS) / x86_64  OK    OK    OK  UNNEEDED, same version is already published
palomino7Windows Server 2022 Datacenter / x64  OK    OK    OK    OK  UNNEEDED, same version is already published
merida1macOS 12.7.5 Monterey / x86_64  OK    OK    OK    OK  UNNEEDED, same version is already published
kjohnson1macOS 13.6.6 Ventura / arm64  OK    OK    OK    OK  UNNEEDED, same version is already published


CHECK results for Chicago on palomino7

To the developers/maintainers of the Chicago package:
- Allow up to 24 hours (and sometimes 48 hours) for your latest push to git@git.bioconductor.org:packages/Chicago.git to reflect on this report. See Troubleshooting Build Report for more information.
- Use the following Renviron settings to reproduce errors and warnings.
- If 'R CMD check' started to fail recently on the Linux builder(s) over a missing dependency, add the missing dependency to 'Suggests:' in your DESCRIPTION file. See Renviron.bioc for more information.

raw results


Summary

Package: Chicago
Version: 1.36.0
Command: E:\biocbuild\bbs-3.21-bioc\R\bin\R.exe CMD check --no-multiarch --install=check:Chicago.install-out.txt --library=E:\biocbuild\bbs-3.21-bioc\R\library --no-vignettes --timings Chicago_1.36.0.tar.gz
StartedAt: 2025-04-29 03:57:30 -0400 (Tue, 29 Apr 2025)
EndedAt: 2025-04-29 03:59:42 -0400 (Tue, 29 Apr 2025)
EllapsedTime: 132.1 seconds
RetCode: 0
Status:   OK  
CheckDir: Chicago.Rcheck
Warnings: 0

Command output

##############################################################################
##############################################################################
###
### Running command:
###
###   E:\biocbuild\bbs-3.21-bioc\R\bin\R.exe CMD check --no-multiarch --install=check:Chicago.install-out.txt --library=E:\biocbuild\bbs-3.21-bioc\R\library --no-vignettes --timings Chicago_1.36.0.tar.gz
###
##############################################################################
##############################################################################


* using log directory 'E:/biocbuild/bbs-3.21-bioc/meat/Chicago.Rcheck'
* using R version 4.5.0 RC (2025-04-04 r88126 ucrt)
* using platform: x86_64-w64-mingw32
* R was compiled by
    gcc.exe (GCC) 14.2.0
    GNU Fortran (GCC) 14.2.0
* running under: Windows Server 2022 x64 (build 20348)
* using session charset: UTF-8
* using option '--no-vignettes'
* checking for file 'Chicago/DESCRIPTION' ... OK
* checking extension type ... Package
* this is package 'Chicago' version '1.36.0'
* checking package namespace information ... OK
* checking package dependencies ... OK
* checking if this is a source package ... OK
* checking if there is a namespace ... OK
* checking for hidden files and directories ... OK
* checking for portable file names ... OK
* checking whether package 'Chicago' can be installed ... OK
* checking installed package size ... OK
* checking package directory ... OK
* checking 'build' directory ... OK
* checking DESCRIPTION meta-information ... OK
* checking top-level files ... OK
* checking for left-over files ... OK
* checking index information ... OK
* checking package subdirectories ... OK
* checking code files for non-ASCII characters ... OK
* checking R files for syntax errors ... OK
* checking whether the package can be loaded ... OK
* checking whether the package can be loaded with stated dependencies ... OK
* checking whether the package can be unloaded cleanly ... OK
* checking whether the namespace can be loaded with stated dependencies ... OK
* checking whether the namespace can be unloaded cleanly ... OK
* checking whether startup messages can be suppressed ... OK
* checking dependencies in R code ... OK
* checking S3 generic/method consistency ... OK
* checking replacement functions ... OK
* checking foreign function calls ... OK
* checking R code for possible problems ... OK
* checking Rd files ... OK
* checking Rd metadata ... OK
* checking Rd cross-references ... NOTE
Found the following Rd file(s) with Rd \link{} targets missing package
anchors:
  overlapFragWithFeatures.Rd: data.table
  peakEnrichment4Features.Rd: data.table
Please provide package anchors for all Rd \link{} targets not in the
package itself and the base packages.
* checking for missing documentation entries ... OK
* checking for code/documentation mismatches ... OK
* checking Rd \usage sections ... OK
* checking Rd contents ... OK
* checking for unstated dependencies in examples ... OK
* checking contents of 'data' directory ... OK
* checking data for non-ASCII characters ... OK
* checking data for ASCII and uncompressed saves ... OK
* checking files in 'vignettes' ... OK
* checking examples ... OK
Examples with CPU (user + system) or elapsed time > 5s
                    user system elapsed
normaliseOtherEnds 16.42   3.34   19.23
exportResults      16.90   1.01   17.97
* checking for unstated dependencies in 'tests' ... OK
* checking tests ...
  Running 'testthat.R'
 OK
* checking for unstated dependencies in vignettes ... OK
* checking package vignettes ... OK
* checking running R code from vignettes ... SKIPPED
* checking re-building of vignette outputs ... SKIPPED
* checking PDF version of manual ... OK
* DONE

Status: 1 NOTE
See
  'E:/biocbuild/bbs-3.21-bioc/meat/Chicago.Rcheck/00check.log'
for details.


Installation output

Chicago.Rcheck/00install.out

##############################################################################
##############################################################################
###
### Running command:
###
###   E:\biocbuild\bbs-3.21-bioc\R\bin\R.exe CMD INSTALL Chicago
###
##############################################################################
##############################################################################


* installing to library 'E:/biocbuild/bbs-3.21-bioc/R/library'
* installing *source* package 'Chicago' ...
** this is package 'Chicago' version '1.36.0'
** using staged installation
** R
** data
** inst
** byte-compile and prepare package for lazy loading
** help
*** installing help indices
** building package indices
** installing vignettes
** testing if installed package can be loaded from temporary location
** testing if installed package can be loaded from final location
** testing if installed package keeps a record of temporary installation path
* DONE (Chicago)

Tests output

Chicago.Rcheck/tests/testthat.Rout


R version 4.5.0 RC (2025-04-04 r88126 ucrt) -- "How About a Twenty-Six"
Copyright (C) 2025 The R Foundation for Statistical Computing
Platform: x86_64-w64-mingw32/x64

R is free software and comes with ABSOLUTELY NO WARRANTY.
You are welcome to redistribute it under certain conditions.
Type 'license()' or 'licence()' for distribution details.

R is a collaborative project with many contributors.
Type 'contributors()' for more information and
'citation()' on how to cite R or R packages in publications.

Type 'demo()' for some demos, 'help()' for on-line help, or
'help.start()' for an HTML browser interface to help.
Type 'q()' to quit R.

> library(testthat)
> library(Chicago)
Loading required package: data.table

Welcome to CHiCAGO - version 1.36.0
If you are new to CHiCAGO, please consider reading the vignette through the command: vignette("Chicago").
NOTE: Default values of tlb.minProxOEPerBin and tlb.minProxB2BPerBin changed as of Version 1.1.5. No action is required unless you specified non-default values, or wish to re-run the pipeline on old chicagoData objects. See news(package="Chicago")
> 
> test_check("Chicago")
Read 4 items
Read 4 items
Read 4 items
[ FAIL 0 | WARN 0 | SKIP 0 | PASS 11 ]
> 
> proc.time()
   user  system elapsed 
   2.79    0.46    3.28 

Example timings

Chicago.Rcheck/Chicago-Ex.timings

nameusersystemelapsed
cdUnitTest0.050.030.08
chicagoData000
chicagoPipeline0.10.00.1
copyCD000
defaultSettings000
estimateBrownianComponent0.250.020.27
estimateDistFun0.030.010.05
estimateTechnicalNoise0.100.020.14
exportResults16.90 1.0117.97
getPvals0.060.020.06
getScores0.070.000.06
getSkOnly0.120.030.17
mergeSamples0.130.000.14
modifySettings0.060.020.08
normaliseBaits0.090.010.11
normaliseOtherEnds16.42 3.3419.23
overlapFragWithFeatures0.080.040.11
peakEnrichment4Features0.950.121.11
plotBaits0.250.000.27
plotDistFun0.080.000.10
readAndMerge0.110.020.12
readSample0.080.000.08
setExperiment0.010.010.03