Welcome to mirrors.dotsrc.org

All our mirrors of open source software are available via http, https, ftp and an onion service. More information about our mirrors including statistics and contact information is available on our mirror info pages.

For information about dotsrc.org and our other services please go to our website.

Index of /bioconductor/checkResults/3.21/bioc-LATEST/

File Name  ↓ File Size  ↓ Date  ↓ 
Parent directory/--
XVector/-2025-05-22 15:49:12
zellkonverter/-2025-05-22 15:49:12
zinbwave/-2025-05-22 15:49:12
zFPKM/-2025-05-22 15:49:12
zenith/-2025-05-22 15:49:12
zitools/-2025-05-22 15:49:12
ZygosityPredictor/-2025-05-22 15:49:12
zlibbioc/-2025-05-22 15:49:12
yamss/-2025-05-22 15:49:12
yarn/-2025-05-22 15:49:12
YAPSA/-2025-05-22 15:49:12
wppi/-2025-05-22 15:49:11
XAItest/-2025-05-22 15:49:11
wiggleplotr/-2025-05-22 15:49:11
wpm/-2025-05-22 15:49:11
webbioc/-2025-05-22 15:49:11
xCell2/-2025-05-22 15:49:11
xmapbridge/-2025-05-22 15:49:11
vtpnet/-2025-05-22 15:49:11
XeniumIO/-2025-05-22 15:49:11
XNAString/-2025-05-22 15:49:11
wateRmelon/-2025-05-22 15:49:11
xcore/-2025-05-22 15:49:11
Wrench/-2025-05-22 15:49:11
XDE/-2025-05-22 15:49:11
XINA/-2025-05-22 15:49:11
xenLite/-2025-05-22 15:49:11
weaver/-2025-05-22 15:49:11
widgetTools/-2025-05-22 15:49:11
Xeva/-2025-05-22 15:49:11
vulcan/-2025-05-22 15:49:11
waddR/-2025-05-22 15:49:11
weitrix/-2025-05-22 15:49:11
wavClusteR/-2025-05-22 15:49:11
xcms/-2025-05-22 15:49:11
ViSEAGO/-2025-05-22 15:49:10
VaSP/-2025-05-22 15:49:10
VegaMC/-2025-05-22 15:49:10
vbmp/-2025-05-22 15:49:10
VDJdive/-2025-05-22 15:49:10
VariantExperiment/-2025-05-22 15:49:10
VariantAnnotation/-2025-05-22 15:49:10
vissE/-2025-05-22 15:49:10
vmrseq/-2025-05-22 15:49:10
velociraptor/-2025-05-22 15:49:10
vsclust/-2025-05-22 15:49:10
VisiumIO/-2025-05-22 15:49:10
vsn/-2025-05-22 15:49:10
VariantTools/-2025-05-22 15:49:10
visiumStitched/-2025-05-22 15:49:10
veloviz/-2025-05-22 15:49:10
VERSO/-2025-05-22 15:49:10
VennDetail/-2025-05-22 15:49:10
VariantFiltering/-2025-05-22 15:49:10
VCFArray/-2025-05-22 15:49:10
viper/-2025-05-22 15:49:10
vidger/-2025-05-22 15:49:10
Voyager/-2025-05-22 15:49:10
VplotR/-2025-05-22 15:49:10
updateObject/-2025-05-22 15:49:09
VAExprs/-2025-05-22 15:49:09
tximport/-2025-05-22 15:49:09
uSORT/-2025-05-22 15:49:09
uncoverappLib/-2025-05-22 15:49:09
txdbmaker/-2025-05-22 15:49:09
Uniquorn/-2025-05-22 15:49:09
txcutr/-2025-05-22 15:49:09
variancePartition/-2025-05-22 15:49:09
UCSC.utils/-2025-05-22 15:49:09
Ularcirc/-2025-05-22 15:49:09
twilight/-2025-05-22 15:49:09
UPDhmm/-2025-05-22 15:49:09
UNDO/-2025-05-22 15:49:09
twoddpcr/-2025-05-22 15:49:09
VanillaICE/-2025-05-22 15:49:09
VarCon/-2025-05-22 15:49:09
TypeInfo/-2025-05-22 15:49:09
universalmotif/-2025-05-22 15:49:09
UniProt.ws/-2025-05-22 15:49:09
UMI4Cats/-2025-05-22 15:49:09
UCell/-2025-05-22 15:49:09
unifiedWMWqPCR/-2025-05-22 15:49:09
tximeta/-2025-05-22 15:49:09
TreeSummarizedExperiment/-2025-05-22 15:49:08
Trendy/-2025-05-22 15:49:08
tricycle/-2025-05-22 15:49:08
ttgsea/-2025-05-22 15:49:08
tRNAdbImport/-2025-05-22 15:49:08
tweeDEseq/-2025-05-22 15:49:08
tRNA/-2025-05-22 15:49:08
TREG/-2025-05-22 15:49:08
TrIdent/-2025-05-22 15:49:08
treekoR/-2025-05-22 15:49:08
treeclimbR/-2025-05-22 15:49:08
TurboNorm/-2025-05-22 15:49:08
trio/-2025-05-22 15:49:08
TreeAndLeaf/-2025-05-22 15:49:08
TTMap/-2025-05-22 15:49:08
TSCAN/-2025-05-22 15:49:08
TSAR/-2025-05-22 15:49:08
triplex/-2025-05-22 15:49:08
TVTB/-2025-05-22 15:49:08
treeio/-2025-05-22 15:49:08
tripr/-2025-05-22 15:49:08
TRONCO/-2025-05-22 15:49:08
TRESS/-2025-05-22 15:49:08
trigger/-2025-05-22 15:49:08
tRNAscanImport/-2025-05-22 15:49:08
transite/-2025-05-22 15:49:07
tracktables/-2025-05-22 15:49:07
transcriptR/-2025-05-22 15:49:07
TPP2D/-2025-05-22 15:49:07
trackViewer/-2025-05-22 15:49:07
transcriptogramer/-2025-05-22 15:49:07
tpSVG/-2025-05-22 15:49:07
TrajectoryGeometry/-2025-05-22 15:49:07
topGO/-2025-05-22 15:49:07
transomics2cytoscape/-2025-05-22 15:49:07
topdownr/-2025-05-22 15:49:07
topconfects/-2025-05-22 15:49:07
tradeSeq/-2025-05-22 15:49:07
tRanslatome/-2025-05-22 15:49:07
TrajectoryUtils/-2025-05-22 15:49:07
ToxicoGx/-2025-05-22 15:49:07
transmogR/-2025-05-22 15:49:07
traviz/-2025-05-22 15:49:07
traseR/-2025-05-22 15:49:07
tomoseqr/-2025-05-22 15:49:07
TransView/-2025-05-22 15:49:07
TPP/-2025-05-22 15:49:07
TOP/-2025-05-22 15:49:07
transformGamPoi/-2025-05-22 15:49:07
tidytof/-2025-05-22 15:49:06
timeOmics/-2025-05-22 15:49:06
tidyomics/-2025-05-22 15:49:06
timescape/-2025-05-22 15:49:06
tidySummarizedExperiment/-2025-05-22 15:49:06
tidySingleCellExperiment/-2025-05-22 15:49:06
tLOH/-2025-05-22 15:49:06
tigre/-2025-05-22 15:49:06
TMSig/-2025-05-22 15:49:06
timecourse/-2025-05-22 15:49:06
tilingArray/-2025-05-22 15:49:06
TitanCNA/-2025-05-22 15:49:06
TissueEnrich/-2025-05-22 15:49:06
tomoda/-2025-05-22 15:49:06
tidyFlowCore/-2025-05-22 15:49:06
tidysbml/-2025-05-22 15:49:06
TileDBArray/-2025-05-22 15:49:06
tidyCoverage/-2025-05-22 15:49:06
TIN/-2025-05-22 15:49:06
tkWidgets/-2025-05-22 15:49:06
TnT/-2025-05-22 15:49:06
TOAST/-2025-05-22 15:49:06
tidybulk/-2025-05-22 15:49:06
tidySpatialExperiment/-2025-05-22 15:49:06
TMixClust/-2025-05-22 15:49:06
tenXplore/-2025-05-22 15:49:05
TargetSearch/-2025-05-22 15:49:05
TCC/-2025-05-22 15:49:05
TDbasedUFEadv/-2025-05-22 15:49:05
TDbasedUFE/-2025-05-22 15:49:05
TEQC/-2025-05-22 15:49:05
TFARM/-2025-05-22 15:49:05
TaxSEA/-2025-05-22 15:49:05
TENxIO/-2025-05-22 15:49:05
terraTCGAdata/-2025-05-22 15:49:05
TFBSTools/-2025-05-22 15:49:05
TCGAbiolinks/-2025-05-22 15:49:05
TENET/-2025-05-22 15:49:05
TFEA.ChIP/-2025-05-22 15:49:05
TCGAutils/-2025-05-22 15:49:05
TFHAZ/-2025-05-22 15:49:05
TBSignatureProfiler/-2025-05-22 15:49:05
TargetScore/-2025-05-22 15:49:05
ternarynet/-2025-05-22 15:49:05
TCseq/-2025-05-22 15:49:05
TFutils/-2025-05-22 15:49:05
TEKRABber/-2025-05-22 15:49:05
TargetDecoy/-2025-05-22 15:49:05
terapadog/-2025-05-22 15:49:05
tanggle/-2025-05-22 15:49:04
TADCompare/-2025-05-22 15:49:04
SVMDO/-2025-05-22 15:49:04
switchde/-2025-05-22 15:49:04
synapsis/-2025-05-22 15:49:04
switchBox/-2025-05-22 15:49:04
SynExtend/-2025-05-22 15:49:04
tadar/-2025-05-22 15:49:04
synlet/-2025-05-22 15:49:04
SVP/-2025-05-22 15:49:04
SWATH2stats/-2025-05-22 15:49:04
svaNUMT/-2025-05-22 15:49:04
syntenet/-2025-05-22 15:49:04
systemPipeR/-2025-05-22 15:49:04
systemPipeTools/-2025-05-22 15:49:04
synergyfinder/-2025-05-22 15:49:04
swfdr/-2025-05-22 15:49:04
TAPseq/-2025-05-22 15:49:04
SwathXtend/-2025-05-22 15:49:04
systemPipeShiny/-2025-05-22 15:49:04
SynMut/-2025-05-22 15:49:04
target/-2025-05-22 15:49:04
synapter/-2025-05-22 15:49:04
svaRetro/-2025-05-22 15:49:04
surfaltr/-2025-05-22 15:49:03
Summix/-2025-05-22 15:49:03
StructuralVariantAnnotation/-2025-05-22 15:49:03
STRINGdb/-2025-05-22 15:49:03
survtype/-2025-05-22 15:49:03
STdeconvolve/-2025-05-22 15:49:03
sva/-2025-05-22 15:49:03
survClust/-2025-05-22 15:49:03
SurfR/-2025-05-22 15:49:03
SubCellBarCode/-2025-05-22 15:49:03
supraHex/-2025-05-22 15:49:03
SUITOR/-2025-05-22 15:49:03
Streamer/-2025-05-22 15:49:03
survcomp/-2025-05-22 15:49:03
structToolbox/-2025-05-22 15:49:03
strandCheckR/-2025-05-22 15:49:03
Statial/-2025-05-22 15:49:03
SummarizedExperiment/-2025-05-22 15:49:03
stepNorm/-2025-05-22 15:49:03
subSeq/-2025-05-22 15:49:03
struct/-2025-05-22 15:49:03
stJoincount/-2025-05-22 15:49:03
Structstrings/-2025-05-22 15:49:03
statTarget/-2025-05-22 15:49:03
supersigs/-2025-05-22 15:49:03
ssize/-2025-05-22 15:49:02
spqn/-2025-05-22 15:49:02
sscu/-2025-05-22 15:49:02
SPONGE/-2025-05-22 15:49:02
sSNAPPY/-2025-05-22 15:49:02
sSeq/-2025-05-22 15:49:02
StabMap/-2025-05-22 15:49:02
standR/-2025-05-22 15:49:02
sRACIPE/-2025-05-22 15:49:02
stageR/-2025-05-22 15:49:02
squallms/-2025-05-22 15:49:02
ssviz/-2025-05-22 15:49:02
SPsimSeq/-2025-05-22 15:49:02
staRank/-2025-05-22 15:49:02
SRAdb/-2025-05-22 15:49:02
STATegRa/-2025-05-22 15:49:02
SPOTlight/-2025-05-22 15:49:02
spoon/-2025-05-22 15:49:02
ssrch/-2025-05-22 15:49:02
srnadiff/-2025-05-22 15:49:02
SpotSweeper/-2025-05-22 15:49:02
SQLDataFrame/-2025-05-22 15:49:02
ssPATHS/-2025-05-22 15:49:02
SpotClean/-2025-05-22 15:49:02
SpectralTAD/-2025-05-22 15:49:01
spkTools/-2025-05-22 15:49:01
spikeLI/-2025-05-22 15:49:01
Spectra/-2025-05-22 15:49:01
spatzie/-2025-05-22 15:49:01
SPLINTER/-2025-05-22 15:49:01
spillR/-2025-05-22 15:49:01
SpliceWiz/-2025-05-22 15:49:01
SpeCond/-2025-05-22 15:49:01
SplicingFactory/-2025-05-22 15:49:01
spicyR/-2025-05-22 15:49:01
splots/-2025-05-22 15:49:01
spatialSimGP/-2025-05-22 15:49:01
specL/-2025-05-22 15:49:01
speckle/-2025-05-22 15:49:01
SplineDV/-2025-05-22 15:49:01
spiky/-2025-05-22 15:49:01
SPEM/-2025-05-22 15:49:01
SpatialOmicsOverlay/-2025-05-22 15:49:01
splineTimeR/-2025-05-22 15:49:01
SpectraQL/-2025-05-22 15:49:01
SplicingGraphs/-2025-05-22 15:49:01
splatter/-2025-05-22 15:49:01
SPIAT/-2025-05-22 15:49:01
SPIA/-2025-05-22 15:49:01
sparsenetgls/-2025-05-22 15:49:00
sparseMatrixStats/-2025-05-22 15:49:00
sosta/-2025-05-22 15:49:00
SparseArray/-2025-05-22 15:49:00
spacexr/-2025-05-22 15:49:00
SNPRelate/-2025-05-22 15:49:00
Spaniel/-2025-05-22 15:49:00
spaSim/-2025-05-22 15:49:00
SpaceMarkers/-2025-05-22 15:49:00
SpatialDecon/-2025-05-22 15:49:00
SpatialExperimentIO/-2025-05-22 15:49:00
SpatialFeatureExperiment/-2025-05-22 15:49:00
SpatialExperiment/-2025-05-22 15:49:00
snpStats/-2025-05-22 15:49:00
soGGi/-2025-05-22 15:49:00
SpatialCPie/-2025-05-22 15:49:00
SparseSignatures/-2025-05-22 15:49:00
SpaNorm/-2025-05-22 15:49:00
SOMNiBUS/-2025-05-22 15:49:00
sparrow/-2025-05-22 15:49:00
SomaticSignatures/-2025-05-22 15:49:00
spatialDE/-2025-05-22 15:49:00
spatialFDA/-2025-05-22 15:49:00
spatialHeatmap/-2025-05-22 15:49:00
SpacePAC/-2025-05-22 15:49:00
Site2Target/-2025-05-22 15:48:59
smoothclust/-2025-05-22 15:48:59
smartid/-2025-05-22 15:48:59
sizepower/-2025-05-22 15:48:59
smoppix/-2025-05-22 15:48:59
SingleMoleculeFootprinting/-2025-05-22 15:48:59
SMITE/-2025-05-22 15:48:59
singleCellTK/-2025-05-22 15:48:59
sketchR/-2025-05-22 15:48:59
SMAD/-2025-05-22 15:48:59
singscore/-2025-05-22 15:48:59
slalom/-2025-05-22 15:48:59
SiPSiC/-2025-05-22 15:48:59
SNPediaR/-2025-05-22 15:48:59
sitadela/-2025-05-22 15:48:59
SNPhood/-2025-05-22 15:48:59
slingshot/-2025-05-22 15:48:59
snm/-2025-05-22 15:48:59
snapcount/-2025-05-22 15:48:59
SingleR/-2025-05-22 15:48:59
sitePath/-2025-05-22 15:48:59
SNAGEE/-2025-05-22 15:48:59
skewr/-2025-05-22 15:48:59
SLqPCR/-2025-05-22 15:48:59
snifter/-2025-05-22 15:48:59
simplifyEnrichment/-2025-05-22 15:48:58
signeR/-2025-05-22 15:48:58
sigFeature/-2025-05-22 15:48:58
SigsPack/-2025-05-22 15:48:58
SIM/-2025-05-22 15:48:58
similaRpeak/-2025-05-22 15:48:58
siggenes/-2025-05-22 15:48:58
signatureSearch/-2025-05-22 15:48:58
SimFFPE/-2025-05-22 15:48:58
SingleCellExperiment/-2025-05-22 15:48:58
SIMD/-2025-05-22 15:48:58
simPIC/-2025-05-22 15:48:58
sincell/-2025-05-22 15:48:58
SingleCellAlleleExperiment/-2025-05-22 15:48:58
SingleCellSignalR/-2025-05-22 15:48:58
SimBu/-2025-05-22 15:48:58
SigFuge/-2025-05-22 15:48:58
signifinder/-2025-05-22 15:48:58
sights/-2025-05-22 15:48:58
SIMAT/-2025-05-22 15:48:58
sigsquared/-2025-05-22 15:48:58
SIMLR/-2025-05-22 15:48:58
simpleSeg/-2025-05-22 15:48:58
simona/-2025-05-22 15:48:58
SICtools/-2025-05-22 15:48:57
ShortRead/-2025-05-22 15:48:57
seqcombo/-2025-05-22 15:48:57
SIAMCAT/-2025-05-22 15:48:57
SharedObject/-2025-05-22 15:48:57
SeqSQC/-2025-05-22 15:48:57
SEraster/-2025-05-22 15:48:57
SeqVarTools/-2025-05-22 15:48:57
seqsetvis/-2025-05-22 15:48:57
shinyepico/-2025-05-22 15:48:57
SigCheck/-2025-05-22 15:48:57
seqTools/-2025-05-22 15:48:57
SeqGate/-2025-05-22 15:48:57
SGSeq/-2025-05-22 15:48:57
SeqGSEA/-2025-05-22 15:48:57
shinyDSP/-2025-05-22 15:48:57
shiny.gosling/-2025-05-22 15:48:57
SEtools/-2025-05-22 15:48:57
shinyMethyl/-2025-05-22 15:48:57
seqLogo/-2025-05-22 15:48:57
seqPattern/-2025-05-22 15:48:57
sevenC/-2025-05-22 15:48:57
SGCP/-2025-05-22 15:48:57
sevenbridges/-2025-05-22 15:48:57
sesame/-2025-05-22 15:48:57
scShapes/-2025-05-22 15:48:56
seqCAT/-2025-05-22 15:48:56
segmenter/-2025-05-22 15:48:56
scviR/-2025-05-22 15:48:56
SemDist/-2025-05-22 15:48:56
scry/-2025-05-22 15:48:56
scruff/-2025-05-22 15:48:56
semisup/-2025-05-22 15:48:56
SDAMS/-2025-05-22 15:48:56
seqArchR/-2025-05-22 15:48:56
selectKSigs/-2025-05-22 15:48:56
SELEX/-2025-05-22 15:48:56
SeqArray/-2025-05-22 15:48:56
seahtrue/-2025-05-22 15:48:56
sechm/-2025-05-22 15:48:56
seq.hotSPOT/-2025-05-22 15:48:56
scTreeViz/-2025-05-22 15:48:56
scRNAseqApp/-2025-05-22 15:48:56
seq2pathway/-2025-05-22 15:48:56
segmentSeq/-2025-05-22 15:48:56
scTHI/-2025-05-22 15:48:56
scTensor/-2025-05-22 15:48:56
seqArchRplus/-2025-05-22 15:48:56
scuttle/-2025-05-22 15:48:56
scTGIF/-2025-05-22 15:48:56
SCnorm/-2025-05-22 15:48:55
scQTLtools/-2025-05-22 15:48:55
scone/-2025-05-22 15:48:55
scrapper/-2025-05-22 15:48:55
scoreInvHap/-2025-05-22 15:48:55
scPCA/-2025-05-22 15:48:55
scp/-2025-05-22 15:48:55
scoup/-2025-05-22 15:48:55
scRepertoire/-2025-05-22 15:48:55
Sconify/-2025-05-22 15:48:55
scReClassify/-2025-05-22 15:48:55
SCOPE/-2025-05-22 15:48:55
scMitoMut/-2025-05-22 15:48:55
ScreenR/-2025-05-22 15:48:55
scMerge/-2025-05-22 15:48:55
scmap/-2025-05-22 15:48:55
scRecover/-2025-05-22 15:48:55
scran/-2025-05-22 15:48:55
scPipe/-2025-05-22 15:48:55
screenCounter/-2025-05-22 15:48:55
scMultiSim/-2025-05-22 15:48:55
scmeth/-2025-05-22 15:48:55
scMET/-2025-05-22 15:48:55
scCB2/-2025-05-22 15:48:54
scClassify/-2025-05-22 15:48:54
scHiCcompare/-2025-05-22 15:48:54
schex/-2025-05-22 15:48:54
scFeatures/-2025-05-22 15:48:54
SCFA/-2025-05-22 15:48:54
scDotPlot/-2025-05-22 15:48:54
scDDboost/-2025-05-22 15:48:54
SCBN/-2025-05-22 15:48:54
scDblFinder/-2025-05-22 15:48:54
scFeatureFilter/-2025-05-22 15:48:54
scGPS/-2025-05-22 15:48:54
scBFA/-2025-05-22 15:48:54
scds/-2025-05-22 15:48:54
scBubbletree/-2025-05-22 15:48:54
scDD/-2025-05-22 15:48:54
scDiagnostics/-2025-05-22 15:48:54
scHOT/-2025-05-22 15:48:54
scde/-2025-05-22 15:48:54
scater/-2025-05-22 15:48:54
scDataviz/-2025-05-22 15:48:54
scDesign3/-2025-05-22 15:48:54
scider/-2025-05-22 15:48:54
sccomp/-2025-05-22 15:48:54
scifer/-2025-05-22 15:48:54
scatterHatch/-2025-05-22 15:48:54
saseR/-2025-05-22 15:48:53
SC3/-2025-05-22 15:48:53
sarks/-2025-05-22 15:48:53
SANTA/-2025-05-22 15:48:53
scAnnotatR/-2025-05-22 15:48:53
ScaledMatrix/-2025-05-22 15:48:53
SARC/-2025-05-22 15:48:53
SamSPECTRAL/-2025-05-22 15:48:53
sangeranalyseR/-2025-05-22 15:48:53
safe/-2025-05-22 15:48:53
sangerseqR/-2025-05-22 15:48:53
SBGNview/-2025-05-22 15:48:53
SBMLR/-2025-05-22 15:48:53
sampleClassifier/-2025-05-22 15:48:53
SCArray.sat/-2025-05-22 15:48:53
scanMiR/-2025-05-22 15:48:53
scanMiRApp/-2025-05-22 15:48:53
satuRn/-2025-05-22 15:48:53
Scale4C/-2025-05-22 15:48:53
SAIGEgds/-2025-05-22 15:48:53
SCANVIS/-2025-05-22 15:48:53
S4Arrays/-2025-05-22 15:48:53
sagenhaft/-2025-05-22 15:48:53
S4Vectors/-2025-05-22 15:48:53
SCAN.UPC/-2025-05-22 15:48:53
SCArray/-2025-05-22 15:48:53
RTCGA/-2025-05-22 15:48:52
RVS/-2025-05-22 15:48:52
RUVSeq/-2025-05-22 15:48:52
rTRMui/-2025-05-22 15:48:52
Rtreemix/-2025-05-22 15:48:52
RSVSim/-2025-05-22 15:48:52
Rtpca/-2025-05-22 15:48:52
RUVnormalize/-2025-05-22 15:48:52
RTNsurvival/-2025-05-22 15:48:52
rScudo/-2025-05-22 15:48:52
Rvisdiff/-2025-05-22 15:48:52
RTCA/-2025-05-22 15:48:52
RTCGAToolbox/-2025-05-22 15:48:52
rWikiPathways/-2025-05-22 15:48:52
RUVcorr/-2025-05-22 15:48:52
rTRM/-2025-05-22 15:48:52
RTopper/-2025-05-22 15:48:52
RUCova/-2025-05-22 15:48:52
rsemmed/-2025-05-22 15:48:52
rSWeeP/-2025-05-22 15:48:52
rtracklayer/-2025-05-22 15:48:52
runibic/-2025-05-22 15:48:52
RSeqAn/-2025-05-22 15:48:52
RTN/-2025-05-22 15:48:52
RTNduals/-2025-05-22 15:48:52
Rsubread/-2025-05-22 15:48:52
ROC/-2025-05-22 15:48:51
ROSeq/-2025-05-22 15:48:51
rsbml/-2025-05-22 15:48:51
rpx/-2025-05-22 15:48:51
rRDP/-2025-05-22 15:48:51
rprimer/-2025-05-22 15:48:51
RolDE/-2025-05-22 15:48:51
roastgsa/-2025-05-22 15:48:51
RnaSeqSampleSize/-2025-05-22 15:48:51
rqubic/-2025-05-22 15:48:51
rqt/-2025-05-22 15:48:51
RProtoBufLib/-2025-05-22 15:48:51
ropls/-2025-05-22 15:48:51
Rsamtools/-2025-05-22 15:48:51
RRHO/-2025-05-22 15:48:51
ROCpAI/-2025-05-22 15:48:51
ROTS/-2025-05-22 15:48:51
ROntoTools/-2025-05-22 15:48:51
roar/-2025-05-22 15:48:51
Rnits/-2025-05-22 15:48:51
RnBeads/-2025-05-22 15:48:51
rols/-2025-05-22 15:48:51
rrvgo/-2025-05-22 15:48:51
Rqc/-2025-05-22 15:48:51
RPA/-2025-05-22 15:48:51
rmelting/-2025-05-22 15:48:50
RNAseqCovarImpute/-2025-05-22 15:48:50
RITAN/-2025-05-22 15:48:50
Rigraphlib/-2025-05-22 15:48:50
RNASeqPower/-2025-05-22 15:48:50
RJMCMCNucleosomes/-2025-05-22 15:48:50
RImmPort/-2025-05-22 15:48:50
RNAmodR.RiboMethSeq/-2025-05-22 15:48:50
RNAAgeCalc/-2025-05-22 15:48:50
rmspc/-2025-05-22 15:48:50
RNAmodR.ML/-2025-05-22 15:48:50
RIVER/-2025-05-22 15:48:50
RMassBank/-2025-05-22 15:48:50
RNAdecay/-2025-05-22 15:48:50
RLassoCox/-2025-05-22 15:48:50
RNAmodR.AlkAnilineSeq/-2025-05-22 15:48:50
rigvf/-2025-05-22 15:48:50
RNAmodR/-2025-05-22 15:48:50
rnaseqcomp/-2025-05-22 15:48:50
rnaEditr/-2025-05-22 15:48:50
Rmmquant/-2025-05-22 15:48:50
RLMM/-2025-05-22 15:48:50
RNAsense/-2025-05-22 15:48:50
Rmagpie/-2025-05-22 15:48:50
RGSEA/-2025-05-22 15:48:49
rGREAT/-2025-05-22 15:48:49
ribor/-2025-05-22 15:48:49
rhdf5filters/-2025-05-22 15:48:49
RiboProfiling/-2025-05-22 15:48:49
RiboCrypt/-2025-05-22 15:48:49
rhdf5client/-2025-05-22 15:48:49
Rhdf5lib/-2025-05-22 15:48:49
rgoslin/-2025-05-22 15:48:49
Rgraphviz/-2025-05-22 15:48:49
rGenomeTracks/-2025-05-22 15:48:49
Rhisat2/-2025-05-22 15:48:49
RGraph2js/-2025-05-22 15:48:49
RgnTX/-2025-05-22 15:48:49
rhdf5/-2025-05-22 15:48:49
RiboDiPA/-2025-05-22 15:48:49
rGADEM/-2025-05-22 15:48:49
rifi/-2025-05-22 15:48:49
rifiComparative/-2025-05-22 15:48:49
riboSeqR/-2025-05-22 15:48:49
rgsepd/-2025-05-22 15:48:49
ribosomeProfilingQC/-2025-05-22 15:48:49
Rhtslib/-2025-05-22 15:48:49
RGMQL/-2025-05-22 15:48:49
rhinotypeR/-2025-05-22 15:48:49
rfPred/-2025-05-22 15:48:49
RegionalST/-2025-05-22 15:48:48
RESOLVE/-2025-05-22 15:48:48
ResidualMatrix/-2025-05-22 15:48:48
rexposome/-2025-05-22 15:48:48
RepViz/-2025-05-22 15:48:48
ReducedExperiment/-2025-05-22 15:48:48
retrofit/-2025-05-22 15:48:48
RFLOMICS/-2025-05-22 15:48:48
ReportingTools/-2025-05-22 15:48:48
regioneR/-2025-05-22 15:48:48
regionalpcs/-2025-05-22 15:48:48
regioneReloaded/-2025-05-22 15:48:48
RedeR/-2025-05-22 15:48:48
recountmethylation/-2025-05-22 15:48:48
regsplice/-2025-05-22 15:48:48
ReUseData/-2025-05-22 15:48:48
regionReport/-2025-05-22 15:48:48
rfaRm/-2025-05-22 15:48:48
recoup/-2025-05-22 15:48:48
REDseq/-2025-05-22 15:48:48
Rfastp/-2025-05-22 15:48:48
RedisParam/-2025-05-22 15:48:48
RegEnrich/-2025-05-22 15:48:48
regutools/-2025-05-22 15:48:48
Repitools/-2025-05-22 15:48:48
REMP/-2025-05-22 15:48:48
RCy3/-2025-05-22 15:48:47
reconsi/-2025-05-22 15:48:47
Rcollectl/-2025-05-22 15:48:47
recount/-2025-05-22 15:48:47
RCX/-2025-05-22 15:48:47
RCASPAR/-2025-05-22 15:48:47
RCyjs/-2025-05-22 15:48:47
ReactomeGSA/-2025-05-22 15:48:47
Rdisop/-2025-05-22 15:48:47
rcellminer/-2025-05-22 15:48:47
ReadqPCR/-2025-05-22 15:48:47
Rcpi/-2025-05-22 15:48:47
REBET/-2025-05-22 15:48:47
RDRToolbox/-2025-05-22 15:48:47
RcwlPipelines/-2025-05-22 15:48:47
Rcwl/-2025-05-22 15:48:47
receptLoss/-2025-05-22 15:48:47
RCM/-2025-05-22 15:48:47
ReactomePA/-2025-05-22 15:48:47
ReactomeContentService4R/-2025-05-22 15:48:47
ReactomeGraph4R/-2025-05-22 15:48:47
RCSL/-2025-05-22 15:48:47
rCGH/-2025-05-22 15:48:47
recount3/-2025-05-22 15:48:47
RcisTarget/-2025-05-22 15:48:47
rebook/-2025-05-22 15:48:47
RBGL/-2025-05-22 15:48:46
rBiopaxParser/-2025-05-22 15:48:46
rBLAST/-2025-05-22 15:48:46
Rbowtie2/-2025-05-22 15:48:46
rbsurv/-2025-05-22 15:48:46
RBioinf/-2025-05-22 15:48:46
Rbwa/-2025-05-22 15:48:46
RBioFormats/-2025-05-22 15:48:46
Rbowtie/-2025-05-22 15:48:46
RCAS/-2025-05-22 15:48:46
RBM/-2025-05-22 15:48:46
r3Cseq/-2025-05-22 15:48:45
qusage/-2025-05-22 15:48:45
R453Plus1Toolbox/-2025-05-22 15:48:45
RankProd/-2025-05-22 15:48:45
rawrr/-2025-05-22 15:48:45
rawDiag/-2025-05-22 15:48:45
RAIDS/-2025-05-22 15:48:45
randPack/-2025-05-22 15:48:45
QUBIC/-2025-05-22 15:48:45
randRotation/-2025-05-22 15:48:45
Rarr/-2025-05-22 15:48:45
R4RNA/-2025-05-22 15:48:45
RaggedExperiment/-2025-05-22 15:48:45
qvalue/-2025-05-22 15:48:45
QuaternaryProd/-2025-05-22 15:48:45
RadioGx/-2025-05-22 15:48:45
QuasR/-2025-05-22 15:48:45
R3CPET/-2025-05-22 15:48:45
RbcBook1/-2025-05-22 15:48:45
QuartPAC/-2025-05-22 15:48:45
rain/-2025-05-22 15:48:45
ramwas/-2025-05-22 15:48:45
Rbec/-2025-05-22 15:48:45
ramr/-2025-05-22 15:48:45
RareVariantVis/-2025-05-22 15:48:45
RAREsim/-2025-05-22 15:48:45
raer/-2025-05-22 15:48:45
Pviz/-2025-05-22 15:48:44
pwalign/-2025-05-22 15:48:44
PWMEnrich/-2025-05-22 15:48:44
qpcrNorm/-2025-05-22 15:48:44
qsea/-2025-05-22 15:48:44
Qtlizer/-2025-05-22 15:48:44
QSutils/-2025-05-22 15:48:44
QTLExperiment/-2025-05-22 15:48:44
ptairMS/-2025-05-22 15:48:44
qsmooth/-2025-05-22 15:48:44
QRscore/-2025-05-22 15:48:44
qPLEXanalyzer/-2025-05-22 15:48:44
quantro/-2025-05-22 15:48:44
quantsmooth/-2025-05-22 15:48:44
qckitfastq/-2025-05-22 15:48:44
pvac/-2025-05-22 15:48:44
qmtools/-2025-05-22 15:48:44
quantiseqr/-2025-05-22 15:48:44
QDNAseq/-2025-05-22 15:48:44
PureCN/-2025-05-22 15:48:44
puma/-2025-05-22 15:48:44
qsvaR/-2025-05-22 15:48:44
qcmetrics/-2025-05-22 15:48:44
QFeatures/-2025-05-22 15:48:44
qpgraph/-2025-05-22 15:48:44
pvca/-2025-05-22 15:48:44
progeny/-2025-05-22 15:48:43
profileScoreDist/-2025-05-22 15:48:43
PROcess/-2025-05-22 15:48:43
pRolocGUI/-2025-05-22 15:48:43
protGear/-2025-05-22 15:48:43
proBAMr/-2025-05-22 15:48:43
PrInCE/-2025-05-22 15:48:43
PRONE/-2025-05-22 15:48:43
proteinProfiles/-2025-05-22 15:48:43
pRoloc/-2025-05-22 15:48:43
proActiv/-2025-05-22 15:48:43
preprocessCore/-2025-05-22 15:48:43
ProteoMM/-2025-05-22 15:48:43
profileplyr/-2025-05-22 15:48:43
PROMISE/-2025-05-22 15:48:43
primirTSS/-2025-05-22 15:48:43
ProtGenerics/-2025-05-22 15:48:43
PROPS/-2025-05-22 15:48:43
proDA/-2025-05-22 15:48:43
ProteoDisco/-2025-05-22 15:48:43
procoil/-2025-05-22 15:48:43
PROPER/-2025-05-22 15:48:43
Prostar/-2025-05-22 15:48:43
psichomics/-2025-05-22 15:48:43
projectR/-2025-05-22 15:48:43
PSMatch/-2025-05-22 15:48:43
plyranges/-2025-05-22 15:48:42
POWSC/-2025-05-22 15:48:42
POMA/-2025-05-22 15:48:42
pram/-2025-05-22 15:48:42
pmm/-2025-05-22 15:48:42
PLSDAbatch/-2025-05-22 15:48:42
plotgardener/-2025-05-22 15:48:42
plotGrouper/-2025-05-22 15:48:42
pmp/-2025-05-22 15:48:42
powerTCR/-2025-05-22 15:48:42
PLPE/-2025-05-22 15:48:42
pqsfinder/-2025-05-22 15:48:42
poem/-2025-05-22 15:48:42
PREDA/-2025-05-22 15:48:42
PolySTest/-2025-05-22 15:48:42
pogos/-2025-05-22 15:48:42
podkat/-2025-05-22 15:48:42
prebs/-2025-05-22 15:48:42
PPInfer/-2025-05-22 15:48:42
ppcseq/-2025-05-22 15:48:42
preciseTAD/-2025-05-22 15:48:42
Polytect/-2025-05-22 15:48:42
PoDCall/-2025-05-22 15:48:42
plyxp/-2025-05-22 15:48:42
plyinteractions/-2025-05-22 15:48:42
plasmut/-2025-05-22 15:48:41
plgem/-2025-05-22 15:48:41
planet/-2025-05-22 15:48:41
phosphonormalizer/-2025-05-22 15:48:41
planttfhunter/-2025-05-22 15:48:41
pipeComp/-2025-05-22 15:48:41
Pirat/-2025-05-22 15:48:41
PhenStat/-2025-05-22 15:48:41
plier/-2025-05-22 15:48:41
philr/-2025-05-22 15:48:41
PICS/-2025-05-22 15:48:41
Pigengene/-2025-05-22 15:48:41
pickgene/-2025-05-22 15:48:41
phenomis/-2025-05-22 15:48:41
phenopath/-2025-05-22 15:48:41
PIUMA/-2025-05-22 15:48:41
PhyloProfile/-2025-05-22 15:48:41
PICB/-2025-05-22 15:48:41
phenoTest/-2025-05-22 15:48:41
PhIPData/-2025-05-22 15:48:41
phyloseq/-2025-05-22 15:48:41
PhenoGeneRanker/-2025-05-22 15:48:41
pipeFrame/-2025-05-22 15:48:41
PIPETS/-2025-05-22 15:48:41
PhosR/-2025-05-22 15:48:41
PING/-2025-05-22 15:48:41
piano/-2025-05-22 15:48:41
peco/-2025-05-22 15:48:40
phantasusLite/-2025-05-22 15:48:40
pgca/-2025-05-22 15:48:40
pcaMethods/-2025-05-22 15:48:40
Pedixplorer/-2025-05-22 15:48:40
paxtoolsr/-2025-05-22 15:48:40
PDATK/-2025-05-22 15:48:40
pepStat/-2025-05-22 15:48:40
periodicDNA/-2025-05-22 15:48:40
PepsNMR/-2025-05-22 15:48:40
pfamAnalyzeR/-2025-05-22 15:48:40
PECA/-2025-05-22 15:48:40
phantasus/-2025-05-22 15:48:40
pcaExplorer/-2025-05-22 15:48:40
PCAN/-2025-05-22 15:48:40
pgxRpi/-2025-05-22 15:48:40
PepSetTest/-2025-05-22 15:48:40
pengls/-2025-05-22 15:48:40
pdInfoBuilder/-2025-05-22 15:48:40
PharmacoGx/-2025-05-22 15:48:40
pepXMLTab/-2025-05-22 15:48:40
peakPantheR/-2025-05-22 15:48:40
PeacoQC/-2025-05-22 15:48:40
PCAtools/-2025-05-22 15:48:40
PAIRADISE/-2025-05-22 15:48:39
pathwayPCA/-2025-05-22 15:48:39
partCNV/-2025-05-22 15:48:39
pathMED/-2025-05-22 15:48:39
PAST/-2025-05-22 15:48:39
parglms/-2025-05-22 15:48:39
PANR/-2025-05-22 15:48:39
PathNet/-2025-05-22 15:48:39
paircompviz/-2025-05-22 15:48:39
panelcn.mops/-2025-05-22 15:48:39
pathlinkR/-2025-05-22 15:48:39
pathview/-2025-05-22 15:48:39
pathifier/-2025-05-22 15:48:39
pairkat/-2025-05-22 15:48:39
pairedGSEA/-2025-05-22 15:48:39
pareg/-2025-05-22 15:48:39
PathoStat/-2025-05-22 15:48:39
PADOG/-2025-05-22 15:48:39
pathRender/-2025-05-22 15:48:39
pandaR/-2025-05-22 15:48:39
pageRank/-2025-05-22 15:48:39
panp/-2025-05-22 15:48:39
PanViz/-2025-05-22 15:48:39
Path2PPI/-2025-05-22 15:48:39
parody/-2025-05-22 15:48:39
PanomiR/-2025-05-22 15:48:39
OUTRIDER/-2025-05-22 15:48:38
OutSplice/-2025-05-22 15:48:38
ORFik/-2025-05-22 15:48:38
ontoProc/-2025-05-22 15:48:38
oppar/-2025-05-22 15:48:38
OPWeight/-2025-05-22 15:48:38
ORFhunteR/-2025-05-22 15:48:38
oppti/-2025-05-22 15:48:38
packFinder/-2025-05-22 15:48:38
OrderedList/-2025-05-22 15:48:38
padma/-2025-05-22 15:48:38
orthos/-2025-05-22 15:48:38
OTUbase/-2025-05-22 15:48:38
oposSOM/-2025-05-22 15:48:38
optimalFlow/-2025-05-22 15:48:38
openCyto/-2025-05-22 15:48:38
OpenStats/-2025-05-22 15:48:38
OrganismDbi/-2025-05-22 15:48:38
onlineFDR/-2025-05-22 15:48:38
OSTA.data/-2025-05-22 15:48:38
Oscope/-2025-05-22 15:48:38
openPrimeR/-2025-05-22 15:48:38
OSAT/-2025-05-22 15:48:38
Organism.dplyr/-2025-05-22 15:48:38
orthogene/-2025-05-22 15:48:38
OVESEG/-2025-05-22 15:48:38
PAA/-2025-05-22 15:48:38
ompBAM/-2025-05-22 15:48:37
OncoScore/-2025-05-22 15:48:37
oncomix/-2025-05-22 15:48:37
Omixer/-2025-05-22 15:48:37
omXplore/-2025-05-22 15:48:37
oligo/-2025-05-22 15:48:37
octad/-2025-05-22 15:48:37
omicplotR/-2025-05-22 15:48:37
OLINgui/-2025-05-22 15:48:37
oligoClasses/-2025-05-22 15:48:37
oncoscanR/-2025-05-22 15:48:37
OmicCircos/-2025-05-22 15:48:37
OmaDB/-2025-05-22 15:48:37
OmicsMLRepoR/-2025-05-22 15:48:37
OMICsPCA/-2025-05-22 15:48:37
OLIN/-2025-05-22 15:48:37
omicsViewer/-2025-05-22 15:48:37
omada/-2025-05-22 15:48:37
omicsPrint/-2025-05-22 15:48:37
omicRexposome/-2025-05-22 15:48:37
OmnipathR/-2025-05-22 15:48:37
odseq/-2025-05-22 15:48:37
OncoSimulR/-2025-05-22 15:48:37
OGRE/-2025-05-22 15:48:37
omicade4/-2025-05-22 15:48:37
netSmooth/-2025-05-22 15:48:36
nondetects/-2025-05-22 15:48:36
nnNorm/-2025-05-22 15:48:36
npGSEA/-2025-05-22 15:48:36
NetSAM/-2025-05-22 15:48:36
nucleR/-2025-05-22 15:48:36
NormqPCR/-2025-05-22 15:48:36
normr/-2025-05-22 15:48:36
nuCpos/-2025-05-22 15:48:36
NoRCE/-2025-05-22 15:48:36
NPARC/-2025-05-22 15:48:36
normalize450K/-2025-05-22 15:48:36
NeuCA/-2025-05-22 15:48:36
netZooR/-2025-05-22 15:48:36
NuPoP/-2025-05-22 15:48:36
NewWave/-2025-05-22 15:48:36
ngsReports/-2025-05-22 15:48:36
NTW/-2025-05-22 15:48:36
occugene/-2025-05-22 15:48:36
nipalsMCIA/-2025-05-22 15:48:36
NormalyzerDE/-2025-05-22 15:48:36
nullranges/-2025-05-22 15:48:36
nnSVG/-2025-05-22 15:48:36
OCplus/-2025-05-22 15:48:36
nucleoSim/-2025-05-22 15:48:36
NOISeq/-2025-05-22 15:48:36
mzR/-2025-05-22 15:48:35
ncRNAtools/-2025-05-22 15:48:35
MVCClass/-2025-05-22 15:48:35
NanoTube/-2025-05-22 15:48:35
Nebulosa/-2025-05-22 15:48:35
ndexr/-2025-05-22 15:48:35
nethet/-2025-05-22 15:48:35
NanoMethViz/-2025-05-22 15:48:35
netboost/-2025-05-22 15:48:35
netDx/-2025-05-22 15:48:35
mzID/-2025-05-22 15:48:35
NanoStringNCTools/-2025-05-22 15:48:35
mygene/-2025-05-22 15:48:35
NBAMSeq/-2025-05-22 15:48:35
netprioR/-2025-05-22 15:48:35
nempi/-2025-05-22 15:48:35
myvariant/-2025-05-22 15:48:35
ncGTW/-2025-05-22 15:48:35
nearBynding/-2025-05-22 15:48:35
ncdfFlow/-2025-05-22 15:48:35
NetActivity/-2025-05-22 15:48:35
NCIgraph/-2025-05-22 15:48:35
NetPathMiner/-2025-05-22 15:48:35
netresponse/-2025-05-22 15:48:35
MWASTools/-2025-05-22 15:48:35
NanoStringDiff/-2025-05-22 15:48:35
NADfinder/-2025-05-22 15:48:35
MultiRNAflow/-2025-05-22 15:48:34
MultiDataSet/-2025-05-22 15:48:34
multistateQTL/-2025-05-22 15:48:34
multtest/-2025-05-22 15:48:34
MultiMed/-2025-05-22 15:48:34
multiMiR/-2025-05-22 15:48:34
multiGSEA/-2025-05-22 15:48:34
multiClust/-2025-05-22 15:48:34
MultimodalExperiment/-2025-05-22 15:48:34
MultiAssayExperiment/-2025-05-22 15:48:34
Mulcom/-2025-05-22 15:48:34
multiscan/-2025-05-22 15:48:34
MultiBaC/-2025-05-22 15:48:34
muscat/-2025-05-22 15:48:34
multicrispr/-2025-05-22 15:48:34
multiWGCNA/-2025-05-22 15:48:34
MutationalPatterns/-2025-05-22 15:48:34
MSstatsShiny/-2025-05-22 15:48:34
MuData/-2025-05-22 15:48:34
musicatk/-2025-05-22 15:48:34
muscle/-2025-05-22 15:48:34
MSstatsTMT/-2025-05-22 15:48:34
multiHiCcompare/-2025-05-22 15:48:34
MungeSumstats/-2025-05-22 15:48:34
mumosa/-2025-05-22 15:48:34
MSstatsLOBD/-2025-05-22 15:48:33
MsExperiment/-2025-05-22 15:48:33
mslp/-2025-05-22 15:48:33
MsCoreUtils/-2025-05-22 15:48:33
msgbsR/-2025-05-22 15:48:33
MSPrep/-2025-05-22 15:48:33
msqrob2/-2025-05-22 15:48:33
MSstatsConvert/-2025-05-22 15:48:33
MSnbase/-2025-05-22 15:48:33
MSstatsQCgui/-2025-05-22 15:48:33
MSstatsPTM/-2025-05-22 15:48:33
MSnID/-2025-05-22 15:48:33
MSstatsLiP/-2025-05-22 15:48:33
MsDataHub/-2025-05-22 15:48:33
msPurity/-2025-05-22 15:48:33
MSstatsQC/-2025-05-22 15:48:33
msImpute/-2025-05-22 15:48:33
msmsTests/-2025-05-22 15:48:33
MSstats/-2025-05-22 15:48:33
mspms/-2025-05-22 15:48:33
MSstatsBig/-2025-05-22 15:48:33
MsQuality/-2025-05-22 15:48:33
MSstatsBioNet/-2025-05-22 15:48:33
msmsEDA/-2025-05-22 15:48:33
MsFeatures/-2025-05-22 15:48:33
MsBackendRawFileReader/-2025-05-22 15:48:32
mosbi/-2025-05-22 15:48:32
motifStack/-2025-05-22 15:48:32
MoonlightR/-2025-05-22 15:48:32
motifmatchr/-2025-05-22 15:48:32
mosdef/-2025-05-22 15:48:32
motifTestR/-2025-05-22 15:48:32
MPFE/-2025-05-22 15:48:32
MsBackendMassbank/-2025-05-22 15:48:32
MPRAnalyze/-2025-05-22 15:48:32
MotifPeeker/-2025-05-22 15:48:32
msa/-2025-05-22 15:48:32
MsBackendMetaboLights/-2025-05-22 15:48:32
MsBackendSql/-2025-05-22 15:48:32
MOSClip/-2025-05-22 15:48:32
mpra/-2025-05-22 15:48:32
MsBackendMsp/-2025-05-22 15:48:32
MouseFM/-2025-05-22 15:48:32
MotifDb/-2025-05-22 15:48:32
motifbreakR/-2025-05-22 15:48:32
motifcounter/-2025-05-22 15:48:32
MsBackendMgf/-2025-05-22 15:48:32
Motif2Site/-2025-05-22 15:48:32
MPAC/-2025-05-22 15:48:32
MOSim/-2025-05-22 15:48:32
MSA2dist/-2025-05-22 15:48:32
mosaics/-2025-05-22 15:48:32
mixOmics/-2025-05-22 15:48:31
Modstrings/-2025-05-22 15:48:31
mitch/-2025-05-22 15:48:31
MMDiff2/-2025-05-22 15:48:31
Moonlight2R/-2025-05-22 15:48:31
MoleculeExperiment/-2025-05-22 15:48:31
ModCon/-2025-05-22 15:48:31
MOFA2/-2025-05-22 15:48:31
moanin/-2025-05-22 15:48:31
mnem/-2025-05-22 15:48:31
MOGAMUN/-2025-05-22 15:48:31
MODA/-2025-05-22 15:48:31
mitoClone2/-2025-05-22 15:48:31
MMUPHin/-2025-05-22 15:48:31
MLInterfaces/-2025-05-22 15:48:31
mist/-2025-05-22 15:48:31
mogsa/-2025-05-22 15:48:31
mistyR/-2025-05-22 15:48:31
mitology/-2025-05-22 15:48:31
monaLisa/-2025-05-22 15:48:31
MLP/-2025-05-22 15:48:31
monocle/-2025-05-22 15:48:31
MOMA/-2025-05-22 15:48:31
MLSeq/-2025-05-22 15:48:31
mobileRNA/-2025-05-22 15:48:31
MiPP/-2025-05-22 15:48:30
mirTarRnaSeq/-2025-05-22 15:48:30
MICSQTL/-2025-05-22 15:48:30
miRcomp/-2025-05-22 15:48:30
microSTASIS/-2025-05-22 15:48:30
midasHLA/-2025-05-22 15:48:30
minet/-2025-05-22 15:48:30
missRows/-2025-05-22 15:48:30
MIRA/-2025-05-22 15:48:30
miRNApath/-2025-05-22 15:48:30
miRBaseConverter/-2025-05-22 15:48:30
mirIntegrator/-2025-05-22 15:48:30
MinimumDistance/-2025-05-22 15:48:30
miRNAtap/-2025-05-22 15:48:30
miRLAB/-2025-05-22 15:48:30
MineICA/-2025-05-22 15:48:30
mina/-2025-05-22 15:48:30
mimager/-2025-05-22 15:48:30
MIRit/-2025-05-22 15:48:30
MiRaGE/-2025-05-22 15:48:30
miRNAmeConverter/-2025-05-22 15:48:30
miRspongeR/-2025-05-22 15:48:30
missMethyl/-2025-05-22 15:48:30
miQC/-2025-05-22 15:48:30
miloR/-2025-05-22 15:48:30
miRSM/-2025-05-22 15:48:30
minfi/-2025-05-22 15:48:30
microRNA/-2025-05-22 15:48:29
mia/-2025-05-22 15:48:29
MicrobiotaProcess/-2025-05-22 15:48:29
methylPipe/-2025-05-22 15:48:29
miaSim/-2025-05-22 15:48:29
mfa/-2025-05-22 15:48:29
MethylMix/-2025-05-22 15:48:29
MethylSeekR/-2025-05-22 15:48:29
miaDash/-2025-05-22 15:48:29
microbiomeExplorer/-2025-05-22 15:48:29
methylMnM/-2025-05-22 15:48:29
MGFR/-2025-05-22 15:48:29
MGnifyR/-2025-05-22 15:48:29
microbiomeDASim/-2025-05-22 15:48:29
MetNet/-2025-05-22 15:48:29
MetMashR/-2025-05-22 15:48:29
methylumi/-2025-05-22 15:48:29
methylSig/-2025-05-22 15:48:29
MiChip/-2025-05-22 15:48:29
miaViz/-2025-05-22 15:48:29
Mfuzz/-2025-05-22 15:48:29
MetID/-2025-05-22 15:48:29
methylscaper/-2025-05-22 15:48:29
MGFM/-2025-05-22 15:48:29
MicrobiomeProfiler/-2025-05-22 15:48:29
microbiome/-2025-05-22 15:48:29
mgsa/-2025-05-22 15:48:29
metahdep/-2025-05-22 15:48:28
metapod/-2025-05-22 15:48:28
metaCCA/-2025-05-22 15:48:28
methrix/-2025-05-22 15:48:28
MetCirc/-2025-05-22 15:48:28
MetaCyto/-2025-05-22 15:48:28
MetaNeighbor/-2025-05-22 15:48:28
methylGSA/-2025-05-22 15:48:28
methylKit/-2025-05-22 15:48:28
metagenomeSeq/-2025-05-22 15:48:28
methimpute/-2025-05-22 15:48:28
metaMS/-2025-05-22 15:48:28
MethylAid/-2025-05-22 15:48:28
methylInheritance/-2025-05-22 15:48:28
methInheritSim/-2025-05-22 15:48:28
metaSeq/-2025-05-22 15:48:28
MethTargetedNGS/-2025-05-22 15:48:28
methyLImp2/-2025-05-22 15:48:28
MetaPhOR/-2025-05-22 15:48:28
methylclock/-2025-05-22 15:48:28
MethPed/-2025-05-22 15:48:28
metapone/-2025-05-22 15:48:28
methylCC/-2025-05-22 15:48:28
metaseqR2/-2025-05-22 15:48:28
MethReg/-2025-05-22 15:48:28
metagene2/-2025-05-22 15:48:28
methodical/-2025-05-22 15:48:28
MEDIPS/-2025-05-22 15:48:27
MEB/-2025-05-22 15:48:27
MDTS/-2025-05-22 15:48:27
metabolomicsWorkbenchR/-2025-05-22 15:48:27
MEAL/-2025-05-22 15:48:27
mdp/-2025-05-22 15:48:27
MetaboDynamics/-2025-05-22 15:48:27
MetaboAnnotation/-2025-05-22 15:48:27
messina/-2025-05-22 15:48:27
Mergeomics/-2025-05-22 15:48:27
metabomxtr/-2025-05-22 15:48:27
MeasurementError.cor/-2025-05-22 15:48:27
metabinR/-2025-05-22 15:48:27
memes/-2025-05-22 15:48:27
MEAT/-2025-05-22 15:48:27
meshr/-2025-05-22 15:48:27
MeSHDbi/-2025-05-22 15:48:27
megadepth/-2025-05-22 15:48:27
MetaboSignal/-2025-05-22 15:48:27
MEDME/-2025-05-22 15:48:27
Melissa/-2025-05-22 15:48:27
MEIGOR/-2025-05-22 15:48:27
MesKit/-2025-05-22 15:48:27
metabCombiner/-2025-05-22 15:48:27
MetaboCoreUtils/-2025-05-22 15:48:27
meshes/-2025-05-22 15:48:27
mdqc/-2025-05-22 15:48:27
MassArray/-2025-05-22 15:48:26
MBttest/-2025-05-22 15:48:26
marr/-2025-05-22 15:48:26
marray/-2025-05-22 15:48:26
MBECS/-2025-05-22 15:48:26
MatrixRider/-2025-05-22 15:48:26
MBCB/-2025-05-22 15:48:26
mCSEA/-2025-05-22 15:48:26
MBQN/-2025-05-22 15:48:26
MatrixQCvis/-2025-05-22 15:48:26
mBPCR/-2025-05-22 15:48:26
MBASED/-2025-05-22 15:48:26
MassSpecWavelet/-2025-05-22 15:48:26
maser/-2025-05-22 15:48:26
massiR/-2025-05-22 15:48:26
mbkmeans/-2025-05-22 15:48:26
MCbiclust/-2025-05-22 15:48:26
MatrixGenerics/-2025-05-22 15:48:26
martini/-2025-05-22 15:48:26
maskBAD/-2025-05-22 15:48:26
matter/-2025-05-22 15:48:26
MBAmethyl/-2025-05-22 15:48:26
matchBox/-2025-05-22 15:48:26
maSigPro/-2025-05-22 15:48:26
MAST/-2025-05-22 15:48:26
mastR/-2025-05-22 15:48:26
mbQTL/-2025-05-22 15:48:26
m6Aboost/-2025-05-22 15:48:25
makecdfenv/-2025-05-22 15:48:25
M3Drop/-2025-05-22 15:48:25
maPredictDSC/-2025-05-22 15:48:25
lute/-2025-05-22 15:48:25
LymphoSeq/-2025-05-22 15:48:25
MAPFX/-2025-05-22 15:48:25
M3C/-2025-05-22 15:48:25
maCorrPlot/-2025-05-22 15:48:25
MAIT/-2025-05-22 15:48:25
MANOR/-2025-05-22 15:48:25
MADSEQ/-2025-05-22 15:48:25
MAGAR/-2025-05-22 15:48:25
MantelCorr/-2025-05-22 15:48:25
maftools/-2025-05-22 15:48:25
MAI/-2025-05-22 15:48:25
mapscape/-2025-05-22 15:48:25
magpie/-2025-05-22 15:48:25
maaslin3/-2025-05-22 15:48:25
MACSQuantifyR/-2025-05-22 15:48:25
magrene/-2025-05-22 15:48:25
Macarron/-2025-05-22 15:48:25
mariner/-2025-05-22 15:48:25
Maaslin2/-2025-05-22 15:48:25
made4/-2025-05-22 15:48:25
MAGeCKFlute/-2025-05-22 15:48:25
MACSr/-2025-05-22 15:48:25
lisaClust/-2025-05-22 15:48:24
LOBSTAHS/-2025-05-22 15:48:24
logicFS/-2025-05-22 15:48:24
LRcell/-2025-05-22 15:48:24
limmaGUI/-2025-05-22 15:48:24
lpsymphony/-2025-05-22 15:48:24
limpa/-2025-05-22 15:48:24
LRBaseDbi/-2025-05-22 15:48:24
LinkHD/-2025-05-22 15:48:24
Lheuristic/-2025-05-22 15:48:24
limpca/-2025-05-22 15:48:24
lpNet/-2025-05-22 15:48:24
LOLA/-2025-05-22 15:48:24
Linnorm/-2025-05-22 15:48:24
lmdme/-2025-05-22 15:48:24
LinTInd/-2025-05-22 15:48:24
LPE/-2025-05-22 15:48:24
LoomExperiment/-2025-05-22 15:48:24
lipidr/-2025-05-22 15:48:24
lineagespot/-2025-05-22 15:48:24
LiquidAssociation/-2025-05-22 15:48:24
LimROTS/-2025-05-22 15:48:24
lumi/-2025-05-22 15:48:24
lionessR/-2025-05-22 15:48:24
loci2path/-2025-05-22 15:48:24
limma/-2025-05-22 15:48:24
lfa/-2025-05-22 15:48:23
kebabs/-2025-05-22 15:48:23
knowYourCG/-2025-05-22 15:48:23
LACE/-2025-05-22 15:48:23
LedPred/-2025-05-22 15:48:23
ldblock/-2025-05-22 15:48:23
keggorthology/-2025-05-22 15:48:23
LBE/-2025-05-22 15:48:23
KBoost/-2025-05-22 15:48:23
KEGGREST/-2025-05-22 15:48:23
KEGGlincs/-2025-05-22 15:48:23
kissDE/-2025-05-22 15:48:23
lemur/-2025-05-22 15:48:23
LEA/-2025-05-22 15:48:23
les/-2025-05-22 15:48:23
KnowSeq/-2025-05-22 15:48:23
KinSwingR/-2025-05-22 15:48:23
KEGGgraph/-2025-05-22 15:48:23
KCsmart/-2025-05-22 15:48:23
koinar/-2025-05-22 15:48:23
katdetectr/-2025-05-22 15:48:23
kmcut/-2025-05-22 15:48:23
lapmix/-2025-05-22 15:48:23
lefser/-2025-05-22 15:48:23
karyoploteR/-2025-05-22 15:48:23
levi/-2025-05-22 15:48:23
iSEE/-2025-05-22 15:48:22
IsoCorrectoR/-2025-05-22 15:48:22
IsoformSwitchAnalyzeR/-2025-05-22 15:48:22
ivygapSE/-2025-05-22 15:48:22
islify/-2025-05-22 15:48:22
iSEEtree/-2025-05-22 15:48:22
iterativeBMAsurv/-2025-05-22 15:48:22
iSEEu/-2025-05-22 15:48:22
ISAnalytics/-2025-05-22 15:48:22
IRanges/-2025-05-22 15:48:22
iSEEpathways/-2025-05-22 15:48:22
ISoLDE/-2025-05-22 15:48:22
iSEEde/-2025-05-22 15:48:22
IVAS/-2025-05-22 15:48:22
iSEEhex/-2025-05-22 15:48:22
ISLET/-2025-05-22 15:48:22
jazzPanda/-2025-05-22 15:48:22
IsoCorrectoRGUI/-2025-05-22 15:48:22
iSeq/-2025-05-22 15:48:22
isomiRs/-2025-05-22 15:48:22
isobar/-2025-05-22 15:48:22
IWTomics/-2025-05-22 15:48:22
iSEEhub/-2025-05-22 15:48:22
iSEEindex/-2025-05-22 15:48:22
iterativeBMA/-2025-05-22 15:48:22
ITALICS/-2025-05-22 15:48:22
IsoBayes/-2025-05-22 15:48:22
iSEEfier/-2025-05-22 15:48:22
iPAC/-2025-05-22 15:48:21
infinityFlow/-2025-05-22 15:48:21
immunogenViewer/-2025-05-22 15:48:21
intansv/-2025-05-22 15:48:21
InteractiveComplexHeatmap/-2025-05-22 15:48:21
iNETgrate/-2025-05-22 15:48:21
INTACT/-2025-05-22 15:48:21
interacCircos/-2025-05-22 15:48:21
interactiveDisplayBase/-2025-05-22 15:48:21
INPower/-2025-05-22 15:48:21
INSPEcT/-2025-05-22 15:48:21
IPO/-2025-05-22 15:48:21
IntEREst/-2025-05-22 15:48:21
InPAS/-2025-05-22 15:48:21
impute/-2025-05-22 15:48:21
Informeasure/-2025-05-22 15:48:21
IMPCdata/-2025-05-22 15:48:21
infercnv/-2025-05-22 15:48:21
interactiveDisplay/-2025-05-22 15:48:21
InterCellar/-2025-05-22 15:48:21
InTAD/-2025-05-22 15:48:21
INDEED/-2025-05-22 15:48:21
IntramiRExploreR/-2025-05-22 15:48:21
iPath/-2025-05-22 15:48:21
immunotation/-2025-05-22 15:48:21
ipdDb/-2025-05-22 15:48:21
InteractionSet/-2025-05-22 15:48:21
IONiseR/-2025-05-22 15:48:21
idiogram/-2025-05-22 15:48:20
iClusterPlus/-2025-05-22 15:48:20
idpr/-2025-05-22 15:48:20
iCNV/-2025-05-22 15:48:20
igvShiny/-2025-05-22 15:48:20
IFAA/-2025-05-22 15:48:20
imageTCGA/-2025-05-22 15:48:20
iCOBRA/-2025-05-22 15:48:20
immunoClust/-2025-05-22 15:48:20
ideal/-2025-05-22 15:48:20
Icens/-2025-05-22 15:48:20
icetea/-2025-05-22 15:48:20
iCARE/-2025-05-22 15:48:20
imcRtools/-2025-05-22 15:48:20
IgGeneUsage/-2025-05-22 15:48:20
idr2d/-2025-05-22 15:48:20
IMAS/-2025-05-22 15:48:20
illuminaio/-2025-05-22 15:48:20
iCheck/-2025-05-22 15:48:20
ILoReg/-2025-05-22 15:48:20
iChip/-2025-05-22 15:48:20
IHW/-2025-05-22 15:48:20
IdeoViz/-2025-05-22 15:48:20
iGC/-2025-05-22 15:48:20
immApex/-2025-05-22 15:48:20
igvR/-2025-05-22 15:48:20
IMMAN/-2025-05-22 15:48:20
hypergraph/-2025-05-22 15:48:19
HPAanalyze/-2025-05-22 15:48:19
HTSeqGenie/-2025-05-22 15:48:19
hummingbird/-2025-05-22 15:48:19
HTSFilter/-2025-05-22 15:48:19
HIREewas/-2025-05-22 15:48:19
iBBiG/-2025-05-22 15:48:19
ibh/-2025-05-22 15:48:19
hpar/-2025-05-22 15:48:19
hyperdraw/-2025-05-22 15:48:19
iASeq/-2025-05-22 15:48:19
iasva/-2025-05-22 15:48:19
HoloFoodR/-2025-05-22 15:48:19
HybridExpress/-2025-05-22 15:48:19
HIPPO/-2025-05-22 15:48:19
HybridMTest/-2025-05-22 15:48:19
hoodscanR/-2025-05-22 15:48:19
HiTC/-2025-05-22 15:48:19
HMMcopy/-2025-05-22 15:48:19
hmdbQuery/-2025-05-22 15:48:19
HubPub/-2025-05-22 15:48:19
hopach/-2025-05-22 15:48:19
HTqPCR/-2025-05-22 15:48:19
hiReadsProcessor/-2025-05-22 15:48:19
iBMQ/-2025-05-22 15:48:19
HPiP/-2025-05-22 15:48:19
HuBMAPR/-2025-05-22 15:48:19
hypeR/-2025-05-22 15:48:19
HiCBricks/-2025-05-22 15:48:18
HEM/-2025-05-22 15:48:18
Herper/-2025-05-22 15:48:18
HilbertCurve/-2025-05-22 15:48:18
HelloRanges/-2025-05-22 15:48:18
hierinf/-2025-05-22 15:48:18
HiLDA/-2025-05-22 15:48:18
HELP/-2025-05-22 15:48:18
HERON/-2025-05-22 15:48:18
HiCParser/-2025-05-22 15:48:18
HIBAG/-2025-05-22 15:48:18
HiCDCPlus/-2025-05-22 15:48:18
hermes/-2025-05-22 15:48:18
hierGWAS/-2025-05-22 15:48:18
HilbertVisGUI/-2025-05-22 15:48:18
HicAggR/-2025-05-22 15:48:18
hicVennDiagram/-2025-05-22 15:48:18
HilbertVis/-2025-05-22 15:48:18
HiCDOC/-2025-05-22 15:48:18
hiAnnotator/-2025-05-22 15:48:18
HiCcompare/-2025-05-22 15:48:18
Heatplus/-2025-05-22 15:48:18
HiContacts/-2025-05-22 15:48:18
hipathia/-2025-05-22 15:48:18
HGC/-2025-05-22 15:48:18
HiCool/-2025-05-22 15:48:18
HiCExperiment/-2025-05-22 15:48:18
heatmaps/-2025-05-22 15:48:18
Gviz/-2025-05-22 15:48:17
Harshlight/-2025-05-22 15:48:17
GSReg/-2025-05-22 15:48:17
GSEAlm/-2025-05-22 15:48:17
h5vc/-2025-05-22 15:48:17
HDTD/-2025-05-22 15:48:17
GWASTools/-2025-05-22 15:48:17
gwasurvivr/-2025-05-22 15:48:17
GSEAmining/-2025-05-22 15:48:17
GWAS.BAYES/-2025-05-22 15:48:17
GUIDEseq/-2025-05-22 15:48:17
hca/-2025-05-22 15:48:17
HarmonizR/-2025-05-22 15:48:17
h5mread/-2025-05-22 15:48:17
GSVA/-2025-05-22 15:48:17
Harman/-2025-05-22 15:48:17
HDF5Array/-2025-05-22 15:48:17
gsean/-2025-05-22 15:48:17
gwascat/-2025-05-22 15:48:17
hapFabia/-2025-05-22 15:48:17
Guitar/-2025-05-22 15:48:17
GSRI/-2025-05-22 15:48:17
gtrellis/-2025-05-22 15:48:17
hdxmsqc/-2025-05-22 15:48:17
GWENA/-2025-05-22 15:48:17
gypsum/-2025-05-22 15:48:17
GSgalgoR/-2025-05-22 15:48:17
gscreend/-2025-05-22 15:48:16
GSEABenchmarkeR/-2025-05-22 15:48:16
GOTHiC/-2025-05-22 15:48:16
GrafGen/-2025-05-22 15:48:16
granulator/-2025-05-22 15:48:16
GSCA/-2025-05-22 15:48:16
GOSemSim/-2025-05-22 15:48:16
GSALightning/-2025-05-22 15:48:16
goseq/-2025-05-22 15:48:16
GOstats/-2025-05-22 15:48:16
graphite/-2025-05-22 15:48:16
goSTAG/-2025-05-22 15:48:16
GraphPAC/-2025-05-22 15:48:16
GRmetrics/-2025-05-22 15:48:16
GRaNIE/-2025-05-22 15:48:16
GSAR/-2025-05-22 15:48:16
GSEABase/-2025-05-22 15:48:16
GRENITS/-2025-05-22 15:48:16
graph/-2025-05-22 15:48:16
GreyListChIP/-2025-05-22 15:48:16
GraphAT/-2025-05-22 15:48:16
gpls/-2025-05-22 15:48:16
goSorensen/-2025-05-22 15:48:16
gpuMagic/-2025-05-22 15:48:16
graper/-2025-05-22 15:48:16
groHMM/-2025-05-22 15:48:16
GPA/-2025-05-22 15:48:16
GraphAlignment/-2025-05-22 15:48:16
goTools/-2025-05-22 15:48:16
gmoviz/-2025-05-22 15:48:15
GNOSIS/-2025-05-22 15:48:15
GloScope/-2025-05-22 15:48:15
GlobalAncova/-2025-05-22 15:48:15
ginmappeR/-2025-05-22 15:48:15
GLAD/-2025-05-22 15:48:15
GOpro/-2025-05-22 15:48:15
Glimma/-2025-05-22 15:48:15
GNET2/-2025-05-22 15:48:15
globalSeq/-2025-05-22 15:48:15
goProfiles/-2025-05-22 15:48:15
GIGSEA/-2025-05-22 15:48:15
glmGamPoi/-2025-05-22 15:48:15
glmSparseNet/-2025-05-22 15:48:15
ggtreeExtra/-2025-05-22 15:48:15
ggtreeSpace/-2025-05-22 15:48:15
GmicR/-2025-05-22 15:48:15
GMRP/-2025-05-22 15:48:15
GladiaTOX/-2025-05-22 15:48:15
gmapR/-2025-05-22 15:48:15
ggtree/-2025-05-22 15:48:15
gINTomics/-2025-05-22 15:48:15
GOfuncR/-2025-05-22 15:48:15
GOexpress/-2025-05-22 15:48:15
ggtreeDendro/-2025-05-22 15:48:15
girafe/-2025-05-22 15:48:15
globaltest/-2025-05-22 15:48:15
ggkegg/-2025-05-22 15:48:14
ggmanh/-2025-05-22 15:48:14
GEWIST/-2025-05-22 15:48:14
GenProSeq/-2025-05-22 15:48:14
GEOexplorer/-2025-05-22 15:48:14
gep2pep/-2025-05-22 15:48:14
getDEE2/-2025-05-22 15:48:14
ggspavis/-2025-05-22 15:48:14
GEOmetadb/-2025-05-22 15:48:14
ggbio/-2025-05-22 15:48:14
gg4way/-2025-05-22 15:48:14
ggcyto/-2025-05-22 15:48:14
geyser/-2025-05-22 15:48:14
GEOquery/-2025-05-22 15:48:14
GeoTcgaData/-2025-05-22 15:48:14
ggmsa/-2025-05-22 15:48:14
GeoDiff/-2025-05-22 15:48:14
geva/-2025-05-22 15:48:14
GGPA/-2025-05-22 15:48:14
GEOsubmission/-2025-05-22 15:48:14
ggseqalign/-2025-05-22 15:48:14
GeomxTools/-2025-05-22 15:48:14
GenVisR/-2025-05-22 15:48:14
ggsc/-2025-05-22 15:48:14
GEOfastq/-2025-05-22 15:48:14
geomeTriD/-2025-05-22 15:48:14
gespeR/-2025-05-22 15:48:14
GenomicRanges/-2025-05-22 15:48:13
GenomicFeatures/-2025-05-22 15:48:13
GenomAutomorphism/-2025-05-22 15:48:13
GENIE3/-2025-05-22 15:48:13
GenomicDistributions/-2025-05-22 15:48:13
GenomicPlot/-2025-05-22 15:48:13
geneXtendeR/-2025-05-22 15:48:13
GenomicInteractionNodes/-2025-05-22 15:48:13
GeneTonic/-2025-05-22 15:48:13
genomicInstability/-2025-05-22 15:48:13
GENESIS/-2025-05-22 15:48:13
GenomicTuples/-2025-05-22 15:48:13
GenomicAlignments/-2025-05-22 15:48:13
GenomicFiles/-2025-05-22 15:48:13
GenomeInfoDb/-2025-05-22 15:48:13
genomeIntervals/-2025-05-22 15:48:13
genomation/-2025-05-22 15:48:13
genomes/-2025-05-22 15:48:13
geNetClassifier/-2025-05-22 15:48:13
GeneticsPed/-2025-05-22 15:48:13
GenomicSuperSignature/-2025-05-22 15:48:13
GenomicInteractions/-2025-05-22 15:48:13
GenomicScores/-2025-05-22 15:48:13
GenomicOZone/-2025-05-22 15:48:13
GenomicDataCommons/-2025-05-22 15:48:13
genoCN/-2025-05-22 15:48:13
GeneStructureTools/-2025-05-22 15:48:13
gDRstyle/-2025-05-22 15:48:12
genArise/-2025-05-22 15:48:12
gDR/-2025-05-22 15:48:12
genefu/-2025-05-22 15:48:12
geneRecommender/-2025-05-22 15:48:12
genefilter/-2025-05-22 15:48:12
GeneRegionScan/-2025-05-22 15:48:12
geneplotter/-2025-05-22 15:48:12
gemini/-2025-05-22 15:48:12
GeneSelectMMD/-2025-05-22 15:48:12
GeneGA/-2025-05-22 15:48:12
GeneMeta/-2025-05-22 15:48:12
GeneOverlap/-2025-05-22 15:48:12
geneAttribution/-2025-05-22 15:48:12
geneplast/-2025-05-22 15:48:12
geneRxCluster/-2025-05-22 15:48:12
GeDi/-2025-05-22 15:48:12
GDSArray/-2025-05-22 15:48:12
gDRimport/-2025-05-22 15:48:12
gDRutils/-2025-05-22 15:48:12
gDNAx/-2025-05-22 15:48:12
gdsfmt/-2025-05-22 15:48:12
geneClassifiers/-2025-05-22 15:48:12
GeneBreak/-2025-05-22 15:48:12
gDRcore/-2025-05-22 15:48:12
GeneNetworkBuilder/-2025-05-22 15:48:12
gemma.R/-2025-05-22 15:48:12
GEM/-2025-05-22 15:48:12
GeneExpressionSignature/-2025-05-22 15:48:12
gatom/-2025-05-22 15:48:11
GDCRNATools/-2025-05-22 15:48:11
fmcsR/-2025-05-22 15:48:11
GA4GHshiny/-2025-05-22 15:48:11
funtooNorm/-2025-05-22 15:48:11
gage/-2025-05-22 15:48:11
gaga/-2025-05-22 15:48:11
GAprediction/-2025-05-22 15:48:11
gcapc/-2025-05-22 15:48:11
funOmics/-2025-05-22 15:48:11
GARS/-2025-05-22 15:48:11
frma/-2025-05-22 15:48:11
GA4GHclient/-2025-05-22 15:48:11
garfield/-2025-05-22 15:48:11
flowWorkspace/-2025-05-22 15:48:11
frmaTools/-2025-05-22 15:48:11
FRASER/-2025-05-22 15:48:11
FRGEpistasis/-2025-05-22 15:48:11
G4SNVHunter/-2025-05-22 15:48:11
gcrma/-2025-05-22 15:48:11
fobitools/-2025-05-22 15:48:11
gcatest/-2025-05-22 15:48:11
GBScleanR/-2025-05-22 15:48:11
GateFinder/-2025-05-22 15:48:11
gCrisprTools/-2025-05-22 15:48:11
FuseSOM/-2025-05-22 15:48:11
frenchFISH/-2025-05-22 15:48:11
fmrs/-2025-05-22 15:48:11
flowMatch/-2025-05-22 15:48:10
flowMerge/-2025-05-22 15:48:10
flowCyBar/-2025-05-22 15:48:10
flowMeans/-2025-05-22 15:48:10
flowCore/-2025-05-22 15:48:10
flowPloidy/-2025-05-22 15:48:10
flowStats/-2025-05-22 15:48:10
flowCHIC/-2025-05-22 15:48:10
flowClean/-2025-05-22 15:48:10
flowGraph/-2025-05-22 15:48:10
flowBin/-2025-05-22 15:48:10
flowViz/-2025-05-22 15:48:10
flowClust/-2025-05-22 15:48:10
flowcatchR/-2025-05-22 15:48:10
FlowSOM/-2025-05-22 15:48:10
flowTrans/-2025-05-22 15:48:10
FLAMES/-2025-05-22 15:48:10
flowTime/-2025-05-22 15:48:10
flowAI/-2025-05-22 15:48:10
flowFP/-2025-05-22 15:48:10
flowBeads/-2025-05-22 15:48:10
flowGate/-2025-05-22 15:48:10
flowVS/-2025-05-22 15:48:10
flowSpecs/-2025-05-22 15:48:10
flowDensity/-2025-05-22 15:48:10
flowPlots/-2025-05-22 15:48:10
flowPeaks/-2025-05-22 15:48:10
flowCut/-2025-05-22 15:48:10
fcScan/-2025-05-22 15:48:09
FamAgg/-2025-05-22 15:48:09
faers/-2025-05-22 15:48:09
fCCAC/-2025-05-22 15:48:09
FeatSeekR/-2025-05-22 15:48:09
fedup/-2025-05-22 15:48:09
FEAST/-2025-05-22 15:48:09
flagme/-2025-05-22 15:48:09
FELLA/-2025-05-22 15:48:09
FGNet/-2025-05-22 15:48:09
findIPs/-2025-05-22 15:48:09
fastLiquidAssociation/-2025-05-22 15:48:09
FitHiC/-2025-05-22 15:48:09
FISHalyseR/-2025-05-22 15:48:09
fastseg/-2025-05-22 15:48:09
FilterFFPE/-2025-05-22 15:48:09
FastqCleaner/-2025-05-22 15:48:09
ffpe/-2025-05-22 15:48:09
famat/-2025-05-22 15:48:09
fdrame/-2025-05-22 15:48:09
fgsea/-2025-05-22 15:48:09
fishpond/-2025-05-22 15:48:09
factR/-2025-05-22 15:48:09
fCI/-2025-05-22 15:48:09
fgga/-2025-05-22 15:48:09
fenr/-2025-05-22 15:48:09
fastreeR/-2025-05-22 15:48:09
FindIT2/-2025-05-22 15:48:09
ExperimentHub/-2025-05-22 15:48:08
ExploreModelMatrix/-2025-05-22 15:48:08
epistasisGA/-2025-05-22 15:48:08
ExperimentSubset/-2025-05-22 15:48:08
erccdashboard/-2025-05-22 15:48:08
escheR/-2025-05-22 15:48:08
epivizrChart/-2025-05-22 15:48:08
epivizr/-2025-05-22 15:48:08
esetVis/-2025-05-22 15:48:08
erma/-2025-05-22 15:48:08
escape/-2025-05-22 15:48:08
extraChIPs/-2025-05-22 15:48:08
epivizrServer/-2025-05-22 15:48:08
ExCluster/-2025-05-22 15:48:08
epivizrData/-2025-05-22 15:48:08
EventPointer/-2025-05-22 15:48:08
EWCE/-2025-05-22 15:48:08
ExperimentHubData/-2025-05-22 15:48:08
esATAC/-2025-05-22 15:48:08
EpiTxDb/-2025-05-22 15:48:08
ERSSA/-2025-05-22 15:48:08
ExpressionAtlas/-2025-05-22 15:48:08
factDesign/-2025-05-22 15:48:08
ExiMiR/-2025-05-22 15:48:08
evaluomeR/-2025-05-22 15:48:08
fabia/-2025-05-22 15:48:08
epivizrStandalone/-2025-05-22 15:48:08
eudysbiome/-2025-05-22 15:48:08
epistack/-2025-05-22 15:48:07
epigraHMM/-2025-05-22 15:48:07
ENmix/-2025-05-22 15:48:07
enrichplot/-2025-05-22 15:48:07
epidecodeR/-2025-05-22 15:48:07
EnrichDO/-2025-05-22 15:48:07
epialleleR/-2025-05-22 15:48:07
EnrichmentBrowser/-2025-05-22 15:48:07
epiNEM/-2025-05-22 15:48:07
EMDomics/-2025-05-22 15:48:07
ELMER/-2025-05-22 15:48:07
enrichViewNet/-2025-05-22 15:48:07
EnhancedVolcano/-2025-05-22 15:48:07
EpiMix/-2025-05-22 15:48:07
EpipwR/-2025-05-22 15:48:07
epiregulon.extra/-2025-05-22 15:48:07
enhancerHomologSearch/-2025-05-22 15:48:07
EpiCompare/-2025-05-22 15:48:07
epimutacions/-2025-05-22 15:48:07
ELViS/-2025-05-22 15:48:07
epigenomix/-2025-05-22 15:48:07
epiregulon/-2025-05-22 15:48:07
EpiDISH/-2025-05-22 15:48:07
EnMCB/-2025-05-22 15:48:07
ensembldb/-2025-05-22 15:48:07
EnrichedHeatmap/-2025-05-22 15:48:07
EmpiricalBrownsMethod/-2025-05-22 15:48:07
easylift/-2025-05-22 15:48:06
EBSeq/-2025-05-22 15:48:06
EBcoexpress/-2025-05-22 15:48:06
EDASeq/-2025-05-22 15:48:06
EGAD/-2025-05-22 15:48:06
easyRNASeq/-2025-05-22 15:48:06
ecolitk/-2025-05-22 15:48:06
EBImage/-2025-05-22 15:48:06
DTA/-2025-05-22 15:48:06
eds/-2025-05-22 15:48:06
dStruct/-2025-05-22 15:48:06
dupRadar/-2025-05-22 15:48:06
EBarrays/-2025-05-22 15:48:06
dyebias/-2025-05-22 15:48:06
easier/-2025-05-22 15:48:06
EasyCellType/-2025-05-22 15:48:06
EGSEA/-2025-05-22 15:48:06
easyreporting/-2025-05-22 15:48:06
eiR/-2025-05-22 15:48:06
DynDoc/-2025-05-22 15:48:06
edgeR/-2025-05-22 15:48:06
DuplexDiscovereR/-2025-05-22 15:48:06
EBSEA/-2025-05-22 15:48:06
edge/-2025-05-22 15:48:06
eisaR/-2025-05-22 15:48:06
DSS/-2025-05-22 15:48:06
Dune/-2025-05-22 15:48:06
EDIRquery/-2025-05-22 15:48:06
DOSE/-2025-05-22 15:48:05
doseR/-2025-05-22 15:48:05
DMRScan/-2025-05-22 15:48:05
dominoSignal/-2025-05-22 15:48:05
DMCFB/-2025-05-22 15:48:05
drawProteins/-2025-05-22 15:48:05
dks/-2025-05-22 15:48:05
DNABarcodes/-2025-05-22 15:48:05
dreamlet/-2025-05-22 15:48:05
DNAcycP2/-2025-05-22 15:48:05
doppelgangR/-2025-05-22 15:48:05
DNAfusion/-2025-05-22 15:48:05
DNAcopy/-2025-05-22 15:48:05
DominoEffect/-2025-05-22 15:48:05
drugTargetInteractions/-2025-05-22 15:48:05
DNAshapeR/-2025-05-22 15:48:05
DriverNet/-2025-05-22 15:48:05
DMRcate/-2025-05-22 15:48:05
DropletUtils/-2025-05-22 15:48:05
DrugVsDisease/-2025-05-22 15:48:05
DRIMSeq/-2025-05-22 15:48:05
DMRcaller/-2025-05-22 15:48:05
DMCHMM/-2025-05-22 15:48:05
doubletrouble/-2025-05-22 15:48:05
DNABarcodeCompatibility/-2025-05-22 15:48:05
Doscheda/-2025-05-22 15:48:05
dmrseq/-2025-05-22 15:48:05
diffcoexp/-2025-05-22 15:48:04
diffHic/-2025-05-22 15:48:04
destiny/-2025-05-22 15:48:04
DifferentialRegulation/-2025-05-22 15:48:04
DEWSeq/-2025-05-22 15:48:04
diggit/-2025-05-22 15:48:04
DiffBind/-2025-05-22 15:48:04
diffuStats/-2025-05-22 15:48:04
DFP/-2025-05-22 15:48:04
DiscoRhythm/-2025-05-22 15:48:04
DirichletMultinomial/-2025-05-22 15:48:04
diffcyt/-2025-05-22 15:48:04
discordant/-2025-05-22 15:48:04
dinoR/-2025-05-22 15:48:04
DEsubs/-2025-05-22 15:48:04
Dino/-2025-05-22 15:48:04
diffUTR/-2025-05-22 15:48:04
DEXSeq/-2025-05-22 15:48:04
DFplyr/-2025-05-22 15:48:04
divergence/-2025-05-22 15:48:04
dir.expiry/-2025-05-22 15:48:04
DiffLogo/-2025-05-22 15:48:04
DExMA/-2025-05-22 15:48:04
Director/-2025-05-22 15:48:04
diffGeneAnalysis/-2025-05-22 15:48:04
dittoSeq/-2025-05-22 15:48:04
DIAlignR/-2025-05-22 15:48:04
distinct/-2025-05-22 15:48:04
DeMAND/-2025-05-22 15:48:03
DelayedDataFrame/-2025-05-22 15:48:03
deltaCaptureC/-2025-05-22 15:48:03
DEqMS/-2025-05-22 15:48:03
DEGraph/-2025-05-22 15:48:03
DelayedRandomArray/-2025-05-22 15:48:03
DeMixT/-2025-05-22 15:48:03
DELocal/-2025-05-22 15:48:03
DepecheR/-2025-05-22 15:48:03
demuxmix/-2025-05-22 15:48:03
DEsingle/-2025-05-22 15:48:03
densvis/-2025-05-22 15:48:03
DepInfeR/-2025-05-22 15:48:03
demuxSNP/-2025-05-22 15:48:03
derfinder/-2025-05-22 15:48:03
DelayedMatrixStats/-2025-05-22 15:48:03
DEGseq/-2025-05-22 15:48:03
DeProViR/-2025-05-22 15:48:03
DEScan2/-2025-05-22 15:48:03
derfinderHelper/-2025-05-22 15:48:03
DegNorm/-2025-05-22 15:48:03
DelayedArray/-2025-05-22 15:48:03
DelayedTensor/-2025-05-22 15:48:03
DESpace/-2025-05-22 15:48:03
DEGreport/-2025-05-22 15:48:03
DESeq2/-2025-05-22 15:48:03
DEP/-2025-05-22 15:48:03
derfinderPlot/-2025-05-22 15:48:03
deltaGseg/-2025-05-22 15:48:03
DAPAR/-2025-05-22 15:48:02
debrowser/-2025-05-22 15:48:02
deepSNV/-2025-05-22 15:48:02
DECIPHER/-2025-05-22 15:48:02
dcanr/-2025-05-22 15:48:02
DaMiRseq/-2025-05-22 15:48:02
Damsel/-2025-05-22 15:48:02
DEFormats/-2025-05-22 15:48:02
decontX/-2025-05-22 15:48:02
decompTumor2Sig/-2025-05-22 15:48:02
DeepPINCS/-2025-05-22 15:48:02
dandelionR/-2025-05-22 15:48:02
dar/-2025-05-22 15:48:02
DeconRNASeq/-2025-05-22 15:48:02
DART/-2025-05-22 15:48:02
DeconvoBuddies/-2025-05-22 15:48:02
dce/-2025-05-22 15:48:02
dearseq/-2025-05-22 15:48:02
debCAM/-2025-05-22 15:48:02
ddCt/-2025-05-22 15:48:02
dcGSA/-2025-05-22 15:48:02
ddPCRclust/-2025-05-22 15:48:02
decontam/-2025-05-22 15:48:02
DeepTarget/-2025-05-22 15:48:02
DegCre/-2025-05-22 15:48:02
decoupleR/-2025-05-22 15:48:02
DCATS/-2025-05-22 15:48:02
deconvR/-2025-05-22 15:48:02
cypress/-2025-05-22 15:48:01
cytofQC/-2025-05-22 15:48:01
DAMEfinder/-2025-05-22 15:48:01
cytolib/-2025-05-22 15:48:01
ctsGE/-2025-05-22 15:48:01
cycle/-2025-05-22 15:48:01
cyanoFilter/-2025-05-22 15:48:01
CytoGLMM/-2025-05-22 15:48:01
dagLogo/-2025-05-22 15:48:01
cytoKernel/-2025-05-22 15:48:01
CytoML/-2025-05-22 15:48:01
cydar/-2025-05-22 15:48:01
daMA/-2025-05-22 15:48:01
customCMPdb/-2025-05-22 15:48:01
cummeRbund/-2025-05-22 15:48:01
CytoMDS/-2025-05-22 15:48:01
CyTOFpower/-2025-05-22 15:48:01
cytoMEM/-2025-05-22 15:48:01
CTSV/-2025-05-22 15:48:01
dada2/-2025-05-22 15:48:01
CytoPipelineGUI/-2025-05-22 15:48:01
CytoPipeline/-2025-05-22 15:48:01
CuratedAtlasQueryR/-2025-05-22 15:48:01
cytoviewer/-2025-05-22 15:48:01
customProDB/-2025-05-22 15:48:01
cytomapper/-2025-05-22 15:48:01
CytoDx/-2025-05-22 15:48:01
cqn/-2025-05-22 15:48:00
crisprBase/-2025-05-22 15:48:00
csaw/-2025-05-22 15:48:00
crisprVerse/-2025-05-22 15:48:00
CSSQ/-2025-05-22 15:48:00
CTdata/-2025-05-22 15:48:00
cTRAP/-2025-05-22 15:48:00
CRISPRball/-2025-05-22 15:48:00
crossmeta/-2025-05-22 15:48:00
crisprDesign/-2025-05-22 15:48:00
crisprViz/-2025-05-22 15:48:00
crisprShiny/-2025-05-22 15:48:00
CTexploreR/-2025-05-22 15:48:00
CTDquerier/-2025-05-22 15:48:00
crisprBowtie/-2025-05-22 15:48:00
crlmm/-2025-05-22 15:48:00
ctc/-2025-05-22 15:48:00
CPSM/-2025-05-22 15:48:00
csdR/-2025-05-22 15:48:00
cpvSNP/-2025-05-22 15:48:00
CRISPRseek/-2025-05-22 15:48:00
covRNA/-2025-05-22 15:48:00
crisprScore/-2025-05-22 15:48:00
crisprBwa/-2025-05-22 15:48:00
crumblr/-2025-05-22 15:48:00
CrispRVariants/-2025-05-22 15:48:00
CSAR/-2025-05-22 15:48:00
crupR/-2025-05-22 15:48:00
CRImage/-2025-05-22 15:48:00
cosmiq/-2025-05-22 15:47:59
coRdon/-2025-05-22 15:47:59
ComPrAn/-2025-05-22 15:47:59
convert/-2025-05-22 15:47:59
Cormotif/-2025-05-22 15:47:59
consensusSeekeR/-2025-05-22 15:47:59
CoSIA/-2025-05-22 15:47:59
corral/-2025-05-22 15:47:59
consensusOV/-2025-05-22 15:47:59
COSNet/-2025-05-22 15:47:59
CONSTANd/-2025-05-22 15:47:59
consICA/-2025-05-22 15:47:59
condiments/-2025-05-22 15:47:59
CopyNumberPlots/-2025-05-22 15:47:59
COTAN/-2025-05-22 15:47:59
compSPOT/-2025-05-22 15:47:59
conumee/-2025-05-22 15:47:59
ConsensusClusterPlus/-2025-05-22 15:47:59
coseq/-2025-05-22 15:47:59
consensusDE/-2025-05-22 15:47:59
consensus/-2025-05-22 15:47:59
countsimQC/-2025-05-22 15:47:59
CoreGx/-2025-05-22 15:47:59
CONFESS/-2025-05-22 15:47:59
cosmosR/-2025-05-22 15:47:59
copa/-2025-05-22 15:47:59
CoverageView/-2025-05-22 15:47:59
covEB/-2025-05-22 15:47:59
concordexR/-2025-05-22 15:47:59
cogena/-2025-05-22 15:47:58
CNTools/-2025-05-22 15:47:58
coMethDMR/-2025-05-22 15:47:58
compcodeR/-2025-05-22 15:47:58
combi/-2025-05-22 15:47:58
cola/-2025-05-22 15:47:58
comapr/-2025-05-22 15:47:58
CODEX/-2025-05-22 15:47:58
CNVPanelizer/-2025-05-22 15:47:58
cnvGSA/-2025-05-22 15:47:58
coGPS/-2025-05-22 15:47:58
CoCiteStats/-2025-05-22 15:47:58
CNViz/-2025-05-22 15:47:58
compEpiTools/-2025-05-22 15:47:58
CNVrd2/-2025-05-22 15:47:58
COCOA/-2025-05-22 15:47:58
codelink/-2025-05-22 15:47:58
CNVfilteR/-2025-05-22 15:47:58
CompoundDb/-2025-05-22 15:47:58
CNVMetrics/-2025-05-22 15:47:58
CoGAPS/-2025-05-22 15:47:58
CNVRanger/-2025-05-22 15:47:58
ComplexHeatmap/-2025-05-22 15:47:58
CNORfeeder/-2025-05-22 15:47:58
CNORode/-2025-05-22 15:47:58
coMET/-2025-05-22 15:47:58
Cogito/-2025-05-22 15:47:58
COMPASS/-2025-05-22 15:47:58
CNORfuzzy/-2025-05-22 15:47:58
cogeqc/-2025-05-22 15:47:58
ClusterFoldSimilarity/-2025-05-22 15:47:57
clusterSeq/-2025-05-22 15:47:57
clustSIGNAL/-2025-05-22 15:47:57
CNORdt/-2025-05-22 15:47:57
Clomial/-2025-05-22 15:47:57
cmapR/-2025-05-22 15:47:57
clippda/-2025-05-22 15:47:57
cleaver/-2025-05-22 15:47:57
CNAnorm/-2025-05-22 15:47:57
cn.mops/-2025-05-22 15:47:57
CluMSID/-2025-05-22 15:47:57
clusterExperiment/-2025-05-22 15:47:57
clipper/-2025-05-22 15:47:57
ClustAll/-2025-05-22 15:47:57
clusterProfiler/-2025-05-22 15:47:57
cn.farms/-2025-05-22 15:47:57
CNEr/-2025-05-22 15:47:57
cliProfiler/-2025-05-22 15:47:57
ClusterJudge/-2025-05-22 15:47:57
CMA/-2025-05-22 15:47:57
ClusterSignificance/-2025-05-22 15:47:57
clst/-2025-05-22 15:47:57
clstutils/-2025-05-22 15:47:57
clustifyr/-2025-05-22 15:47:57
clustComp/-2025-05-22 15:47:57
cliqueMS/-2025-05-22 15:47:57
clusterStab/-2025-05-22 15:47:57
clevRvis/-2025-05-22 15:47:57
ClustIRR/-2025-05-22 15:47:57
cisPath/-2025-05-22 15:47:56
ClassifyR/-2025-05-22 15:47:56
CircSeqAlignTk/-2025-05-22 15:47:56
ChIPexoQual/-2025-05-22 15:47:56
chipenrich/-2025-05-22 15:47:56
cleanUpdTSeq/-2025-05-22 15:47:56
chromDraw/-2025-05-22 15:47:56
CHRONOS/-2025-05-22 15:47:56
ChromSCape/-2025-05-22 15:47:56
chipseq/-2025-05-22 15:47:56
chromVAR/-2025-05-22 15:47:56
chromstaR/-2025-05-22 15:47:56
chromPlot/-2025-05-22 15:47:56
CleanUpRNAseq/-2025-05-22 15:47:56
ChIPXpress/-2025-05-22 15:47:56
circRNAprofiler/-2025-05-22 15:47:56
CIMICE/-2025-05-22 15:47:56
ChIPsim/-2025-05-22 15:47:56
ChIPanalyser/-2025-05-22 15:47:56
cicero/-2025-05-22 15:47:56
CINdex/-2025-05-22 15:47:56
ChIPseeker/-2025-05-22 15:47:56
chimeraviz/-2025-05-22 15:47:56
ChIPseqR/-2025-05-22 15:47:56
chopsticks/-2025-05-22 15:47:56
ChIPpeakAnno/-2025-05-22 15:47:56
ChIPComp/-2025-05-22 15:47:56
ChIPQC/-2025-05-22 15:47:56
ChromHeatMap/-2025-05-22 15:47:56
CiteFuse/-2025-05-22 15:47:56
CeTF/-2025-05-22 15:47:55
CGHnormaliter/-2025-05-22 15:47:55
cfdnakit/-2025-05-22 15:47:55
cfDNAPro/-2025-05-22 15:47:55
CGHregions/-2025-05-22 15:47:55
cellscape/-2025-05-22 15:47:55
CFAssay/-2025-05-22 15:47:55
cfTools/-2025-05-22 15:47:55
Cepo/-2025-05-22 15:47:55
ChemmineR/-2025-05-22 15:47:55
ceRNAnetsim/-2025-05-22 15:47:55
chevreulProcess/-2025-05-22 15:47:55
CEMiTool/-2025-05-22 15:47:55
chevreulShiny/-2025-05-22 15:47:55
Chicago/-2025-05-22 15:47:55
CexoR/-2025-05-22 15:47:55
CGHcall/-2025-05-22 15:47:55
ChAMP/-2025-05-22 15:47:55
cellxgenedp/-2025-05-22 15:47:55
CellScore/-2025-05-22 15:47:55
cghMCR/-2025-05-22 15:47:55
CGEN/-2025-05-22 15:47:55
chihaya/-2025-05-22 15:47:55
CHETAH/-2025-05-22 15:47:55
CGHbase/-2025-05-22 15:47:55
censcyt/-2025-05-22 15:47:55
chevreulPlot/-2025-05-22 15:47:55
CellTrails/-2025-05-22 15:47:55
ChemmineOB/-2025-05-22 15:47:55
CDI/-2025-05-22 15:47:54
CBNplot/-2025-05-22 15:47:54
cbaf/-2025-05-22 15:47:54
cellity/-2025-05-22 15:47:54
CellNOptR/-2025-05-22 15:47:54
CCPROMISE/-2025-05-22 15:47:54
celda/-2025-05-22 15:47:54
cellbaseR/-2025-05-22 15:47:54
CATALYST/-2025-05-22 15:47:54
CellBench/-2025-05-22 15:47:54
ccmap/-2025-05-22 15:47:54
cBioPortalData/-2025-05-22 15:47:54
celaref/-2025-05-22 15:47:54
cbpManager/-2025-05-22 15:47:54
CellMapper/-2025-05-22 15:47:54
CatsCradle/-2025-05-22 15:47:54
cellmigRation/-2025-05-22 15:47:54
Category/-2025-05-22 15:47:54
CellBarcode/-2025-05-22 15:47:54
categoryCompare/-2025-05-22 15:47:54
CCAFE/-2025-05-22 15:47:54
ccImpute/-2025-05-22 15:47:54
ccrepe/-2025-05-22 15:47:54
ccfindR/-2025-05-22 15:47:54
CausalR/-2025-05-22 15:47:54
CBEA/-2025-05-22 15:47:54
CelliD/-2025-05-22 15:47:54
CellMixS/-2025-05-22 15:47:54
CCPlotR/-2025-05-22 15:47:54
BUScorrect/-2025-05-22 15:47:53
CAFE/-2025-05-22 15:47:53
BulkSignalR/-2025-05-22 15:47:53
CaDrA/-2025-05-22 15:47:53
BUSseq/-2025-05-22 15:47:53
BUS/-2025-05-22 15:47:53
CAEN/-2025-05-22 15:47:53
BumpyMatrix/-2025-05-22 15:47:53
CAGEr/-2025-05-22 15:47:53
canceR/-2025-05-22 15:47:53
BUSpaRse/-2025-05-22 15:47:53
CAMERA/-2025-05-22 15:47:53
BufferedMatrixMethods/-2025-05-22 15:47:53
calm/-2025-05-22 15:47:53
BUMHMM/-2025-05-22 15:47:53
CAGEfightR/-2025-05-22 15:47:53
CARNIVAL/-2025-05-22 15:47:53
CardinalIO/-2025-05-22 15:47:53
CaMutQC/-2025-05-22 15:47:53
cageminer/-2025-05-22 15:47:53
BubbleTree/-2025-05-22 15:47:53
bumphunter/-2025-05-22 15:47:53
CARDspa/-2025-05-22 15:47:53
cancerclass/-2025-05-22 15:47:53
Cardinal/-2025-05-22 15:47:53
bugsigdbr/-2025-05-22 15:47:53
casper/-2025-05-22 15:47:53
cardelino/-2025-05-22 15:47:53
BufferedMatrix/-2025-05-22 15:47:53
BridgeDbR/-2025-05-22 15:47:52
blacksheepr/-2025-05-22 15:47:52
breakpointR/-2025-05-22 15:47:52
BLMA/-2025-05-22 15:47:52
BRAIN/-2025-05-22 15:47:52
bsseq/-2025-05-22 15:47:52
BREW3R.r/-2025-05-22 15:47:52
BiSeq/-2025-05-22 15:47:52
biotmle/-2025-05-22 15:47:52
branchpointer/-2025-05-22 15:47:52
blima/-2025-05-22 15:47:52
BreastSubtypeR/-2025-05-22 15:47:52
biscuiteer/-2025-05-22 15:47:52
biovizBase/-2025-05-22 15:47:52
BOBaFIT/-2025-05-22 15:47:52
BSgenomeForge/-2025-05-22 15:47:52
BPRMeth/-2025-05-22 15:47:52
BiRewire/-2025-05-22 15:47:52
bnbc/-2025-05-22 15:47:52
Biostrings/-2025-05-22 15:47:52
BrowserViz/-2025-05-22 15:47:52
bluster/-2025-05-22 15:47:52
BSgenome/-2025-05-22 15:47:52
bnem/-2025-05-22 15:47:52
BloodGen3Module/-2025-05-22 15:47:52
borealis/-2025-05-22 15:47:52
BioTIP/-2025-05-22 15:47:52
broadSeq/-2025-05-22 15:47:52
brendaDb/-2025-05-22 15:47:52
biodbChebi/-2025-05-22 15:47:51
BioMVCClass/-2025-05-22 15:47:51
biodbUniprot/-2025-05-22 15:47:51
biodbHmdb/-2025-05-22 15:47:51
biosigner/-2025-05-22 15:47:51
BioNet/-2025-05-22 15:47:51
BiocWorkflowTools/-2025-05-22 15:47:51
BioGA/-2025-05-22 15:47:51
BiocVersion/-2025-05-22 15:47:51
BioNERO/-2025-05-22 15:47:51
biodbNcbi/-2025-05-22 15:47:51
BiocSklearn/-2025-05-22 15:47:51
biomformat/-2025-05-22 15:47:51
biodb/-2025-05-22 15:47:51
biocthis/-2025-05-22 15:47:51
biomaRt/-2025-05-22 15:47:51
biomvRCNS/-2025-05-22 15:47:51
bioDist/-2025-05-22 15:47:51
BiocSingular/-2025-05-22 15:47:51
BioNAR/-2025-05-22 15:47:51
biocViews/-2025-05-22 15:47:51
biodbNci/-2025-05-22 15:47:51
BiocStyle/-2025-05-22 15:47:51
BioQC/-2025-05-22 15:47:51
bioassayR/-2025-05-22 15:47:50
BiocIO/-2025-05-22 15:47:50
BiocBaseUtils/-2025-05-22 15:47:50
BicARE/-2025-05-22 15:47:50
BiocGenerics/-2025-05-22 15:47:50
biocroxytest/-2025-05-22 15:47:50
biocmake/-2025-05-22 15:47:50
BiocHubsShiny/-2025-05-22 15:47:50
BiGGR/-2025-05-22 15:47:50
BiFET/-2025-05-22 15:47:50
bigmelon/-2025-05-22 15:47:50
BgeeCall/-2025-05-22 15:47:50
biobroom/-2025-05-22 15:47:50
BiocPkgTools/-2025-05-22 15:47:50
Biobase/-2025-05-22 15:47:50
BiocSet/-2025-05-22 15:47:50
BioCartaImage/-2025-05-22 15:47:50
BiocFileCache/-2025-05-22 15:47:50
BiocFHIR/-2025-05-22 15:47:50
bgx/-2025-05-22 15:47:50
BiocCheck/-2025-05-22 15:47:50
BiocNeighbors/-2025-05-22 15:47:50
BiocBook/-2025-05-22 15:47:50
biocGraph/-2025-05-22 15:47:50
BioCor/-2025-05-22 15:47:50
biobtreeR/-2025-05-22 15:47:50
BindingSiteFinder/-2025-05-22 15:47:50
bioCancer/-2025-05-22 15:47:50
BgeeDB/-2025-05-22 15:47:50
BiocParallel/-2025-05-22 15:47:50
BiocHail/-2025-05-22 15:47:50
beadarray/-2025-05-22 15:47:49
BEAT/-2025-05-22 15:47:49
basilisk/-2025-05-22 15:47:49
batchelor/-2025-05-22 15:47:49
beer/-2025-05-22 15:47:49
bcSeq/-2025-05-22 15:47:49
bayNorm/-2025-05-22 15:47:49
BayesSpace/-2025-05-22 15:47:49
beachmat/-2025-05-22 15:47:49
benchdamic/-2025-05-22 15:47:49
beachmat.hdf5/-2025-05-22 15:47:49
baySeq/-2025-05-22 15:47:49
BCRANK/-2025-05-22 15:47:49
BASiCStan/-2025-05-22 15:47:49
BASiCS/-2025-05-22 15:47:49
BatchQC/-2025-05-22 15:47:49
basilisk.utils/-2025-05-22 15:47:49
BG2/-2025-05-22 15:47:49
BatchSVG/-2025-05-22 15:47:49
beachmat.tiledb/-2025-05-22 15:47:49
BeadDataPackR/-2025-05-22 15:47:49
bettr/-2025-05-22 15:47:49
BasicSTARRseq/-2025-05-22 15:47:49
betaHMM/-2025-05-22 15:47:49
BBCAnalyzer/-2025-05-22 15:47:49
BERT/-2025-05-22 15:47:49
BEclear/-2025-05-22 15:47:49
BEARscc/-2025-05-22 15:47:49
bedbaser/-2025-05-22 15:47:49
BayesKnockdown/-2025-05-22 15:47:49
awst/-2025-05-22 15:47:48
BaalChIP/-2025-05-22 15:47:48
basecallQC/-2025-05-22 15:47:48
attract/-2025-05-22 15:47:48
ATACseqTFEA/-2025-05-22 15:47:48
ATACseqQC/-2025-05-22 15:47:48
ASURAT/-2025-05-22 15:47:48
ballgown/-2025-05-22 15:47:48
bambu/-2025-05-22 15:47:48
autonomics/-2025-05-22 15:47:48
Basic4Cseq/-2025-05-22 15:47:48
bamsignals/-2025-05-22 15:47:48
atena/-2025-05-22 15:47:48
atSNP/-2025-05-22 15:47:48
assorthead/-2025-05-22 15:47:48
BadRegionFinder/-2025-05-22 15:47:48
bandle/-2025-05-22 15:47:48
barbieQ/-2025-05-22 15:47:48
barcodetrackR/-2025-05-22 15:47:48
ASSIGN/-2025-05-22 15:47:48
BANDITS/-2025-05-22 15:47:48
BaseSpaceR/-2025-05-22 15:47:48
AUCell/-2025-05-22 15:47:48
bacon/-2025-05-22 15:47:48
BAGS/-2025-05-22 15:47:48
BADER/-2025-05-22 15:47:48
ASSET/-2025-05-22 15:47:48
AWFisher/-2025-05-22 15:47:48
Banksy/-2025-05-22 15:47:48
banocc/-2025-05-22 15:47:48
ASpli/-2025-05-22 15:47:47
AnVIL/-2025-05-22 15:47:47
annotatr/-2025-05-22 15:47:47
artMS/-2025-05-22 15:47:47
AnVILBilling/-2025-05-22 15:47:47
arrayMvout/-2025-05-22 15:47:47
apComplex/-2025-05-22 15:47:47
AnVILGCP/-2025-05-22 15:47:47
appreci8R/-2025-05-22 15:47:47
ASICS/-2025-05-22 15:47:47
antiProfiles/-2025-05-22 15:47:47
APL/-2025-05-22 15:47:47
apeglm/-2025-05-22 15:47:47
ArrayExpress/-2025-05-22 15:47:47
ASEB/-2025-05-22 15:47:47
anota/-2025-05-22 15:47:47
AssessORF/-2025-05-22 15:47:47
ASAFE/-2025-05-22 15:47:47
AnVILWorkflow/-2025-05-22 15:47:47
AnVILAz/-2025-05-22 15:47:47
anota2seq/-2025-05-22 15:47:47
ASGSCA/-2025-05-22 15:47:47
APAlyzer/-2025-05-22 15:47:47
aroma.light/-2025-05-22 15:47:47
annotationTools/-2025-05-22 15:47:47
arrayQualityMetrics/-2025-05-22 15:47:47
AnVILBase/-2025-05-22 15:47:47
ARRmNormalization/-2025-05-22 15:47:47
AnVILPublish/-2025-05-22 15:47:47
arrayQuality/-2025-05-22 15:47:47
ANF/-2025-05-22 15:47:46
AnnotationForge/-2025-05-22 15:47:46
AnnotationFilter/-2025-05-22 15:47:46
alabaster.string/-2025-05-22 15:47:46
altcdfenvs/-2025-05-22 15:47:46
alabaster.vcf/-2025-05-22 15:47:46
alabaster.sfe/-2025-05-22 15:47:46
alabaster.schemas/-2025-05-22 15:47:46
annotate/-2025-05-22 15:47:46
AnnotationHubData/-2025-05-22 15:47:46
AllelicImbalance/-2025-05-22 15:47:46
alabaster.ranges/-2025-05-22 15:47:46
alevinQC/-2025-05-22 15:47:46
AnnotationHub/-2025-05-22 15:47:46
annaffy/-2025-05-22 15:47:46
AlpsNMR/-2025-05-22 15:47:46
ANCOMBC/-2025-05-22 15:47:46
AMOUNTAIN/-2025-05-22 15:47:46
alabaster.se/-2025-05-22 15:47:46
AnnotationDbi/-2025-05-22 15:47:46
alabaster.sce/-2025-05-22 15:47:46
alabaster.spatial/-2025-05-22 15:47:46
AlphaMissenseR/-2025-05-22 15:47:46
AMARETTO/-2025-05-22 15:47:46
amplican/-2025-05-22 15:47:46
Anaquin/-2025-05-22 15:47:46
ALDEx2/-2025-05-22 15:47:46
annmap/-2025-05-22 15:47:46
AneuFinder/-2025-05-22 15:47:46
animalcules/-2025-05-22 15:47:46
AlphaBeta/-2025-05-22 15:47:46
airpart/-2025-05-22 15:47:45
ADImpute/-2025-05-22 15:47:45
AffiXcan/-2025-05-22 15:47:45
AGDEX/-2025-05-22 15:47:45
affyPLM/-2025-05-22 15:47:45
alabaster.files/-2025-05-22 15:47:45
affycomp/-2025-05-22 15:47:45
affyContam/-2025-05-22 15:47:45
alabaster.mae/-2025-05-22 15:47:45
AIMS/-2025-05-22 15:47:45
affxparser/-2025-05-22 15:47:45
adductomicsR/-2025-05-22 15:47:45
affy/-2025-05-22 15:47:45
adverSCarial/-2025-05-22 15:47:45
alabaster.bumpy/-2025-05-22 15:47:45
alabaster.matrix/-2025-05-22 15:47:45
affyILM/-2025-05-22 15:47:45
adSplit/-2025-05-22 15:47:45
affylmGUI/-2025-05-22 15:47:45
AHMassBank/-2025-05-22 15:47:45
ADAPT/-2025-05-22 15:47:45
agilp/-2025-05-22 15:47:45
affyio/-2025-05-22 15:47:45
aggregateBioVar/-2025-05-22 15:47:45
alabaster/-2025-05-22 15:47:45
AffyRNADegradation/-2025-05-22 15:47:45
affycoretools/-2025-05-22 15:47:45
alabaster.base/-2025-05-22 15:47:45
AgiMicroRna/-2025-05-22 15:47:45
a4Reporting/-2025-05-22 15:47:44
a4Base/-2025-05-22 15:47:44
ABSSeq/-2025-05-22 15:47:44
ADAM/-2025-05-22 15:47:44
ADaCGH2/-2025-05-22 15:47:44
ADAMgui/-2025-05-22 15:47:44
ABarray/-2025-05-22 15:47:44
a4/-2025-05-22 15:47:44
a4Classif/-2025-05-22 15:47:44
a4Preproc/-2025-05-22 15:47:44
ACME/-2025-05-22 15:47:44
a4Core/-2025-05-22 15:47:44
aCGH/-2025-05-22 15:47:44
ACE/-2025-05-22 15:47:44
abseqR/-2025-05-22 15:47:44
acde/-2025-05-22 15:47:44
RbowtieCuda/-2025-05-22 15:40:15
GeneGeneInteR/-2025-05-22 15:39:35
single/-2024-10-24 15:04:43
SummarizedBenchmark/-2024-10-24 15:04:43
Risa/-2024-10-24 15:04:43
RNAinteract/-2024-10-24 15:04:43
psygenet2r/-2024-10-24 15:04:42
polyester/-2024-10-24 15:04:42
RandomWalkRestartMH/-2024-10-24 15:04:42
rDGIdb/-2024-10-24 15:04:42
Pi/-2024-10-24 15:04:42
nanotatoR/-2024-10-24 15:04:41
MQmetrics/-2024-10-24 15:04:41
microbiomeMarker/-2024-10-24 15:04:41
netOmics/-2024-10-24 15:04:41
brainflowprobes/-2024-10-24 15:04:38
BiocOncoTK/-2024-10-24 15:04:38
biodbKegg/-2024-10-24 15:04:38
biodbExpasy/-2024-10-24 15:04:38
CellaRepertorium/-2024-10-24 15:04:38
BRGenomics/-2024-10-24 15:04:38
ATACCoGAPS/-2024-10-24 15:04:37
report.tgz123.2 MiB2025-05-22 15:51:20
long-report.html16.4 MiB2025-05-22 15:49:57
index.html1.3 MiB2025-05-22 15:49:35
kunpeng2-index.html2.6 MiB2025-05-22 15:49:34
kjohnson1-index.html3.4 MiB2025-05-22 15:49:28
merida1-index.html3.4 MiB2025-05-22 15:49:21
palomino7-index.html3.4 MiB2025-05-22 15:49:17
nebbiolo1-index.html3.0 MiB2025-05-22 15:49:13
nebbiolo1-R-instpkgs.html529.8 KiB2025-05-22 15:38:51
120px-Green_Light_Icon.svg.png7.1 KiB2025-05-22 15:38:51
palomino7-R-instpkgs.html470.1 KiB2025-05-22 15:38:51
kjohnson1-R-instpkgs.html605.9 KiB2025-05-22 15:38:51
120px-Red_Light_Icon.svg.png7.0 KiB2025-05-22 15:38:51
report.css11.4 KiB2025-05-22 15:38:51
kunpeng2-NodeInfo.html7.7 KiB2025-05-22 15:38:51
kunpeng2-R-instpkgs.html523.5 KiB2025-05-22 15:38:51
Renviron.bioc3.3 KiB2025-05-22 15:38:51
nebbiolo1-NodeInfo.html7.1 KiB2025-05-22 15:38:51
120px-Blue_Light_Icon.svg.png7.1 KiB2025-05-22 15:38:51
DEVEL3b.png2.6 KiB2025-05-22 15:38:51
kjohnson1-NodeInfo.html6.7 KiB2025-05-22 15:38:51
merida1-NodeInfo.html6.8 KiB2025-05-22 15:38:51
merida1-R-instpkgs.html616.5 KiB2025-05-22 15:38:51
report.js6.0 KiB2025-05-22 15:38:51
palomino7-NodeInfo.html7.0 KiB2025-05-22 15:38:51
skipped-index.dcf24 B2025-05-22 15:38:50
meat-index.dcf241.0 KiB2025-05-22 15:38:50
pkg_dep_graph.txt386.9 KiB2025-05-22 15:38:50
PROPAGATION_STATUS_DB.txt692.7 KiB2025-05-22 15:38:50
BUILD_STATUS_DB.txt1.3 MiB2025-05-22 15:38:50
kjohnson3-index.html3.3 MiB2025-04-22 17:20:44
lconway-index.html3.2 MiB2025-04-22 17:20:39
lconway-R-instpkgs.html616.3 KiB2025-04-22 17:10:45
kjohnson3-R-instpkgs.html605.7 KiB2025-04-22 17:10:45
kjohnson3-NodeInfo.html6.7 KiB2025-04-22 17:10:45
lconway-NodeInfo.html6.7 KiB2025-04-22 17:10:45