Welcome to mirrors.dotsrc.org

All our mirrors of open source software are available via http, https, ftp and an onion service. More information about our mirrors including statistics and contact information is available on our mirror info pages.

For information about dotsrc.org and our other services please go to our website.

Index of /bioconductor/checkResults/3.20/data-experiment-LATEST/

File Name  ↓ File Size  ↓ Date  ↓ 
Parent directory/--
NCIgraphData/-2025-04-01 19:41:56
bsseqData/-2025-04-01 19:41:55
TCGAMethylation450k/-2025-04-01 19:41:56
curatedTCGAData/-2025-04-01 19:41:55
yeastExpData/-2025-04-01 19:41:57
lydata/-2025-04-01 19:41:56
HelloRangesData/-2025-04-01 19:41:56
PREDAsampledata/-2025-04-01 19:41:56
blimaTestingData/-2025-04-01 19:41:55
adductData/-2025-04-01 19:41:55
RTCGA.methylation/-2025-04-01 19:41:56
RGMQLlib/-2025-04-01 19:41:56
Neve2006/-2025-04-01 19:41:56
mtbls2/-2025-04-01 19:41:56
curatedAdipoChIP/-2025-04-01 19:41:55
mouse4302barcodevecs/-2025-04-01 19:41:56
chromstaRData/-2025-04-01 19:41:55
scanMiRData/-2025-04-01 19:41:56
timecoursedata/-2025-04-01 19:41:56
brgedata/-2025-04-01 19:41:55
tartare/-2025-04-01 19:41:56
Illumina450ProbeVariants.db/-2025-04-01 19:41:56
GSBenchMark/-2025-04-01 19:41:56
JohnsonKinaseData/-2025-04-01 19:41:56
DropletTestFiles/-2025-04-01 19:41:55
GWASdata/-2025-04-01 19:41:56
prostateCancerGrasso/-2025-04-01 19:41:56
RTCGA.rnaseq/-2025-04-01 19:41:56
shinyMethylData/-2025-04-01 19:41:56
DmelSGI/-2025-04-01 19:41:55
COPDSexualDimorphism.data/-2025-04-01 19:41:55
MetaGxPancreas/-2025-04-01 19:41:56
MOFAdata/-2025-04-01 19:41:56
CluMSIDdata/-2025-04-01 19:41:55
CopyhelpeR/-2025-04-01 19:41:55
FlowSorted.DLPFC.450k/-2025-04-01 19:41:56
MerfishData/-2025-04-01 19:41:56
RUVnormalizeData/-2025-04-01 19:41:56
DMRcatedata/-2025-04-01 19:41:55
HumanAffyData/-2025-04-01 19:41:56
yeastGSData/-2025-04-01 19:41:57
HCAData/-2025-04-01 19:41:56
ASICSdata/-2025-04-01 19:41:55
MetaGxBreast/-2025-04-01 19:41:56
maqcExpression4plex/-2025-04-01 19:41:56
nanotubes/-2025-04-01 19:41:56
CLLmethylation/-2025-04-01 19:41:55
PCHiCdata/-2025-04-01 19:41:56
DLBCL/-2025-04-01 19:41:55
flowWorkspaceData/-2025-04-01 19:41:56
SingleMoleculeFootprintingData/-2025-04-01 19:41:56
PhyloProfileData/-2025-04-01 19:41:56
healthyControlsPresenceChecker/-2025-04-01 19:41:56
leukemiasEset/-2025-04-01 19:41:56
CCl4/-2025-04-01 19:41:55
SomatiCAData/-2025-04-01 19:41:56
humanStemCell/-2025-04-01 19:41:56
benchmarkfdrData2019/-2025-04-01 19:41:55
RRBSdata/-2025-04-01 19:41:56
hgu2beta7/-2025-04-01 19:41:56
diffloopdata/-2025-04-01 19:41:55
harbChIP/-2025-04-01 19:41:56
HiCDataHumanIMR90/-2025-04-01 19:41:56
flowPloidyData/-2025-04-01 19:41:56
metaMSdata/-2025-04-01 19:41:56
prostateCancerStockholm/-2025-04-01 19:41:56
KOdata/-2025-04-01 19:41:56
hapmap500knsp/-2025-04-01 19:41:56
topdownrdata/-2025-04-01 19:41:56
oct4/-2025-04-01 19:41:56
pd.atdschip.tiling/-2025-04-01 19:41:56
MethylAidData/-2025-04-01 19:41:56
HD2013SGI/-2025-04-01 19:41:56
FlowSorted.CordBloodNorway.450k/-2025-04-01 19:41:56
hapmap500ksty/-2025-04-01 19:41:56
VariantToolsData/-2025-04-01 19:41:57
MSMB/-2025-04-01 19:41:56
cnvGSAdata/-2025-04-01 19:41:55
FlowSorted.Blood.450k/-2025-04-01 19:41:56
RNAseqData.HNRNPC.bam.chr14/-2025-04-01 19:41:56
estrogen/-2025-04-01 19:41:56
curatedBreastData/-2025-04-01 19:41:55
RforProteomics/-2025-04-01 19:41:56
frmaExampleData/-2025-04-01 19:41:56
mCSEAdata/-2025-04-01 19:41:56
etec16s/-2025-04-01 19:41:56
beta7/-2025-04-01 19:41:55
RnBeads.rn5/-2025-04-01 19:41:56
EpipwR.data/-2025-04-01 19:41:56
crisprScoreData/-2025-04-01 19:41:55
Single.mTEC.Transcriptomes/-2025-04-01 19:41:56
raerdata/-2025-04-01 19:41:56
hapmapsnp5/-2025-04-01 19:41:56
simpIntLists/-2025-04-01 19:41:56
imcdatasets/-2025-04-01 19:41:56
serumStimulation/-2025-04-01 19:41:56
tissueTreg/-2025-04-01 19:41:56
cancerdata/-2025-04-01 19:41:55
prostateCancerCamcap/-2025-04-01 19:41:56
curatedPCaData/-2025-04-01 19:41:55
qPLEXdata/-2025-04-01 19:41:56
epimutacionsData/-2025-04-01 19:41:56
MACSdata/-2025-04-01 19:41:56
SNAData/-2025-04-01 19:41:56
HiCDataLymphoblast/-2025-04-01 19:41:56
msPurityData/-2025-04-01 19:41:56
homosapienDEE2CellScore/-2025-04-01 19:41:56
OMICsPCAdata/-2025-04-01 19:41:56
hapmap100khind/-2025-04-01 19:41:56
rRDPData/-2025-04-01 19:41:56
grndata/-2025-04-01 19:41:56
mvoutData/-2025-04-01 19:41:56
chipseqDBData/-2025-04-01 19:41:55
FANTOM3and4CAGE/-2025-04-01 19:41:56
TENxBrainData/-2025-04-01 19:41:56
RnBeads.mm9/-2025-04-01 19:41:56
HIVcDNAvantWout03/-2025-04-01 19:41:56
TENxVisiumData/-2025-04-01 19:41:56
celarefData/-2025-04-01 19:41:55
DExMAdata/-2025-04-01 19:41:55
ALLMLL/-2025-04-01 19:41:55
muscData/-2025-04-01 19:41:56
MEDIPSData/-2025-04-01 19:41:56
Hiiragi2013/-2025-04-01 19:41:56
HDCytoData/-2025-04-01 19:41:56
WeberDivechaLCdata/-2025-04-01 19:41:57
ChIPexoQualExample/-2025-04-01 19:41:55
HiContactsData/-2025-04-01 19:41:56
methylclockData/-2025-04-01 19:41:56
hapmap100kxba/-2025-04-01 19:41:56
RnaSeqSampleSizeData/-2025-04-01 19:41:56
leeBamViews/-2025-04-01 19:41:56
tinesath1cdf/-2025-04-01 19:41:56
DNAZooData/-2025-04-01 19:41:55
ChAMPdata/-2025-04-01 19:41:55
Iyer517/-2025-04-01 19:41:56
JASPAR2014/-2025-04-01 19:41:56
M3DExampleData/-2025-04-01 19:41:56
spatialLIBD/-2025-04-01 19:41:56
miRcompData/-2025-04-01 19:41:56
HSMMSingleCell/-2025-04-01 19:41:56
rheumaticConditionWOLLBOLD/-2025-04-01 19:41:56
mcsurvdata/-2025-04-01 19:41:56
minfiData/-2025-04-01 19:41:56
MMDiffBamSubset/-2025-04-01 19:41:56
CRCL18/-2025-04-01 19:41:55
preciseTADhub/-2025-04-01 19:41:56
Affyhgu133Plus2Expr/-2025-04-01 19:41:55
bladderbatch/-2025-04-01 19:41:55
TENxPBMCData/-2025-04-01 19:41:56
breakpointRdata/-2025-04-01 19:41:55
PWMEnrich.Hsapiens.background/-2025-04-01 19:41:56
STexampleData/-2025-04-01 19:41:56
ProData/-2025-04-01 19:41:56
NestLink/-2025-04-01 19:41:56
DAPARdata/-2025-04-01 19:41:55
RnBeads.mm10/-2025-04-01 19:41:56
CytoMethIC/-2025-04-01 19:41:55
TumourMethData/-2025-04-01 19:41:57
kidpack/-2025-04-01 19:41:56
GSE159526/-2025-04-01 19:41:56
SpikeIn/-2025-04-01 19:41:56
HMP2Data/-2025-04-01 19:41:56
AshkenazimSonChr21/-2025-04-01 19:41:55
LRcellTypeMarkers/-2025-04-01 19:41:56
bronchialIL13/-2025-04-01 19:41:55
SimBenchData/-2025-04-01 19:41:56
tinesath1probe/-2025-04-01 19:41:56
EGSEAdata/-2025-04-01 19:41:56
PasillaTranscriptExpr/-2025-04-01 19:41:56
pumadata/-2025-04-01 19:41:56
RnBeads.hg19/-2025-04-01 19:41:56
bugphyzz/-2025-04-01 19:41:55
MetaScope/-2025-04-01 19:41:56
MouseAgingData/-2025-04-01 19:41:56
TabulaMurisSenisData/-2025-04-01 19:41:56
tofsimsData/-2025-04-01 19:41:56
NanoporeRNASeq/-2025-04-01 19:41:56
TimerQuant/-2025-04-01 19:41:56
curatedTBData/-2025-04-01 19:41:55
mosaicsExample/-2025-04-01 19:41:56
FlowSorted.Blood.EPIC/-2025-04-01 19:41:56
scRNAseq/-2025-04-01 19:41:56
RTCGA.PANCAN12/-2025-04-01 19:41:56
pasillaBamSubset/-2025-04-01 19:41:56
GSVAdata/-2025-04-01 19:41:56
hgu133plus2CellScore/-2025-04-01 19:41:56
marinerData/-2025-04-01 19:41:56
octad.db/-2025-04-01 19:41:56
davidTiling/-2025-04-01 19:41:55
NetActivityData/-2025-04-01 19:41:56
tweeDEseqCountData/-2025-04-01 19:41:57
ListerEtAlBSseq/-2025-04-01 19:41:56
RTCGA.clinical/-2025-04-01 19:41:56
hapmapsnp6/-2025-04-01 19:41:56
SpikeInSubset/-2025-04-01 19:41:56
PWMEnrich.Mmusculus.background/-2025-04-01 19:41:56
cMap2data/-2025-04-01 19:41:55
IHWpaper/-2025-04-01 19:41:56
SNAGEEdata/-2025-04-01 19:41:56
ptairData/-2025-04-01 19:41:56
AssessORFData/-2025-04-01 19:41:55
TCGAWorkflowData/-2025-04-01 19:41:56
ChimpHumanBrainData/-2025-04-01 19:41:55
dorothea/-2025-04-01 19:41:55
chipenrich.data/-2025-04-01 19:41:55
stemHypoxia/-2025-04-01 19:41:56
RnBeads.hg38/-2025-04-01 19:41:56
yeastCC/-2025-04-01 19:41:57
h5vcData/-2025-04-01 19:41:56
SBGNview.data/-2025-04-01 19:41:56
lumiBarnes/-2025-04-01 19:41:56
BloodCancerMultiOmics2017/-2025-04-01 19:41:55
NGScopyData/-2025-04-01 19:41:56
curatedMetagenomicData/-2025-04-01 19:41:55
smokingMouse/-2025-04-01 19:41:56
RNAmodR.Data/-2025-04-01 19:41:56
biotmleData/-2025-04-01 19:41:55
Affyhgu133aExpr/-2025-04-01 19:41:55
RcisTarget.hg19.motifDBs.cisbpOnly.500bp/-2025-04-01 19:41:56
curatedCRCData/-2025-04-01 19:41:55
QDNAseq.mm10/-2025-04-01 19:41:56
fourDNData/-2025-04-01 19:41:56
yeastRNASeq/-2025-04-01 19:41:57
msqc1/-2025-04-01 19:41:56
systemPipeRdata/-2025-04-01 19:41:56
fission/-2025-04-01 19:41:56
pRolocdata/-2025-04-01 19:41:56
msdata/-2025-04-01 19:41:56
dressCheck/-2025-04-01 19:41:55
Fletcher2013a/-2025-04-01 19:41:56
BioPlex/-2025-04-01 19:41:55
emtdata/-2025-04-01 19:41:56
WGSmapp/-2025-04-01 19:41:57
breastCancerMAINZ/-2025-04-01 19:41:55
msd16s/-2025-04-01 19:41:56
AneuFinderData/-2025-04-01 19:41:55
LungCancerACvsSCCGEO/-2025-04-01 19:41:56
scaeData/-2025-04-01 19:41:56
spqnData/-2025-04-01 19:41:56
aracne.networks/-2025-04-01 19:41:55
TabulaMurisData/-2025-04-01 19:41:56
MicrobiomeBenchmarkData/-2025-04-01 19:41:56
SingleCellMultiModal/-2025-04-01 19:41:56
DrugVsDiseasedata/-2025-04-01 19:41:55
sesameData/-2025-04-01 19:41:56
beadarrayExampleData/-2025-04-01 19:41:55
furrowSeg/-2025-04-01 19:41:56
RMassBankData/-2025-04-01 19:41:56
gDNAinRNAseqData/-2025-04-01 19:41:56
CopyNeutralIMA/-2025-04-01 19:41:55
affydata/-2025-04-01 19:41:55
RTCGA.CNV/-2025-04-01 19:41:56
gDRtestData/-2025-04-01 19:41:56
ewceData/-2025-04-01 19:41:56
pasilla/-2025-04-01 19:41:56
SCLCBam/-2025-04-01 19:41:56
COSMIC.67/-2025-04-01 19:41:55
HarmonizedTCGAData/-2025-04-01 19:41:56
fibroEset/-2025-04-01 19:41:56
LegATo/-2025-04-01 19:41:56
airway/-2025-04-01 19:41:55
RITANdata/-2025-04-01 19:41:56
RTCGA.miRNASeq/-2025-04-01 19:41:56
muleaData/-2025-04-01 19:41:56
HighlyReplicatedRNASeq/-2025-04-01 19:41:56
ELMER.data/-2025-04-01 19:41:56
RTCGA.RPPA/-2025-04-01 19:41:56
prostateCancerVarambally/-2025-04-01 19:41:56
MAQCsubset/-2025-04-01 19:41:56
PtH2O2lipids/-2025-04-01 19:41:56
fabiaData/-2025-04-01 19:41:56
scMultiome/-2025-04-01 19:41:56
ProteinGymR/-2025-04-01 19:41:56
SomaticCancerAlterations/-2025-04-01 19:41:56
gaschYHS/-2025-04-01 19:41:56
ReactomeGSA.data/-2025-04-01 19:41:56
ALL/-2025-04-01 19:41:55
curatedOvarianData/-2025-04-01 19:41:55
multiWGCNAdata/-2025-04-01 19:41:56
breastCancerVDX/-2025-04-01 19:41:55
ObMiTi/-2025-04-01 19:41:56
EatonEtAlChIPseq/-2025-04-01 19:41:56
GSE13015/-2025-04-01 19:41:56
MEEBOdata/-2025-04-01 19:41:56
DeSousa2013/-2025-04-01 19:41:55
VectraPolarisData/-2025-04-01 19:41:57
OnassisJavaLibs/-2025-04-01 19:41:56
DvDdata/-2025-04-01 19:41:56
genomationData/-2025-04-01 19:41:56
optimalFlowData/-2025-04-01 19:41:56
pepDat/-2025-04-01 19:41:56
orthosData/-2025-04-01 19:41:56
macrophage/-2025-04-01 19:41:56
Affyhgu133A2Expr/-2025-04-01 19:41:55
cfToolsData/-2025-04-01 19:41:55
bodymapRat/-2025-04-01 19:41:55
KEGGdzPathwaysGEO/-2025-04-01 19:41:56
biscuiteerData/-2025-04-01 19:41:55
RNAinteractMAPK/-2025-04-01 19:41:56
MouseThymusAgeing/-2025-04-01 19:41:56
AffymetrixDataTestFiles/-2025-04-01 19:41:55
scTHI.data/-2025-04-01 19:41:56
prostateCancerTaylor/-2025-04-01 19:41:56
clustifyrdatahub/-2025-04-01 19:41:55
QDNAseq.hg19/-2025-04-01 19:41:56
SNPhoodData/-2025-04-01 19:41:56
TMExplorer/-2025-04-01 19:41:56
easierData/-2025-04-01 19:41:56
DonaPLLP2013/-2025-04-01 19:41:55
TENxXeniumData/-2025-04-01 19:41:56
ffpeExampleData/-2025-04-01 19:41:56
breastCancerTRANSBIG/-2025-04-01 19:41:55
diggitdata/-2025-04-01 19:41:55
JASPAR2016/-2025-04-01 19:41:56
KEGGandMetacoreDzPathwaysGEO/-2025-04-01 19:41:56
synapterdata/-2025-04-01 19:41:56
BeadSorted.Saliva.EPIC/-2025-04-01 19:41:55
SpatialDatasets/-2025-04-01 19:41:56
LungCancerLines/-2025-04-01 19:41:56
zebrafishRNASeq/-2025-04-01 19:41:57
EpiMix.data/-2025-04-01 19:41:56
GSE62944/-2025-04-01 19:41:56
colonCA/-2025-04-01 19:41:55
FIs/-2025-04-01 19:41:56
gcspikelite/-2025-04-01 19:41:56
TENxBUSData/-2025-04-01 19:41:56
HiBED/-2025-04-01 19:41:56
rcellminerData/-2025-04-01 19:41:56
TCGAcrcmiRNA/-2025-04-01 19:41:56
CoSIAdata/-2025-04-01 19:41:55
scpdata/-2025-04-01 19:41:56
vulcandata/-2025-04-01 19:41:57
xcoredata/-2025-04-01 19:41:57
microRNAome/-2025-04-01 19:41:56
GIGSEAdata/-2025-04-01 19:41:56
MouseGastrulationData/-2025-04-01 19:41:56
PWMEnrich.Dmelanogaster.background/-2025-04-01 19:41:56
TargetSearchData/-2025-04-01 19:41:56
hgu133plus2barcodevecs/-2025-04-01 19:41:56
eoPredData/-2025-04-01 19:41:56
SubcellularSpatialData/-2025-04-01 19:41:56
curatedAdipoRNA/-2025-04-01 19:41:55
HEEBOdata/-2025-04-01 19:41:56
Fletcher2013b/-2025-04-01 19:41:56
RTCGA.mutations/-2025-04-01 19:41:56
lungExpression/-2025-04-01 19:41:56
FlowSorted.CordBloodCombined.450k/-2025-04-01 19:41:56
DuoClustering2018/-2025-04-01 19:41:55
GSE103322/-2025-04-01 19:41:56
GenomicDistributionsData/-2025-04-01 19:41:56
seqc/-2025-04-01 19:41:56
ARRmData/-2025-04-01 19:41:55
spatialDmelxsim/-2025-04-01 19:41:56
RTCGA.mRNA/-2025-04-01 19:41:56
COHCAPanno/-2025-04-01 19:41:55
minfiDataEPIC/-2025-04-01 19:41:56
PepsNMRData/-2025-04-01 19:41:56
CardinalWorkflows/-2025-04-01 19:41:55
healthyFlowData/-2025-04-01 19:41:56
hgu133abarcodevecs/-2025-04-01 19:41:56
XhybCasneuf/-2025-04-01 19:41:57
CLL/-2025-04-01 19:41:55
QUBICdata/-2025-04-01 19:41:56
ccdata/-2025-04-01 19:41:55
MetaGxOvarian/-2025-04-01 19:41:56
CONFESSdata/-2025-04-01 19:41:55
CellMapperData/-2025-04-01 19:41:55
breastCancerUNT/-2025-04-01 19:41:55
TBX20BamSubset/-2025-04-01 19:41:56
ITALICSData/-2025-04-01 19:41:56
PathNetData/-2025-04-01 19:41:56
IlluminaDataTestFiles/-2025-04-01 19:41:56
prebsdata/-2025-04-01 19:41:56
microbiomeDataSets/-2025-04-01 19:41:56
gpaExample/-2025-04-01 19:41:56
MethylSeqData/-2025-04-01 19:41:56
AmpAffyExample/-2025-04-01 19:41:55
HarmanData/-2025-04-01 19:41:56
BeadArrayUseCases/-2025-04-01 19:41:55
TargetScoreData/-2025-04-01 19:41:56
golubEsets/-2025-04-01 19:41:56
depmap/-2025-04-01 19:41:55
NxtIRFdata/-2025-04-01 19:41:56
faahKO/-2025-04-01 19:41:56
geneLenDataBase/-2025-04-01 19:41:56
signatureSearchData/-2025-04-01 19:41:56
minionSummaryData/-2025-04-01 19:41:56
LiebermanAidenHiC2009/-2025-04-01 19:41:56
RegParallel/-2025-04-01 19:41:56
HMP16SData/-2025-04-01 19:41:56
TCGAbiolinksGUI.data/-2025-04-01 19:41:56
WES.1KG.WUGSC/-2025-04-01 19:41:57
miRNATarget/-2025-04-01 19:41:56
BioImageDbs/-2025-04-01 19:41:55
seq2pathway.data/-2025-04-01 19:41:56
FieldEffectCrc/-2025-04-01 19:41:56
ConnectivityMap/-2025-04-01 19:41:55
TCGAcrcmRNA/-2025-04-01 19:41:56
msigdb/-2025-04-01 19:41:56
bcellViper/-2025-04-01 19:41:55
curatedAdipoArray/-2025-04-01 19:41:55
SVM2CRMdata/-2025-04-01 19:41:56
MUGAExampleData/-2025-04-01 19:41:56
TransOmicsData/-2025-04-01 19:41:56
plotgardenerData/-2025-04-01 19:41:56
mammaPrintData/-2025-04-01 19:41:56
celldex/-2025-04-01 19:41:55
Affymoe4302Expr/-2025-04-01 19:41:55
ChIPXpressData/-2025-04-01 19:41:55
SFEData/-2025-04-01 19:41:56
breastCancerNKI/-2025-04-01 19:41:55
parathyroidSE/-2025-04-01 19:41:56
tximportData/-2025-04-01 19:41:57
derfinderData/-2025-04-01 19:41:55
HCATonsilData/-2025-04-01 19:41:56
scATAC.Explorer/-2025-04-01 19:41:56
yeastNagalakshmi/-2025-04-01 19:41:57
antiProfilesData/-2025-04-01 19:41:55
dyebiasexamples/-2025-04-01 19:41:56
curatedBladderData/-2025-04-01 19:41:55
gageData/-2025-04-01 19:41:56
ecoliLeucine/-2025-04-01 19:41:56
GeuvadisTranscriptExpr/-2025-04-01 19:41:56
FlowSorted.CordBlood.450k/-2025-04-01 19:41:56
tuberculosis/-2025-04-01 19:41:56
seventyGeneData/-2025-04-01 19:41:56
sampleClassifierData/-2025-04-01 19:41:56
affycompData/-2025-04-01 19:41:55
nullrangesData/-2025-04-01 19:41:56
breastCancerUPP/-2025-04-01 19:41:55
skipped-index.dcf0 B2025-04-01 19:41:55
DEVEL3b.png2.6 KiB2025-04-01 19:41:55
Renviron.bioc3.2 KiB2025-04-01 19:41:55
report.js6.0 KiB2025-04-01 19:41:55
nebbiolo2-NodeInfo.html6.8 KiB2025-04-01 19:41:55
120px-Red_Light_Icon.svg.png7.0 KiB2025-04-01 19:41:55
120px-Green_Light_Icon.svg.png7.1 KiB2025-04-01 19:41:55
120px-Blue_Light_Icon.svg.png7.1 KiB2025-04-01 19:41:55
report.css11.0 KiB2025-04-01 19:41:55
PROPAGATION_STATUS_DB.txt31.0 KiB2025-04-01 19:41:55
meat-index.dcf46.3 KiB2025-04-01 19:41:55
BUILD_STATUS_DB.txt47.1 KiB2025-04-01 19:41:55
nebbiolo2-R-instpkgs.html522.0 KiB2025-04-01 19:41:55
index.html595.3 KiB2025-04-01 19:41:57
report.tgz1.1 MiB2025-04-01 19:41:58