Back to Multiple platform build/check report for BioC 3.20: simplified long |
|
This page was generated on 2025-04-02 19:35 -0400 (Wed, 02 Apr 2025).
Hostname | OS | Arch (*) | R version | Installed pkgs |
---|---|---|---|---|
nebbiolo2 | Linux (Ubuntu 24.04.1 LTS) | x86_64 | 4.4.3 (2025-02-28) -- "Trophy Case" | 4764 |
palomino8 | Windows Server 2022 Datacenter | x64 | 4.4.3 (2025-02-28 ucrt) -- "Trophy Case" | 4495 |
merida1 | macOS 12.7.5 Monterey | x86_64 | 4.4.3 (2025-02-28) -- "Trophy Case" | 4522 |
kjohnson1 | macOS 13.6.6 Ventura | arm64 | 4.4.3 (2025-02-28) -- "Trophy Case" | 4449 |
taishan | Linux (openEuler 24.03 LTS) | aarch64 | 4.4.3 (2025-02-28) -- "Trophy Case" | 4426 |
Click on any hostname to see more info about the system (e.g. compilers) (*) as reported by 'uname -p', except on Windows and Mac OS X |
Package 481/2289 | Hostname | OS / Arch | INSTALL | BUILD | CHECK | BUILD BIN | ||||||||
cyanoFilter 1.14.0 (landing page) Oluwafemi Olusoji
| nebbiolo2 | Linux (Ubuntu 24.04.1 LTS) / x86_64 | OK | OK | OK | ![]() | ||||||||
palomino8 | Windows Server 2022 Datacenter / x64 | OK | OK | OK | OK | ![]() | ||||||||
merida1 | macOS 12.7.5 Monterey / x86_64 | OK | OK | OK | OK | ![]() | ||||||||
kjohnson1 | macOS 13.6.6 Ventura / arm64 | OK | OK | OK | OK | ![]() | ||||||||
taishan | Linux (openEuler 24.03 LTS) / aarch64 | OK | OK | OK | ||||||||||
To the developers/maintainers of the cyanoFilter package: - Allow up to 24 hours (and sometimes 48 hours) for your latest push to git@git.bioconductor.org:packages/cyanoFilter.git to reflect on this report. See Troubleshooting Build Report for more information. - Use the following Renviron settings to reproduce errors and warnings. - If 'R CMD check' started to fail recently on the Linux builder(s) over a missing dependency, add the missing dependency to 'Suggests:' in your DESCRIPTION file. See Renviron.bioc for more information. - See Martin Grigorov's blog post for how to debug Linux ARM64 related issues on a x86_64 host. |
Package: cyanoFilter |
Version: 1.14.0 |
Command: /home/biocbuild/R/R/bin/R CMD check --install=check:cyanoFilter.install-out.txt --library=/home/biocbuild/R/R/site-library --no-vignettes --timings cyanoFilter_1.14.0.tar.gz |
StartedAt: 2025-04-01 05:33:01 -0000 (Tue, 01 Apr 2025) |
EndedAt: 2025-04-01 05:34:52 -0000 (Tue, 01 Apr 2025) |
EllapsedTime: 111.1 seconds |
RetCode: 0 |
Status: OK |
CheckDir: cyanoFilter.Rcheck |
Warnings: 0 |
############################################################################## ############################################################################## ### ### Running command: ### ### /home/biocbuild/R/R/bin/R CMD check --install=check:cyanoFilter.install-out.txt --library=/home/biocbuild/R/R/site-library --no-vignettes --timings cyanoFilter_1.14.0.tar.gz ### ############################################################################## ############################################################################## * using log directory ‘/home/biocbuild/bbs-3.20-bioc/meat/cyanoFilter.Rcheck’ * using R version 4.4.3 (2025-02-28) * using platform: aarch64-unknown-linux-gnu * R was compiled by aarch64-unknown-linux-gnu-gcc (GCC) 14.2.0 GNU Fortran (GCC) 14.2.0 * running under: openEuler 24.03 (LTS) * using session charset: UTF-8 * using option ‘--no-vignettes’ * checking for file ‘cyanoFilter/DESCRIPTION’ ... OK * checking extension type ... Package * this is package ‘cyanoFilter’ version ‘1.14.0’ * package encoding: UTF-8 * checking package namespace information ... OK * checking package dependencies ... OK * checking if this is a source package ... OK * checking if there is a namespace ... OK * checking for hidden files and directories ... OK * checking for portable file names ... OK * checking for sufficient/correct file permissions ... OK * checking whether package ‘cyanoFilter’ can be installed ... OK * checking installed package size ... OK * checking package directory ... OK * checking ‘build’ directory ... OK * checking DESCRIPTION meta-information ... OK * checking top-level files ... OK * checking for left-over files ... OK * checking index information ... OK * checking package subdirectories ... OK * checking code files for non-ASCII characters ... OK * checking R files for syntax errors ... OK * checking whether the package can be loaded ... OK * checking whether the package can be loaded with stated dependencies ... OK * checking whether the package can be unloaded cleanly ... OK * checking whether the namespace can be loaded with stated dependencies ... OK * checking whether the namespace can be unloaded cleanly ... OK * checking loading without being on the library search path ... OK * checking dependencies in R code ... OK * checking S3 generic/method consistency ... OK * checking replacement functions ... OK * checking foreign function calls ... OK * checking R code for possible problems ... OK * checking Rd files ... OK * checking Rd metadata ... OK * checking Rd cross-references ... OK * checking for missing documentation entries ... OK * checking for code/documentation mismatches ... OK * checking Rd \usage sections ... OK * checking Rd contents ... OK * checking for unstated dependencies in examples ... OK * checking files in ‘vignettes’ ... OK * checking examples ... OK Examples with CPU (user + system) or elapsed time > 5s user system elapsed gateFunc 12.213 0.363 10.125 * checking for unstated dependencies in vignettes ... OK * checking package vignettes ... OK * checking running R code from vignettes ... SKIPPED * checking re-building of vignette outputs ... SKIPPED * checking PDF version of manual ... OK * DONE Status: OK
cyanoFilter.Rcheck/00install.out
############################################################################## ############################################################################## ### ### Running command: ### ### /home/biocbuild/R/R/bin/R CMD INSTALL cyanoFilter ### ############################################################################## ############################################################################## * installing to library ‘/home/biocbuild/R/R-4.4.3/site-library’ * installing *source* package ‘cyanoFilter’ ... ** using staged installation ** R ** inst ** byte-compile and prepare package for lazy loading ** help *** installing help indices ** building package indices ** installing vignettes ** testing if installed package can be loaded from temporary location ** testing if installed package can be loaded from final location ** testing if installed package keeps a record of temporary installation path * DONE (cyanoFilter)
cyanoFilter.Rcheck/cyanoFilter-Ex.timings
name | user | system | elapsed | |
MarginEvents | 0.873 | 0.016 | 0.895 | |
PhytoFilter | 0.811 | 0.048 | 0.862 | |
PhytopFilter | 0.817 | 0.008 | 0.828 | |
accTest | 0.508 | 0.052 | 0.561 | |
accuracy | 0.611 | 0.036 | 0.648 | |
cellmargin | 0.397 | 0.024 | 0.422 | |
clusterExtract | 1.082 | 0.012 | 1.096 | |
clusterExtractp | 1.097 | 0.012 | 1.112 | |
debrisNc | 0.630 | 0.035 | 0.668 | |
fullFlowframe-MarginEvents-method | 0.381 | 0.001 | 0.383 | |
fullFlowframe-PhytopFilter-method | 0.783 | 0.008 | 0.793 | |
fullFlowframe | 0.399 | 0.003 | 0.404 | |
gateFunc | 12.213 | 0.363 | 10.125 | |
ggpairsDens | 4.019 | 0.140 | 4.168 | |
ggplotDens | 0.914 | 0.072 | 0.988 | |
ggplotDens2 | 1.076 | 0.028 | 1.107 | |
goodfcs | 0.057 | 0.000 | 0.059 | |
is.DebrisFilter | 0 | 0 | 0 | |
is.MarginEvents | 0 | 0 | 0 | |
is.PhytopFilter | 0 | 0 | 0 | |
is.flowFrame | 0 | 0 | 0 | |
is.flowSet | 0 | 0 | 0 | |
lnTrans | 0.251 | 0.008 | 0.259 | |
newFlowframe | 0.270 | 0.012 | 0.283 | |
nona | 0.126 | 0.000 | 0.127 | |
noneg | 0.212 | 0.004 | 0.217 | |
oneDgate | 0.265 | 0.004 | 0.270 | |
pairsPlot | 1.998 | 0.024 | 2.025 | |
pigmentGate | 0.331 | 0.012 | 0.343 | |
reducedFlowframe-MarginEvents-method | 0.390 | 0.000 | 0.391 | |
reducedFlowframe | 0.592 | 0.024 | 0.617 | |
retain | 0.020 | 0.000 | 0.019 | |
rowNumbers | 0.253 | 0.011 | 0.265 | |
summaries-DebrisFilter-method | 0.366 | 0.005 | 0.371 | |
summaries-MarginEvents-method | 0.370 | 0.008 | 0.379 | |
summaries-PhytopFilter-method | 0.768 | 0.003 | 0.774 | |
summaries | 0.388 | 0.004 | 0.392 | |