Back to the "Multiple platform build/check report"[A] B  C  D  E  F  G  H  I  J  K  L  M  N  O  P  Q  R  S  T  U  V  W  X  Y  Z 

BioC 3.2: CHECK report for aroma.light on oaxaca

This page was generated on 2015-10-27 17:38:18 -0400 (Tue, 27 Oct 2015).

Package 53/1104HostnameOS / ArchINSTALLBUILDCHECKBUILD BIN
aroma.light 3.0.0
Henrik Bengtsson
Snapshot Date: 2015-10-26 19:24:07 -0400 (Mon, 26 Oct 2015)
URL: https://hedgehog.fhcrc.org/bioconductor/branches/RELEASE_3_2/madman/Rpacks/aroma.light
Last Changed Rev: 109589 / Revision: 109947
Last Changed Date: 2015-10-13 15:36:05 -0400 (Tue, 13 Oct 2015)
linux1.bioconductor.org Linux (Ubuntu 14.04.2 LTS) / x86_64  OK  OK  OK UNNEEDED, same version exists in internal repository
windows1.bioconductor.org Windows Server 2012 R2 Enterprise SP1 (64-bit) / x64  OK  OK  OK  OK UNNEEDED, same version exists in internal repository
perceval Mac OS X Snow Leopard (10.6.8) / x86_64  OK  OK  OK  OK UNNEEDED, same version exists in internal repository
oaxaca Mac OS X Mavericks (10.9.5) / x86_64  OK  OK [ OK ] OK UNNEEDED, same version exists in internal repository

Summary

Package: aroma.light
Version: 3.0.0
Command: /Library/Frameworks/R.framework/Versions/Current/Resources/bin/R CMD check --no-vignettes --timings aroma.light_3.0.0.tar.gz
StartedAt: 2015-10-27 01:22:31 -0400 (Tue, 27 Oct 2015)
EndedAt: 2015-10-27 01:24:21 -0400 (Tue, 27 Oct 2015)
EllapsedTime: 110.5 seconds
RetCode: 0
Status:  OK 
CheckDir: aroma.light.Rcheck
Warnings: 0

Command output

##############################################################################
##############################################################################
###
### Running command:
###
###   /Library/Frameworks/R.framework/Versions/Current/Resources/bin/R CMD check --no-vignettes --timings aroma.light_3.0.0.tar.gz
###
##############################################################################
##############################################################################


* using log directory ‘/Users/biocbuild/bbs-3.2-bioc/meat/aroma.light.Rcheck’
* using R version 3.2.2 (2015-08-14)
* using platform: x86_64-apple-darwin13.4.0 (64-bit)
* using session charset: UTF-8
* using option ‘--no-vignettes’
* checking for file ‘aroma.light/DESCRIPTION’ ... OK
* this is package ‘aroma.light’ version ‘3.0.0’
* package encoding: latin1
* checking package namespace information ... OK
* checking package dependencies ... OK
* checking if this is a source package ... OK
* checking if there is a namespace ... OK
* checking for hidden files and directories ... NOTE
Found the following hidden files and directories:
  inst/rsp/.rspPlugins
These were most likely included in error. See section ‘Package
structure’ in the ‘Writing R Extensions’ manual.
* checking for portable file names ... OK
* checking for sufficient/correct file permissions ... OK
* checking whether package ‘aroma.light’ can be installed ... [2s/11s] OK
* checking installed package size ... OK
* checking package directory ... OK
* checking DESCRIPTION meta-information ... OK
* checking top-level files ... OK
* checking for left-over files ... OK
* checking index information ... OK
* checking package subdirectories ... OK
* checking R files for non-ASCII characters ... OK
* checking R files for syntax errors ... OK
* checking whether the package can be loaded ... OK
* checking whether the package can be loaded with stated dependencies ... OK
* checking whether the package can be unloaded cleanly ... OK
* checking whether the namespace can be loaded with stated dependencies ... OK
* checking whether the namespace can be unloaded cleanly ... OK
* checking dependencies in R code ... OK
* checking S3 generic/method consistency ... OK
* checking replacement functions ... OK
* checking foreign function calls ... OK
* checking R code for possible problems ... OK
* checking Rd files ... OK
* checking Rd metadata ... OK
* checking Rd cross-references ... OK
* checking for missing documentation entries ... OK
* checking for code/documentation mismatches ... OK
* checking Rd \usage sections ... OK
* checking Rd contents ... OK
* checking for unstated dependencies in examples ... OK
* checking examples ... [22s/24s] OK
Examples with CPU or elapsed time > 5s
                   user system elapsed
normalizeCurveFit 9.028  0.050   9.136
normalizeAffine   8.380  0.033   8.716
* checking for unstated dependencies in ‘tests’ ... OK
* checking tests ...
  Running ‘backtransformAffine.matrix.R’ [0s/0s]
  Running ‘backtransformPrincipalCurve.matrix.R’ [1s/1s]
  Running ‘callNaiveGenotypes.R’ [1s/1s]
  Running ‘distanceBetweenLines.R’ [0s/1s]
  Running ‘findPeaksAndValleys.R’ [1s/1s]
  Running ‘fitPrincipalCurve.matrix.R’ [1s/1s]
  Running ‘fitXYCurve.matrix.R’ [1s/1s]
  Running ‘iwpca.matrix.R’ [0s/1s]
  Running ‘likelihood.smooth.spline.R’ [1s/1s]
  Running ‘medianPolish.matrix.R’ [0s/0s]
  Running ‘normalizeAffine.matrix.R’ [4s/4s]
  Running ‘normalizeAverage.list.R’ [1s/2s]
  Running ‘normalizeAverage.matrix.R’ [0s/1s]
  Running ‘normalizeCurveFit.matrix.R’ [9s/10s]
  Running ‘normalizeDifferencesToAverage.R’ [0s/1s]
  Running ‘normalizeFragmentLength-ex1.R’ [1s/1s]
  Running ‘normalizeFragmentLength-ex2.R’ [1s/1s]
  Running ‘normalizeQuantileRank.list.R’ [1s/1s]
  Running ‘normalizeQuantileRank.matrix.R’ [1s/1s]
  Running ‘normalizeQuantileSpline.matrix.R’ [1s/3s]
  Running ‘normalizeTumorBoost,flavors.R’ [1s/1s]
  Running ‘normalizeTumorBoost.R’ [1s/1s]
  Running ‘robustSmoothSpline.R’ [1s/1s]
  Running ‘rowAverages.matrix.R’ [0s/0s]
  Running ‘sampleCorrelations.matrix.R’ [1s/1s]
  Running ‘sampleTuples.R’ [0s/1s]
  Running ‘wpca.matrix.R’ [0s/0s]
  Running ‘wpca2.matrix.R’ [1s/1s]
 [31s/37s] OK
* checking PDF version of manual ... OK
* DONE

Status: 1 NOTE
See
  ‘/Users/biocbuild/bbs-3.2-bioc/meat/aroma.light.Rcheck/00check.log’
for details.


aroma.light.Rcheck/00install.out:

* installing *source* package ‘aroma.light’ ...
** R
** inst
** preparing package for lazy loading
** help
*** installing help indices
** building package indices
** testing if installed package can be loaded
* DONE (aroma.light)

aroma.light.Rcheck/aroma.light-Ex.timings:

nameusersystemelapsed
backtransformAffine0.0040.0010.004
backtransformPrincipalCurve0.4290.0100.484
calibrateMultiscan0.0000.0000.001
callNaiveGenotypes0.3500.0070.356
distanceBetweenLines0.0360.0000.037
findPeaksAndValleys0.0760.0030.137
fitPrincipalCurve0.3260.0120.354
fitXYCurve0.0570.0020.071
iwpca0.0260.0010.027
likelihood.smooth.spline0.0960.0020.098
medianPolish0.0040.0000.018
normalizeAffine8.3800.0338.716
normalizeCurveFit9.0280.0509.136
normalizeDifferencesToAverage0.1980.0070.231
normalizeFragmentLength0.5450.0192.102
normalizeQuantileRank0.1530.0040.170
normalizeQuantileRank.matrix0.0570.0010.136
normalizeQuantileSpline0.7580.0100.794
normalizeTumorBoost0.1680.0070.206
robustSmoothSpline0.0520.0030.101
sampleCorrelations0.5140.0030.516
sampleTuples0.0010.0000.001
wpca0.0320.0020.034