Back to the "Multiple platform build/check report" A [B] C  D  E  F  G  H  I  J  K  L  M  N  O  P  Q  R  S  T  U  V  W  X  Y  Z 

BioC 3.2: CHECK report for ballgown on oaxaca

This page was generated on 2015-08-24 10:58:34 -0700 (Mon, 24 Aug 2015).

Package 70/1071HostnameOS / ArchINSTALLBUILDCHECKBUILD BIN
ballgown 2.1.1
Alyssa Frazee
Snapshot Date: 2015-08-23 16:24:14 -0700 (Sun, 23 Aug 2015)
URL: https://hedgehog.fhcrc.org/bioconductor/trunk/madman/Rpacks/ballgown
Last Changed Rev: 105646 / Revision: 107696
Last Changed Date: 2015-06-29 21:29:06 -0700 (Mon, 29 Jun 2015)
zin1 Linux (Ubuntu 14.04.2 LTS) / x86_64  OK  OK  OK UNNEEDED, same version exists in internal repository
perceval Mac OS X Snow Leopard (10.6.8) / x86_64  OK  OK  OK  OK UNNEEDED, same version exists in internal repository
oaxaca Mac OS X Mavericks (10.9.5) / x86_64  OK  OK [ OK ] OK UNNEEDED, same version exists in internal repository

Summary

Package: ballgown
Version: 2.1.1
Command: /Library/Frameworks/R.framework/Versions/Current/Resources/bin/R CMD check --no-vignettes --timings ballgown_2.1.1.tar.gz
StartedAt: 2015-08-23 21:47:50 -0700 (Sun, 23 Aug 2015)
EndedAt: 2015-08-23 21:53:06 -0700 (Sun, 23 Aug 2015)
EllapsedTime: 316.1 seconds
RetCode: 0
Status:  OK 
CheckDir: ballgown.Rcheck
Warnings: 0

Command output

##############################################################################
##############################################################################
###
### Running command:
###
###   /Library/Frameworks/R.framework/Versions/Current/Resources/bin/R CMD check --no-vignettes --timings ballgown_2.1.1.tar.gz
###
##############################################################################
##############################################################################


* using log directory ‘/Users/biocbuild/bbs-3.2-bioc/meat/ballgown.Rcheck’
* using R version 3.2.2 (2015-08-14)
* using platform: x86_64-apple-darwin13.4.0 (64-bit)
* using session charset: UTF-8
* using option ‘--no-vignettes’
* checking for file ‘ballgown/DESCRIPTION’ ... OK
* this is package ‘ballgown’ version ‘2.1.1’
* checking package namespace information ... OK
* checking package dependencies ... OK
* checking if this is a source package ... OK
* checking if there is a namespace ... OK
* checking for hidden files and directories ... OK
* checking for portable file names ... OK
* checking for sufficient/correct file permissions ... OK
* checking whether package ‘ballgown’ can be installed ... [24s/24s] OK
* checking installed package size ... OK
* checking package directory ... OK
* checking ‘build’ directory ... OK
* checking DESCRIPTION meta-information ... OK
* checking top-level files ... OK
* checking for left-over files ... OK
* checking index information ... OK
* checking package subdirectories ... OK
* checking R files for non-ASCII characters ... OK
* checking R files for syntax errors ... OK
* checking whether the package can be loaded ... OK
* checking whether the package can be loaded with stated dependencies ... OK
* checking whether the package can be unloaded cleanly ... OK
* checking whether the namespace can be loaded with stated dependencies ... OK
* checking whether the namespace can be unloaded cleanly ... OK
* checking dependencies in R code ... OK
* checking S3 generic/method consistency ... OK
* checking replacement functions ... OK
* checking foreign function calls ... OK
* checking R code for possible problems ... NOTE
subset,ballgown : .local: no visible binding for global variable ‘i_id’
subset,ballgown : .local: no visible binding for global variable ‘e_id’
subset,ballgown : .local: no visible binding for global variable ‘t_id’
* checking Rd files ... OK
* checking Rd metadata ... OK
* checking Rd cross-references ... OK
* checking for missing documentation entries ... OK
* checking for code/documentation mismatches ... OK
* checking Rd \usage sections ... OK
* checking Rd contents ... OK
* checking for unstated dependencies in examples ... OK
* checking contents of ‘data’ directory ... OK
* checking data for non-ASCII characters ... OK
* checking data for ASCII and uncompressed saves ... OK
* checking installed files from ‘inst/doc’ ... OK
* checking files in ‘vignettes’ ... OK
* checking examples ... [36s/36s] OK
Examples with CPU or elapsed time > 5s
                   user system elapsed
annotate_assembly 5.828  0.115   6.014
* checking for unstated dependencies in ‘tests’ ... OK
* checking tests ...
  Running ‘test-all.R’ [47s/47s]
 [47s/47s] OK
* checking for unstated dependencies in vignettes ... OK
* checking package vignettes in ‘inst/doc’ ... OK
* checking running R code from vignettes ... SKIPPED
* checking re-building of vignette outputs ... SKIPPED
* checking PDF version of manual ... OK
* DONE

Status: 1 NOTE
See
  ‘/Users/biocbuild/bbs-3.2-bioc/meat/ballgown.Rcheck/00check.log’
for details.


ballgown.Rcheck/00install.out:

* installing *source* package ‘ballgown’ ...
** R
** data
** inst
** preparing package for lazy loading
Creating a new generic function for ‘structure’ in package ‘ballgown’
** help
*** installing help indices
** building package indices
** installing vignettes
** testing if installed package can be loaded
* DONE (ballgown)

ballgown.Rcheck/ballgown-Ex.timings:

nameusersystemelapsed
annotate_assembly5.8280.1156.014
ballgown-class0.1010.0040.105
ballgown-constructor0.5920.0150.615
ballgownrsem4.1990.0464.368
bg0.0390.0040.043
checkAssembledTx000
clusterTranscripts0.2210.0040.226
collapseTranscripts0.3620.0070.382
contains2.8310.0202.887
dirs0.0390.0030.042
eexpr0.0420.0030.045
expr-replace0.0450.0040.049
expr0.0400.0030.042
exprfilter0.1030.0040.107
geneIDs0.0390.0030.043
geneNames1.4630.0251.489
getAttributeField1.7900.0041.801
getGenes1.4240.0161.444
gexpr0.1260.0050.133
gffRead0.4330.0020.435
gffReadGR1.8030.0151.822
iexpr0.0400.0050.045
indexes-replace0.0390.0050.044
indexes0.0400.0050.045
last0.0010.0000.001
mergedDate0.0350.0060.040
pData-replace0.4010.0110.414
pData0.0390.0060.044
pctOverlap1.4010.0171.420
plotLatentTranscripts0.0000.0000.001
plotMeans0.0010.0000.001
plotTranscripts0.0010.0000.001
sampleNames0.0400.0050.045
seqnames0.0380.0060.043
stattest0.0950.0060.101
structure0.0770.0060.083
subset0.1440.0050.150
tGene0.0460.0050.051
texpr0.0400.0060.046
transcriptIDs0.0380.0060.044
transcriptNames0.0400.0060.046
writeFiles0.0000.0000.001