Back to the "Multiple platform build/check report" | A B C D E F G H I J K L M N O P Q R S T U [V] W X Y Z |
This page was generated on 2015-08-24 10:48:58 -0700 (Mon, 24 Aug 2015).
Package 1051/1071 | Hostname | OS / Arch | INSTALL | BUILD | CHECK | BUILD BIN | |||||
VariantTools 1.11.0 Michael Lawrence
| zin1 | Linux (Ubuntu 14.04.2 LTS) / x86_64 | [ OK ] | OK | WARNINGS | ![]() | |||||
perceval | Mac OS X Snow Leopard (10.6.8) / x86_64 | ...NOT SUPPORTED...NOT SUPPORTED...NOT SUPPORTED... | |||||||||
oaxaca | Mac OS X Mavericks (10.9.5) / x86_64 | ...NOT SUPPORTED...NOT SUPPORTED...NOT SUPPORTED... |
Package: VariantTools |
Version: 1.11.0 |
Command: /home/biocbuild/bbs-3.2-bioc/R/bin/R CMD INSTALL VariantTools |
StartedAt: 2015-08-23 17:14:56 -0700 (Sun, 23 Aug 2015) |
EndedAt: 2015-08-23 17:15:18 -0700 (Sun, 23 Aug 2015) |
EllapsedTime: 21.4 seconds |
RetCode: 0 |
Status: OK |
############################################################################## ############################################################################## ### ### Running command: ### ### /home/biocbuild/bbs-3.2-bioc/R/bin/R CMD INSTALL VariantTools ### ############################################################################## ############################################################################## * installing to library ‘/home/biocbuild/bbs-3.2-bioc/R/library’ * installing *source* package ‘VariantTools’ ... ** R ** inst ** preparing package for lazy loading ** help *** installing help indices ** building package indices ** installing vignettes ‘VariantTools.Rnw’ ** testing if installed package can be loaded * DONE (VariantTools)