Back to the "Multiple platform build/check report" | A B C D E F [G] H I J K L M N O P Q R S T U V W X Y Z |
This page was generated on 2015-08-24 10:53:33 -0700 (Mon, 24 Aug 2015).
Package 409/1071 | Hostname | OS / Arch | INSTALL | BUILD | CHECK | BUILD BIN | |||||
GenomicAlignments 1.5.12 Bioconductor Package Maintainer
| zin1 | Linux (Ubuntu 14.04.2 LTS) / x86_64 | OK | OK | OK | ![]() | |||||
perceval | Mac OS X Snow Leopard (10.6.8) / x86_64 | OK | [ OK ] | TIMEOUT | OK | ||||||
oaxaca | Mac OS X Mavericks (10.9.5) / x86_64 | OK | OK | OK | OK | ![]() |
Package: GenomicAlignments |
Version: 1.5.12 |
Command: /Library/Frameworks/R.framework/Versions/Current/Resources/bin/R CMD build --keep-empty-dirs --no-resave-data GenomicAlignments |
StartedAt: 2015-08-23 20:07:56 -0700 (Sun, 23 Aug 2015) |
EndedAt: 2015-08-23 20:10:08 -0700 (Sun, 23 Aug 2015) |
EllapsedTime: 132.2 seconds |
RetCode: 0 |
Status: OK |
PackageFile: GenomicAlignments_1.5.12.tar.gz |
PackageFileSize: 1.875 MiB |
############################################################################## ############################################################################## ### ### Running command: ### ### /Library/Frameworks/R.framework/Versions/Current/Resources/bin/R CMD build --keep-empty-dirs --no-resave-data GenomicAlignments ### ############################################################################## ############################################################################## * checking for file ‘GenomicAlignments/DESCRIPTION’ ... OK * preparing ‘GenomicAlignments’: * checking DESCRIPTION meta-information ... OK * cleaning src * installing the package to build vignettes * creating vignettes ... OK * cleaning src * checking for LF line-endings in source and make files * checking for empty or unneeded directories * building ‘GenomicAlignments_1.5.12.tar.gz’