Back to Multiple platform build/check report for BioC 3.19:   simplified   long
ABCDEFGHIJKLMNOPQRS[T]UVWXYZ

This page was generated on 2024-10-18 20:41 -0400 (Fri, 18 Oct 2024).

HostnameOSArch (*)R versionInstalled pkgs
nebbiolo1Linux (Ubuntu 22.04.3 LTS)x86_644.4.1 (2024-06-14) -- "Race for Your Life" 4763
palomino7Windows Server 2022 Datacenterx644.4.1 (2024-06-14 ucrt) -- "Race for Your Life" 4500
merida1macOS 12.7.5 Montereyx86_644.4.1 (2024-06-14) -- "Race for Your Life" 4530
kjohnson1macOS 13.6.6 Venturaarm644.4.1 (2024-06-14) -- "Race for Your Life" 4480
Click on any hostname to see more info about the system (e.g. compilers)      (*) as reported by 'uname -p', except on Windows and Mac OS X

Package 2220/2300HostnameOS / ArchINSTALLBUILDCHECKBUILD BIN
ttgsea 1.12.0  (landing page)
Dongmin Jung
Snapshot Date: 2024-10-16 14:00 -0400 (Wed, 16 Oct 2024)
git_url: https://git.bioconductor.org/packages/ttgsea
git_branch: RELEASE_3_19
git_last_commit: 15ca189
git_last_commit_date: 2024-04-30 11:30:06 -0400 (Tue, 30 Apr 2024)
nebbiolo1Linux (Ubuntu 22.04.3 LTS) / x86_64  OK    OK    OK  UNNEEDED, same version is already published
palomino7Windows Server 2022 Datacenter / x64  OK    ERROR  skippedskipped
merida1macOS 12.7.5 Monterey / x86_64  OK    OK    OK    OK  UNNEEDED, same version is already published
kjohnson1macOS 13.6.6 Ventura / arm64  OK    OK    OK    NA  


CHECK results for ttgsea on merida1

To the developers/maintainers of the ttgsea package:
- Allow up to 24 hours (and sometimes 48 hours) for your latest push to git@git.bioconductor.org:packages/ttgsea.git to reflect on this report. See Troubleshooting Build Report for more information.
- Use the following Renviron settings to reproduce errors and warnings.
- If 'R CMD check' started to fail recently on the Linux builder(s) over a missing dependency, add the missing dependency to 'Suggests:' in your DESCRIPTION file. See Renviron.bioc for more information.

raw results


Summary

Package: ttgsea
Version: 1.12.0
Command: /Library/Frameworks/R.framework/Resources/bin/R CMD check --install=check:ttgsea.install-out.txt --library=/Library/Frameworks/R.framework/Resources/library --no-vignettes --timings ttgsea_1.12.0.tar.gz
StartedAt: 2024-10-17 14:46:26 -0400 (Thu, 17 Oct 2024)
EndedAt: 2024-10-17 14:52:22 -0400 (Thu, 17 Oct 2024)
EllapsedTime: 355.7 seconds
RetCode: 0
Status:   OK  
CheckDir: ttgsea.Rcheck
Warnings: 0

Command output

##############################################################################
##############################################################################
###
### Running command:
###
###   /Library/Frameworks/R.framework/Resources/bin/R CMD check --install=check:ttgsea.install-out.txt --library=/Library/Frameworks/R.framework/Resources/library --no-vignettes --timings ttgsea_1.12.0.tar.gz
###
##############################################################################
##############################################################################


* using log directory ‘/Users/biocbuild/bbs-3.19-bioc/meat/ttgsea.Rcheck’
* using R version 4.4.1 (2024-06-14)
* using platform: x86_64-apple-darwin20
* R was compiled by
    Apple clang version 14.0.0 (clang-1400.0.29.202)
    GNU Fortran (GCC) 12.2.0
* running under: macOS Monterey 12.7.6
* using session charset: UTF-8
* using option ‘--no-vignettes’
* checking for file ‘ttgsea/DESCRIPTION’ ... OK
* checking extension type ... Package
* this is package ‘ttgsea’ version ‘1.12.0’
* checking package namespace information ... OK
* checking package dependencies ... OK
* checking if this is a source package ... OK
* checking if there is a namespace ... OK
* checking for hidden files and directories ... OK
* checking for portable file names ... OK
* checking for sufficient/correct file permissions ... OK
* checking whether package ‘ttgsea’ can be installed ... OK
* checking installed package size ... OK
* checking package directory ... OK
* checking ‘build’ directory ... OK
* checking DESCRIPTION meta-information ... OK
* checking top-level files ... OK
* checking for left-over files ... OK
* checking index information ... OK
* checking package subdirectories ... OK
* checking code files for non-ASCII characters ... OK
* checking R files for syntax errors ... OK
* checking whether the package can be loaded ... OK
* checking whether the package can be loaded with stated dependencies ... OK
* checking whether the package can be unloaded cleanly ... OK
* checking whether the namespace can be loaded with stated dependencies ... OK
* checking whether the namespace can be unloaded cleanly ... OK
* checking dependencies in R code ... OK
* checking S3 generic/method consistency ... OK
* checking replacement functions ... OK
* checking foreign function calls ... OK
* checking R code for possible problems ... OK
* checking Rd files ... OK
* checking Rd metadata ... OK
* checking Rd cross-references ... OK
* checking for missing documentation entries ... OK
* checking for code/documentation mismatches ... OK
* checking Rd \usage sections ... OK
* checking Rd contents ... OK
* checking for unstated dependencies in examples ... OK
* checking files in ‘vignettes’ ... OK
* checking examples ... OK
Examples with CPU (user + system) or elapsed time > 5s
                user system elapsed
fit_model     40.610  3.932  38.723
predict_model 39.919  4.132  34.436
bi_gru        17.265  3.103  29.509
token_vector  16.089  1.009  13.392
text_token    15.854  0.898  12.955
* checking for unstated dependencies in ‘tests’ ... OK
* checking tests ...
  Running ‘testthat.R’
 OK
* checking for unstated dependencies in vignettes ... OK
* checking package vignettes ... OK
* checking running R code from vignettes ... SKIPPED
* checking re-building of vignette outputs ... SKIPPED
* checking PDF version of manual ... OK
* DONE

Status: OK


Installation output

ttgsea.Rcheck/00install.out

##############################################################################
##############################################################################
###
### Running command:
###
###   /Library/Frameworks/R.framework/Resources/bin/R CMD INSTALL ttgsea
###
##############################################################################
##############################################################################


* installing to library ‘/Library/Frameworks/R.framework/Versions/4.4-x86_64/Resources/library’
* installing *source* package ‘ttgsea’ ...
** using staged installation
** R
** byte-compile and prepare package for lazy loading
** help
*** installing help indices
** building package indices
** installing vignettes
** testing if installed package can be loaded from temporary location
** testing if installed package can be loaded from final location
** testing if installed package keeps a record of temporary installation path
* DONE (ttgsea)

Tests output

ttgsea.Rcheck/tests/testthat.Rout


R version 4.4.1 (2024-06-14) -- "Race for Your Life"
Copyright (C) 2024 The R Foundation for Statistical Computing
Platform: x86_64-apple-darwin20

R is free software and comes with ABSOLUTELY NO WARRANTY.
You are welcome to redistribute it under certain conditions.
Type 'license()' or 'licence()' for distribution details.

R is a collaborative project with many contributors.
Type 'contributors()' for more information and
'citation()' on how to cite R or R packages in publications.

Type 'demo()' for some demos, 'help()' for on-line help, or
'help.start()' for an HTML browser interface to help.
Type 'q()' to quit R.

> library(testthat)
> library(ttgsea)
Loading required package: keras
> 
> test_check("ttgsea")

 1/45 [..............................] - ETA: 8:27 - loss: 1.8568 - pearson_correlation: -0.1726
 3/45 [=>............................] - ETA: 1s - loss: 1.7213 - pearson_correlation: 0.0513   
 5/45 [==>...........................] - ETA: 1s - loss: 1.7091 - pearson_correlation: 0.0906
 7/45 [===>..........................] - ETA: 1s - loss: 1.7310 - pearson_correlation: 0.0747
 9/45 [=====>........................] - ETA: 1s - loss: 1.7093 - pearson_correlation: 0.0599
11/45 [======>.......................] - ETA: 1s - loss: 1.6534 - pearson_correlation: 0.0670
13/45 [=======>......................] - ETA: 1s - loss: 1.6344 - pearson_correlation: 0.0828
15/45 [=========>....................] - ETA: 1s - loss: 1.6565 - pearson_correlation: 0.0755
17/45 [==========>...................] - ETA: 1s - loss: 1.6322 - pearson_correlation: 0.0907
18/45 [===========>..................] - ETA: 1s - loss: 1.6306 - pearson_correlation: 0.0955
20/45 [============>.................] - ETA: 1s - loss: 1.6308 - pearson_correlation: 0.0929
22/45 [=============>................] - ETA: 0s - loss: 1.6218 - pearson_correlation: 0.1013
24/45 [===============>..............] - ETA: 0s - loss: 1.6190 - pearson_correlation: 0.1115
26/45 [================>.............] - ETA: 0s - loss: 1.6174 - pearson_correlation: 0.1172
28/45 [=================>............] - ETA: 0s - loss: 1.5977 - pearson_correlation: 0.1265
30/45 [===================>..........] - ETA: 0s - loss: 1.5940 - pearson_correlation: 0.1375
32/45 [====================>.........] - ETA: 0s - loss: 1.5818 - pearson_correlation: 0.1280
34/45 [=====================>........] - ETA: 0s - loss: 1.5680 - pearson_correlation: 0.1343
36/45 [=======================>......] - ETA: 0s - loss: 1.5614 - pearson_correlation: 0.1205
38/45 [========================>.....] - ETA: 0s - loss: 1.5534 - pearson_correlation: 0.1195
40/45 [=========================>....] - ETA: 0s - loss: 1.5583 - pearson_correlation: 0.1270
42/45 [===========================>..] - ETA: 0s - loss: 1.5640 - pearson_correlation: 0.1309
44/45 [============================>.] - ETA: 0s - loss: 1.5593 - pearson_correlation: 0.1426
45/45 [==============================] - 13s 39ms/step - loss: 1.5565 - pearson_correlation: 0.1422

1/4 [======>.......................] - ETA: 3s
4/4 [==============================] - 1s 11ms/step

1/1 [==============================] - ETA: 0s
1/1 [==============================] - 0s 52ms/step

 1/32 [..............................] - ETA: 1s
 7/32 [=====>........................] - ETA: 0s
13/32 [===========>..................] - ETA: 0s
19/32 [================>.............] - ETA: 0s
25/32 [======================>.......] - ETA: 0s
31/32 [============================>.] - ETA: 0s
32/32 [==============================] - 0s 9ms/step

 1/32 [..............................] - ETA: 1s
 7/32 [=====>........................] - ETA: 0s
13/32 [===========>..................] - ETA: 0s
19/32 [================>.............] - ETA: 0s
25/32 [======================>.......] - ETA: 0s
31/32 [============================>.] - ETA: 0s
32/32 [==============================] - 0s 9ms/step

1/1 [==============================] - ETA: 0s
1/1 [==============================] - 0s 51ms/step

 1/32 [..............................] - ETA: 1s
 7/32 [=====>........................] - ETA: 0s
13/32 [===========>..................] - ETA: 0s
19/32 [================>.............] - ETA: 0s
25/32 [======================>.......] - ETA: 0s
31/32 [============================>.] - ETA: 0s
32/32 [==============================] - 0s 9ms/step

 1/32 [..............................] - ETA: 1s
 6/32 [====>.........................] - ETA: 0s
12/32 [==========>...................] - ETA: 0s
17/32 [==============>...............] - ETA: 0s
22/32 [===================>..........] - ETA: 0s
28/32 [=========================>....] - ETA: 0s
32/32 [==============================] - 0s 10ms/step

 1/32 [..............................] - ETA: 1s
 7/32 [=====>........................] - ETA: 0s
13/32 [===========>..................] - ETA: 0s
19/32 [================>.............] - ETA: 0s
24/32 [=====================>........] - ETA: 0s
29/32 [==========================>...] - ETA: 0s
32/32 [==============================] - 0s 10ms/step

 1/32 [..............................] - ETA: 1s
 7/32 [=====>........................] - ETA: 0s
13/32 [===========>..................] - ETA: 0s
19/32 [================>.............] - ETA: 0s
25/32 [======================>.......] - ETA: 0s
31/32 [============================>.] - ETA: 0s
32/32 [==============================] - 0s 9ms/step
[ FAIL 0 | WARN 0 | SKIP 0 | PASS 13 ]
> 
> proc.time()
   user  system elapsed 
 57.219   7.441  65.202 

Example timings

ttgsea.Rcheck/ttgsea-Ex.timings

nameusersystemelapsed
bi_gru17.265 3.10329.509
bi_lstm0.6030.0360.840
fit_model40.610 3.93238.723
metric_pearson_correlation0.0230.0020.030
plot_model0.4630.0490.632
predict_model39.919 4.13234.436
sampling_generator0.0010.0010.002
text_token15.854 0.89812.955
token_vector16.089 1.00913.392