Back to the "Multiple platform build/check report" |
This page was generated on 2014-04-16 17:31:48 -0700 (Wed, 16 Apr 2014).
Package 126/200 | Hostname | OS / Arch | BUILD | CHECK | BUILD BIN | ||||
MafDb.ESP6500SI.V2.SSA137.dbSNP138 1.1.0 Robert Castelo
| zin1 | Linux (Ubuntu 12.04.4 LTS) / x86_64 | OK | OK | |||||
moscato1 | Windows Server 2008 R2 Enterprise SP1 (64-bit) / x64 | OK | OK | OK | |||||
perceval | Mac OS X Snow Leopard (10.6.8) / x86_64 | [ OK ] | OK | OK |
Package: MafDb.ESP6500SI.V2.SSA137.dbSNP138 |
Version: 1.1.0 |
Command: /Library/Frameworks/R.framework/Versions/Current/Resources/bin/R CMD build --keep-empty-dirs --no-resave-data MafDb.ESP6500SI.V2.SSA137.dbSNP138 |
StartedAt: 2014-04-16 10:39:24 -0700 (Wed, 16 Apr 2014) |
EndedAt: 2014-04-16 10:41:00 -0700 (Wed, 16 Apr 2014) |
EllapsedTime: 95.9 seconds |
RetCode: 0 |
Status: OK |
PackageFile: MafDb.ESP6500SI.V2.SSA137.dbSNP138_1.1.0.tar.gz |
PackageFileSize: 29.81 MiB |
* checking for file ‘MafDb.ESP6500SI.V2.SSA137.dbSNP138/DESCRIPTION’ ... OK * preparing ‘MafDb.ESP6500SI.V2.SSA137.dbSNP138’: * checking DESCRIPTION meta-information ... OK * checking for LF line-endings in source and make files * checking for empty or unneeded directories WARNING: directory ‘MafDb.ESP6500SI.V2.SSA137.dbSNP138/inst/MafDbPkgTemplate/inst/extdata’ is empty * building ‘MafDb.ESP6500SI.V2.SSA137.dbSNP138_1.1.0.tar.gz’ Warning in utils::tar(filepath, pkgname, compression = "gzip", compression_level = 9L, : storing paths of more than 100 bytes is not portable: ‘MafDb.ESP6500SI.V2.SSA137.dbSNP138/inst/MafDbPkgTemplate/man/MafDb.ESP6500SI.V2.SSA137.dbSNP138-package.Rd’