Back to the "Multiple platform build/check report" |
This page was generated on 2014-04-16 17:31:48 -0700 (Wed, 16 Apr 2014).
Package 125/200 | Hostname | OS / Arch | BUILD | CHECK | BUILD BIN | ||||
MafDb.ALL.wgs.phase1.release.v3.20101123 1.1.0 Robert Castelo
| zin1 | Linux (Ubuntu 12.04.4 LTS) / x86_64 | OK | OK | |||||
moscato1 | Windows Server 2008 R2 Enterprise SP1 (64-bit) / x64 | OK | OK | OK | |||||
perceval | Mac OS X Snow Leopard (10.6.8) / x86_64 | OK | OK | [ OK ] |
Package: MafDb.ALL.wgs.phase1.release.v3.20101123 |
Version: 1.1.0 |
Command: rm -rf MafDb.ALL.wgs.phase1.release.v3.20101123.buildbin-libdir && mkdir MafDb.ALL.wgs.phase1.release.v3.20101123.buildbin-libdir && /Users/biocbuild/BBS/utils/build-universal.sh MafDb.ALL.wgs.phase1.release.v3.20101123_1.1.0.tar.gz /Library/Frameworks/R.framework/Versions/Current/Resources/bin/R MafDb.ALL.wgs.phase1.release.v3.20101123.buildbin-libdir |
StartedAt: 2014-04-16 13:58:26 -0700 (Wed, 16 Apr 2014) |
EndedAt: 2014-04-16 14:06:41 -0700 (Wed, 16 Apr 2014) |
EllapsedTime: 495.2 seconds |
RetCode: 0 |
Status: OK |
PackageFile: MafDb.ALL.wgs.phase1.release.v3.20101123_1.1.0.tgz |
PackageFileSize: 644.8 MiB |
>>>>>>> >>>>>>> INSTALLATION WITH 'R CMD INSTALL --preclean --no-multiarch --library=MafDb.ALL.wgs.phase1.release.v3.20101123.buildbin-libdir MafDb.ALL.wgs.phase1.release.v3.20101123_1.1.0.tar.gz' >>>>>>> * installing *source* package ‘MafDb.ALL.wgs.phase1.release.v3.20101123’ ... ** R ** inst ** preparing package for lazy loading Note: the specification for S3 class “AsIs” in package ‘RJSONIO’ seems equivalent to one from package ‘BiocGenerics’: not turning on duplicate class definitions for this class. ** help *** installing help indices ** building package indices ** testing if installed package can be loaded Note: the specification for S3 class “AsIs” in package ‘RJSONIO’ seems equivalent to one from package ‘BiocGenerics’: not turning on duplicate class definitions for this class. * DONE (MafDb.ALL.wgs.phase1.release.v3.20101123)