Back to the "Multiple platform build/check report" |
Package 20/98 | Hostname | OS / Arch | BUILD | CHECK | BUILD BIN | ||||
CLL 1.2.8 Robert Gentleman
| wilson2 | Linux (openSUSE 11.4) / x86_64 | OK | WARNINGS | |||||
liverpool | Windows Server 2003 R2 (32-bit) / x64 | [ OK ] | WARNINGS | OK | |||||
pitt | Mac OS X Leopard (10.5.8) / i386 | OK | WARNINGS | OK |
Package: CLL |
Version: 1.2.8 |
Command: chmod a+r CLL -R && E:\biocbld\bbs-2.9-bioc\R\bin\R.exe CMD build --keep-empty-dirs --no-resave-data CLL |
StartedAt: 2011-07-06 13:43:03 -0700 (Wed, 06 Jul 2011) |
EndedAt: 2011-07-06 13:43:27 -0700 (Wed, 06 Jul 2011) |
EllapsedTime: 24.7 seconds |
RetCode: 0 |
Status: OK |
PackageFile: CLL_1.2.8.tar.gz |
PackageFileSize: 15.89 MiB |
* checking for file 'CLL/DESCRIPTION' ... OK * preparing 'CLL': * checking DESCRIPTION meta-information ... OK * checking for LF line-endings in source and make files * checking for empty or unneeded directories * looking to see if a 'data/datalist' file should be added * building 'CLL_1.2.8.tar.gz'