Back to the "Multiple platform build/check report" |
Package 101/120 | Hostname | OS / Arch | BUILD | CHECK | BUILD BIN | ||||
rheumaticConditionWOLLBOLD 1.0.0 Alejandro Quiroz-Zarate
| wilson2 | Linux (openSUSE 11.4) / x86_64 | OK | OK | |||||
moscato1 | Windows Server 2008 R2 Enterprise SP1 (64-bit) / x64 | OK | OK | [ OK ] | |||||
pitt | Mac OS X Leopard (10.5.8) / i386 | OK | OK | OK |
Package: rheumaticConditionWOLLBOLD |
Version: 1.0.0 |
Command: rm -rf rheumaticConditionWOLLBOLD.buildbin-libdir && mkdir rheumaticConditionWOLLBOLD.buildbin-libdir && D:\biocbld\bbs-2.9-bioc\R\bin\R.exe CMD INSTALL --build --merge-multiarch --library=rheumaticConditionWOLLBOLD.buildbin-libdir rheumaticConditionWOLLBOLD_1.0.0.tar.gz |
StartedAt: 2012-03-23 15:45:59 -0700 (Fri, 23 Mar 2012) |
EndedAt: 2012-03-23 15:46:26 -0700 (Fri, 23 Mar 2012) |
EllapsedTime: 26.6 seconds |
RetCode: 0 |
Status: OK |
PackageFile: rheumaticConditionWOLLBOLD_1.0.0.zip |
PackageFileSize: 20.77 MiB |
install for i386 * installing *source* package 'rheumaticConditionWOLLBOLD' ... ** data ** help *** installing help indices ** building package indices ... ** testing if installed package can be loaded add DLL for x64 * installing *source* package 'rheumaticConditionWOLLBOLD' ... ** testing if installed package can be loaded * MD5 sums packaged installation of 'rheumaticConditionWOLLBOLD' as rheumaticConditionWOLLBOLD_1.0.0.zip * DONE (rheumaticConditionWOLLBOLD)