Back to the "Multiple platform build/check report" |
Package 84/120 | Hostname | OS / Arch | BUILD | CHECK | BUILD BIN | ||||
minfiData 0.2.0 Kasper Daniel Hansen
| wilson2 | Linux (openSUSE 11.4) / x86_64 | OK | OK | |||||
moscato1 | Windows Server 2008 R2 Enterprise SP1 (64-bit) / x64 | OK | OK | OK | |||||
pitt | Mac OS X Leopard (10.5.8) / i386 | OK | OK | [ OK ] |
Package: minfiData |
Version: 0.2.0 |
Command: rm -rf minfiData.buildbin-libdir && mkdir minfiData.buildbin-libdir && /Users/biocbuild/BBS/utils/build-universal.sh minfiData_0.2.0.tar.gz /Library/Frameworks/R.framework/Versions/2.14/Resources/bin/R minfiData.buildbin-libdir |
StartedAt: 2012-03-23 15:01:11 -0700 (Fri, 23 Mar 2012) |
EndedAt: 2012-03-23 15:03:48 -0700 (Fri, 23 Mar 2012) |
EllapsedTime: 157.2 seconds |
RetCode: 0 |
Status: OK |
PackageFile: minfiData_0.2.0.tgz |
PackageFileSize: 91 MiB |
>>>>>>> >>>>>>> INSTALLATION WITH 'R CMD INSTALL --preclean --no-multiarch --library=minfiData.buildbin-libdir minfiData_0.2.0.tar.gz' >>>>>>> * installing *source* package 'minfiData' ... ** data ** moving datasets to lazyload DB ** inst ** help *** installing help indices ** building package indices ... ** testing if installed package can be loaded * DONE (minfiData)