Back to the "Multiple platform build/check report" |
Package 59/120 | Hostname | OS / Arch | BUILD | CHECK | BUILD BIN | ||||
harbChIP 1.0.7 VJ Carey
| wilson2 | Linux (openSUSE 11.4) / x86_64 | OK | OK | |||||
moscato1 | Windows Server 2008 R2 Enterprise SP1 (64-bit) / x64 | OK | OK | OK | |||||
pitt | Mac OS X Leopard (10.5.8) / i386 | OK | OK | [ OK ] |
Package: harbChIP |
Version: 1.0.7 |
Command: rm -rf harbChIP.buildbin-libdir && mkdir harbChIP.buildbin-libdir && /Users/biocbuild/BBS/utils/build-universal.sh harbChIP_1.0.7.tar.gz /Library/Frameworks/R.framework/Versions/2.14/Resources/bin/R harbChIP.buildbin-libdir |
StartedAt: 2012-03-23 14:57:55 -0700 (Fri, 23 Mar 2012) |
EndedAt: 2012-03-23 14:58:17 -0700 (Fri, 23 Mar 2012) |
EllapsedTime: 22.0 seconds |
RetCode: 0 |
Status: OK |
PackageFile: harbChIP_1.0.7.tgz |
PackageFileSize: 7.209 MiB |
>>>>>>> >>>>>>> INSTALLATION WITH 'R CMD INSTALL --preclean --no-multiarch --library=harbChIP.buildbin-libdir harbChIP_1.0.7.tar.gz' >>>>>>> * installing *source* package 'harbChIP' ... ** R ** data ** inst ** preparing package for lazy loading ** help *** installing help indices ** building package indices ... *** tangling vignette sources ... 'yeastUpstream.Rnw' ** testing if installed package can be loaded * DONE (harbChIP)