Back to the "Multiple platform build/check report" |
Package 58/120 | Hostname | OS / Arch | BUILD | CHECK | BUILD BIN | ||||
hapmapsnp6 1.3.6 Benilton Carvalho
| wilson2 | Linux (openSUSE 11.4) / x86_64 | OK | ERROR | |||||
moscato1 | Windows Server 2008 R2 Enterprise SP1 (64-bit) / x64 | OK | ERROR | ERROR | |||||
pitt | Mac OS X Leopard (10.5.8) / i386 | [ OK ] | ERROR | ERROR |
Package: hapmapsnp6 |
Version: 1.3.6 |
Command: /Library/Frameworks/R.framework/Versions/2.14/Resources/bin/R CMD build --keep-empty-dirs --no-resave-data hapmapsnp6 |
StartedAt: 2012-03-23 13:01:51 -0700 (Fri, 23 Mar 2012) |
EndedAt: 2012-03-23 13:06:00 -0700 (Fri, 23 Mar 2012) |
EllapsedTime: 248.4 seconds |
RetCode: 0 |
Status: OK |
PackageFile: hapmapsnp6_1.3.6.tar.gz |
PackageFileSize: 267 MiB |
* checking for file 'hapmapsnp6/DESCRIPTION' ... OK * preparing 'hapmapsnp6': * checking DESCRIPTION meta-information ... OK * checking for LF line-endings in source and make files * checking for empty or unneeded directories * looking to see if a 'data/datalist' file should be added * building 'hapmapsnp6_1.3.6.tar.gz'