| Back to the "Multiple platform build/check report" |
| Package 45/120 | Hostname | OS / Arch | BUILD | CHECK | BUILD BIN | ||||
| gatingMLData 1.0.4 Nishant Gopalakrishnan
| wilson2 | Linux (openSUSE 11.4) / x86_64 | OK | OK | |||||
| moscato1 | Windows Server 2008 R2 Enterprise SP1 (64-bit) / x64 | OK | OK | OK | |||||
| pitt | Mac OS X Leopard (10.5.8) / i386 | [ OK ] | OK | OK |
| Package: gatingMLData |
| Version: 1.0.4 |
| Command: /Library/Frameworks/R.framework/Versions/2.14/Resources/bin/R CMD build --keep-empty-dirs --no-resave-data gatingMLData |
| StartedAt: 2012-03-23 12:54:07 -0700 (Fri, 23 Mar 2012) |
| EndedAt: 2012-03-23 12:54:12 -0700 (Fri, 23 Mar 2012) |
| EllapsedTime: 4.3 seconds |
| RetCode: 0 |
| Status: OK |
| PackageFile: gatingMLData_1.0.4.tar.gz |
| PackageFileSize: 1.85 MiB |
* checking for file 'gatingMLData/DESCRIPTION' ... OK * preparing 'gatingMLData': * checking DESCRIPTION meta-information ... OK * checking for LF line-endings in source and make files * checking for empty or unneeded directories * building 'gatingMLData_1.0.4.tar.gz'