Back to the "Multiple platform build/check report" |
Package 89/98 | Hostname | OS / Arch | BUILD | CHECK | BUILD BIN | ||||
SpikeInSubset 1.2.8 Rafael A. Irizarry
| wilson2 | Linux (openSUSE 11.4) / x86_64 | OK | WARNINGS | |||||
liverpool | Windows Server 2003 R2 (32-bit) / x64 | OK | WARNINGS | OK | |||||
petty | Mac OS X Snow Leopard (10.6.7) / i386 | [ OK ] | WARNINGS | OK |
Package: SpikeInSubset |
Version: 1.2.8 |
Command: /Library/Frameworks/R.framework/Versions/2.14/Resources/bin/R CMD build --keep-empty-dirs --no-resave-data SpikeInSubset |
StartedAt: 2011-07-01 12:29:02 -0700 (Fri, 01 Jul 2011) |
EndedAt: 2011-07-01 12:29:15 -0700 (Fri, 01 Jul 2011) |
EllapsedTime: 12.8 seconds |
RetCode: 0 |
Status: OK |
PackageFile: SpikeInSubset_1.2.8.tar.gz |
PackageFileSize: 17.99 MiB |
* checking for file 'SpikeInSubset/DESCRIPTION' ... OK * preparing 'SpikeInSubset': * checking DESCRIPTION meta-information ... OK * checking for LF line-endings in source and make files * checking for empty or unneeded directories * looking to see if a 'data/datalist' file should be added * building 'SpikeInSubset_1.2.8.tar.gz'