Back to the "Multiple platform build/check report" |
Package 81/120 | Hostname | OS / Arch | BUILD | CHECK | BUILD BIN | ||||
MAQCsubsetAFX 1.0.5 Laurent Gatto
| wilson2 | Linux (openSUSE 11.4) / x86_64 | OK | WARNINGS | |||||
moscato1 | Windows Server 2008 R2 Enterprise SP1 (64-bit) / x64 | OK | WARNINGS | OK | |||||
pitt | Mac OS X Leopard (10.5.8) / i386 | [ OK ] | WARNINGS | OK |
Package: MAQCsubsetAFX |
Version: 1.0.5 |
Command: /Library/Frameworks/R.framework/Versions/2.14/Resources/bin/R CMD build --keep-empty-dirs --no-resave-data MAQCsubsetAFX |
StartedAt: 2012-03-23 13:01:12 -0700 (Fri, 23 Mar 2012) |
EndedAt: 2012-03-23 13:03:04 -0700 (Fri, 23 Mar 2012) |
EllapsedTime: 112.2 seconds |
RetCode: 0 |
Status: OK |
PackageFile: MAQCsubsetAFX_1.0.5.tar.gz |
PackageFileSize: 38.84 MiB |
* checking for file 'MAQCsubsetAFX/DESCRIPTION' ... OK * preparing 'MAQCsubsetAFX': * checking DESCRIPTION meta-information ... OK * installing the package to re-build vignettes * creating vignettes ... OK * checking for LF line-endings in source and make files * checking for empty or unneeded directories * looking to see if a 'data/datalist' file should be added * building 'MAQCsubsetAFX_1.0.5.tar.gz'