Back to the "Multiple platform build/check report" |
Package 33/120 | Hostname | OS / Arch | BUILD | CHECK | BUILD BIN | ||||
EatonEtAlChIPseq 0.0.6 Patrick Aboyoun
| wilson2 | Linux (openSUSE 11.4) / x86_64 | OK | OK | |||||
moscato1 | Windows Server 2008 R2 Enterprise SP1 (64-bit) / x64 | OK | OK | OK | |||||
pitt | Mac OS X Leopard (10.5.8) / i386 | OK | OK | [ OK ] |
Package: EatonEtAlChIPseq |
Version: 0.0.6 |
Command: rm -rf EatonEtAlChIPseq.buildbin-libdir && mkdir EatonEtAlChIPseq.buildbin-libdir && /Users/biocbuild/BBS/utils/build-universal.sh EatonEtAlChIPseq_0.0.6.tar.gz /Library/Frameworks/R.framework/Versions/2.14/Resources/bin/R EatonEtAlChIPseq.buildbin-libdir |
StartedAt: 2012-03-23 14:51:35 -0700 (Fri, 23 Mar 2012) |
EndedAt: 2012-03-23 14:51:57 -0700 (Fri, 23 Mar 2012) |
EllapsedTime: 22.3 seconds |
RetCode: 0 |
Status: OK |
PackageFile: EatonEtAlChIPseq_0.0.6.tgz |
PackageFileSize: 20.51 MiB |
>>>>>>> >>>>>>> INSTALLATION WITH 'R CMD INSTALL --preclean --no-multiarch --library=EatonEtAlChIPseq.buildbin-libdir EatonEtAlChIPseq_0.0.6.tar.gz' >>>>>>> * installing *source* package 'EatonEtAlChIPseq' ... ** data ** inst ** help *** installing help indices ** building package indices ... ** testing if installed package can be loaded * DONE (EatonEtAlChIPseq)