Back to the "Multiple platform build/check report" | [A] B C D E F G H I J K L M N O P Q R S T U V W X Y Z |
Package 41/472 | Hostname | OS / Arch | BUILD | CHECK | BUILD BIN | ||||
arrayQuality 1.31.0 Agnes Paquet
| wilson2 | Linux (openSUSE 11.4) / x86_64 | OK | OK | |||||
liverpool | Windows Server 2003 R2 (32-bit) / x64 | OK | OK | OK | |||||
gewurz | Windows Server 2008 R2 Enterprise (64-bit) / x64 | OK | OK | OK | |||||
moscato1 | Windows Server 2008 R2 Enterprise (64-bit) / x64 | OK | OK | OK | |||||
pelham | Mac OS X Leopard (10.5.8) / i386 | OK | OK | [ OK ] |
Package: arrayQuality |
Version: 1.31.0 |
Command: mkdir arrayQuality.buildbin-libdir && /Users/biocbuild/BBS/utils/build-universal.sh arrayQuality_1.31.0.tar.gz /Library/Frameworks/R.framework/Versions/2.14/Resources/bin/R arrayQuality.buildbin-libdir |
StartedAt: 2011-06-22 06:02:07 -0700 (Wed, 22 Jun 2011) |
EndedAt: 2011-06-22 06:02:30 -0700 (Wed, 22 Jun 2011) |
EllapsedTime: 23.1 seconds |
RetCode: 0 |
Status: OK |
PackageFile: arrayQuality_1.31.0.tgz |
PackageFileSize: 13.06 MiB |
>>>>>>> >>>>>>> INSTALLATION WITH 'R CMD INSTALL --preclean --library=arrayQuality.buildbin-libdir arrayQuality_1.31.0.tar.gz' >>>>>>> * installing *source* package ‘arrayQuality’ ... ** R ** data ** inst ** preparing package for lazy loading Loading required package: limma ** help *** installing help indices ** building package indices ... ** testing if installed package can be loaded * DONE (arrayQuality)