Back to the "Multiple platform build/check report" | A B C D E F G H I J K L M N O P Q R [S] T U V W X Y Z |
Package 450/514 | Hostname | OS / Arch | BUILD | CHECK | BUILD BIN | ||||
segmentSeq 1.6.2 Thomas J. Hardcastle
| wilson2 | Linux (openSUSE 11.4) / x86_64 | OK | OK | |||||
moscato1 | Windows Server 2008 R2 Enterprise SP1 (64-bit) / x64 | OK | OK | [ OK ] | |||||
pitt | Mac OS X Leopard (10.5.8) / i386 | OK | OK | OK |
Package: segmentSeq |
Version: 1.6.2 |
Command: rm -rf segmentSeq.buildbin-libdir && mkdir segmentSeq.buildbin-libdir && D:\biocbld\bbs-2.9-bioc\R\bin\R.exe CMD INSTALL --build --merge-multiarch --library=segmentSeq.buildbin-libdir segmentSeq_1.6.2.tar.gz |
StartedAt: 2012-03-24 04:10:23 -0700 (Sat, 24 Mar 2012) |
EndedAt: 2012-03-24 04:11:11 -0700 (Sat, 24 Mar 2012) |
EllapsedTime: 47.7 seconds |
RetCode: 0 |
Status: OK |
PackageFile: segmentSeq_1.6.2.zip |
PackageFileSize: 487.1 KiB |
install for i386 * installing *source* package 'segmentSeq' ... ** R ** inst ** preparing package for lazy loading ** help *** installing help indices ** building package indices ... *** tangling vignette sources ... 'segmentSeq.Rnw' ** testing if installed package can be loaded add DLL for x64 * installing *source* package 'segmentSeq' ... ** testing if installed package can be loaded * MD5 sums packaged installation of 'segmentSeq' as segmentSeq_1.6.2.zip * DONE (segmentSeq)