Back to the "Multiple platform build/check report" | A B C D E F G H I J K L M N O P [Q] R S T U V W X Y Z |
Package 393/516 | Hostname | OS / Arch | BUILD | CHECK | BUILD BIN | ||||
qtbase 1.0.0 Michael Lawrence
| wilson2 | Linux (openSUSE 11.4) / x86_64 | OK | WARNINGS | |||||
moscato1 | Windows Server 2008 R2 Enterprise SP1 (64-bit) / x64 | N O T S U P P O R T E D | |||||||
pitt | Mac OS X Leopard (10.5.8) / i386 | [ OK ] | WARNINGS | OK |
Package: qtbase |
Version: 1.0.0 |
Command: /Library/Frameworks/R.framework/Versions/2.14/Resources/bin/R CMD build --keep-empty-dirs --no-resave-data qtbase |
StartedAt: 2012-03-03 01:33:42 -0800 (Sat, 03 Mar 2012) |
EndedAt: 2012-03-03 01:39:38 -0800 (Sat, 03 Mar 2012) |
EllapsedTime: 356.5 seconds |
RetCode: 0 |
Status: OK |
PackageFile: qtbase_1.0.0.tar.gz |
PackageFileSize: 3.897 MiB |
* checking for file 'qtbase/DESCRIPTION' ... OK * preparing 'qtbase': * checking DESCRIPTION meta-information ... OK * cleaning src * installing the package to re-build vignettes * creating vignettes ... OK * cleaning src * checking for LF line-endings in source and make files * checking for empty or unneeded directories * building 'qtbase_1.0.0.tar.gz'