Back to the "Multiple platform build/check report" | A B C D E [F] G H I J K L M N O P Q R S T U V W X Y Z |
Package 160/514 | Hostname | OS / Arch | BUILD | CHECK | BUILD BIN | ||||
factDesign 1.30.0 Denise Scholtens
| wilson2 | Linux (openSUSE 11.4) / x86_64 | [ OK ] | OK | |||||
moscato1 | Windows Server 2008 R2 Enterprise SP1 (64-bit) / x64 | OK | OK | OK | |||||
pitt | Mac OS X Leopard (10.5.8) / i386 | OK | OK | OK |
Package: factDesign |
Version: 1.30.0 |
Command: /home/biocbuild/bbs-2.9-bioc/R/bin/R CMD build --keep-empty-dirs --no-resave-data factDesign |
StartedAt: 2012-03-23 20:36:23 -0700 (Fri, 23 Mar 2012) |
EndedAt: 2012-03-23 20:36:34 -0700 (Fri, 23 Mar 2012) |
EllapsedTime: 11.1 seconds |
RetCode: 0 |
Status: OK |
PackageFile: factDesign_1.30.0.tar.gz |
PackageFileSize: 242.4 KiB |
* checking for file ‘factDesign/DESCRIPTION’ ... OK * preparing ‘factDesign’: * checking DESCRIPTION meta-information ... OK * installing the package to re-build vignettes * creating vignettes ... OK * checking for LF line-endings in source and make files * checking for empty or unneeded directories * looking to see if a ‘data/datalist’ file should be added * building ‘factDesign_1.30.0.tar.gz’