Back to the "Multiple platform build/check report" | A [B] C D E F G H I J K L M N O P Q R S T U V W X Y Z |
Package 61/514 | Hostname | OS / Arch | BUILD | CHECK | BUILD BIN | ||||
biocGraph 1.16.1 Florian Hahne
| wilson2 | Linux (openSUSE 11.4) / x86_64 | [ OK ] | OK | |||||
moscato1 | Windows Server 2008 R2 Enterprise SP1 (64-bit) / x64 | OK | OK | OK | |||||
pitt | Mac OS X Leopard (10.5.8) / i386 | OK | OK | OK |
Package: biocGraph |
Version: 1.16.1 |
Command: /home/biocbuild/bbs-2.9-bioc/R/bin/R CMD build --keep-empty-dirs --no-resave-data biocGraph |
StartedAt: 2012-03-23 21:13:42 -0700 (Fri, 23 Mar 2012) |
EndedAt: 2012-03-23 21:14:09 -0700 (Fri, 23 Mar 2012) |
EllapsedTime: 27.3 seconds |
RetCode: 0 |
Status: OK |
PackageFile: biocGraph_1.16.1.tar.gz |
PackageFileSize: 547.9 KiB |
* checking for file ‘biocGraph/DESCRIPTION’ ... OK * preparing ‘biocGraph’: * checking DESCRIPTION meta-information ... OK * installing the package to re-build vignettes * creating vignettes ... OK * checking for LF line-endings in source and make files * checking for empty or unneeded directories * building ‘biocGraph_1.16.1.tar.gz’