Back to the "Multiple platform build/check report" | [A] B C D E F G H I J K L M N O P Q R S T U V W X Y Z |
Package 40/472 | Hostname | OS / Arch | BUILD | CHECK | BUILD BIN | ||||
arrayMvout 1.11.0 V. Carey
| wilson2 | Linux (openSUSE 11.4) / x86_64 | OK | OK | |||||
liverpool | Windows Server 2003 R2 (32-bit) / x64 | OK | OK | OK | |||||
gewurz | Windows Server 2008 R2 Enterprise (64-bit) / x64 | OK | OK | OK | |||||
moscato1 | Windows Server 2008 R2 Enterprise (64-bit) / x64 | OK | OK | OK | |||||
pelham | Mac OS X Leopard (10.5.8) / i386 | OK | OK | [ OK ] |
Package: arrayMvout |
Version: 1.11.0 |
Command: mkdir arrayMvout.buildbin-libdir && /Users/biocbuild/BBS/utils/build-universal.sh arrayMvout_1.11.0.tar.gz /Library/Frameworks/R.framework/Versions/2.14/Resources/bin/R arrayMvout.buildbin-libdir |
StartedAt: 2011-06-22 06:02:01 -0700 (Wed, 22 Jun 2011) |
EndedAt: 2011-06-22 06:02:32 -0700 (Wed, 22 Jun 2011) |
EllapsedTime: 31.6 seconds |
RetCode: 0 |
Status: OK |
PackageFile: arrayMvout_1.11.0.tgz |
PackageFileSize: 564.9 KiB |
>>>>>>> >>>>>>> INSTALLATION WITH 'R CMD INSTALL --preclean --library=arrayMvout.buildbin-libdir arrayMvout_1.11.0.tar.gz' >>>>>>> * installing *source* package ‘arrayMvout’ ... ** R ** data ** inst ** preparing package for lazy loading Welcome to Bioconductor Vignettes contain introductory material. To view, type 'browseVignettes()'. To cite Bioconductor, see 'citation("Biobase")' and for packages 'citation("pkgname")'. Loading required package: methylumi Loading required package: nleqslv KernSmooth 2.23 loaded Copyright M. P. Wand 1997-2009 Attaching package: ‘lumi’ The following object(s) are masked from ‘package:methylumi’: estimateM, getHistory The following object(s) are masked from ‘package:affy’: MAplot, plotDensity ** help *** installing help indices ** building package indices ... *** tangling vignette sources ... ‘arrayMvout.Rnw’ ** testing if installed package can be loaded * DONE (arrayMvout)