Back to the "Multiple platform build/check report" | A B C D E F G H I J K L M N O P Q R S T U V [W] X Y Z |
Package 464/472 | Hostname | OS / Arch | BUILD | CHECK | BUILD BIN | ||||
webbioc 1.25.0 Colin A. Smith
| wilson2 | Linux (openSUSE 11.4) / x86_64 | OK | OK | |||||
liverpool | Windows Server 2003 R2 (32-bit) / x64 | OK | OK | OK | |||||
gewurz | Windows Server 2008 R2 Enterprise (64-bit) / x64 | OK | OK | OK | |||||
moscato1 | Windows Server 2008 R2 Enterprise (64-bit) / x64 | OK | OK | OK | |||||
pelham | Mac OS X Leopard (10.5.8) / i386 | [ OK ] | OK | OK |
Package: webbioc |
Version: 1.25.0 |
Command: /Library/Frameworks/R.framework/Versions/2.14/Resources/bin/R CMD build --keep-empty-dirs --no-resave-data webbioc |
StartedAt: 2011-06-21 22:23:22 -0700 (Tue, 21 Jun 2011) |
EndedAt: 2011-06-21 22:23:48 -0700 (Tue, 21 Jun 2011) |
EllapsedTime: 25.9 seconds |
RetCode: 0 |
Status: OK |
PackageFile: webbioc_1.25.0.tar.gz |
PackageFileSize: 149.4 KiB |
* checking for file ‘webbioc/DESCRIPTION’ ... OK * preparing ‘webbioc’: * checking DESCRIPTION meta-information ... OK * installing the package to re-build vignettes * creating vignettes ... OK * checking for LF line-endings in source and make files * checking for empty or unneeded directories * building ‘webbioc_1.25.0.tar.gz’