Back to the "Multiple platform build/check report" | A B C D E F G H I J K L M N O P Q R S T U V [W] X Y Z |
Package 470/479 | Hostname | OS / Arch | BUILD | CHECK | BUILD BIN | ||||
weaver 1.19.0 Seth Falcon
| wilson2 | Linux (openSUSE 11.4) / x86_64 | [ OK ] | OK | |||||
liverpool | Windows Server 2003 R2 (32-bit) / x64 | OK | OK | OK | |||||
gewurz | Windows Server 2008 R2 Enterprise (64-bit) / x64 | OK | OK | OK | |||||
moscato1 | Windows Server 2008 R2 Enterprise (64-bit) / x64 | OK | OK | OK | |||||
pitt | Mac OS X Leopard (10.5.8) / i386 | OK | OK | OK |
Package: weaver |
Version: 1.19.0 |
Command: /home/biocbuild/bbs-2.9-bioc/R/bin/R CMD build --keep-empty-dirs --no-resave-data weaver |
StartedAt: 2011-07-06 21:46:27 -0700 (Wed, 06 Jul 2011) |
EndedAt: 2011-07-06 21:46:29 -0700 (Wed, 06 Jul 2011) |
EllapsedTime: 2.8 seconds |
RetCode: 0 |
Status: OK |
PackageFile: weaver_1.19.0.tar.gz |
PackageFileSize: 150 KiB |
* checking for file ‘weaver/DESCRIPTION’ ... OK * preparing ‘weaver’: * checking DESCRIPTION meta-information ... OK * installing the package to re-build vignettes * creating vignettes ... OK * checking for LF line-endings in source and make files * checking for empty or unneeded directories * building ‘weaver_1.19.0.tar.gz’