Back to the "Multiple platform build/check report" | A B C D E F G H I J K L M N O P Q R [S] T U V W X Y Z |
Package 421/479 | Hostname | OS / Arch | BUILD | CHECK | BUILD BIN | ||||
segmentSeq 1.5.1 Thomas J. Hardcastle
| wilson2 | Linux (openSUSE 11.4) / x86_64 | OK | WARNINGS | |||||
liverpool | Windows Server 2003 R2 (32-bit) / x64 | OK | WARNINGS | OK | |||||
gewurz | Windows Server 2008 R2 Enterprise (64-bit) / x64 | OK | WARNINGS | OK | |||||
moscato1 | Windows Server 2008 R2 Enterprise (64-bit) / x64 | OK | WARNINGS | OK | |||||
pitt | Mac OS X Leopard (10.5.8) / i386 | [ OK ] | WARNINGS | OK |
Package: segmentSeq |
Version: 1.5.1 |
Command: /Library/Frameworks/R.framework/Versions/2.14/Resources/bin/R CMD build --keep-empty-dirs --no-resave-data segmentSeq |
StartedAt: 2011-07-07 00:07:35 -0700 (Thu, 07 Jul 2011) |
EndedAt: 2011-07-07 00:26:31 -0700 (Thu, 07 Jul 2011) |
EllapsedTime: 1135.5 seconds |
RetCode: 0 |
Status: OK |
PackageFile: segmentSeq_1.5.1.tar.gz |
PackageFileSize: 476.7 KiB |
* checking for file 'segmentSeq/DESCRIPTION' ... OK * preparing 'segmentSeq': * checking DESCRIPTION meta-information ... OK * installing the package to re-build vignettes * creating vignettes ... OK * checking for LF line-endings in source and make files * checking for empty or unneeded directories * building 'segmentSeq_1.5.1.tar.gz'