* installing *source* package 'BioMVCClass' ...
** R
** inst
** preparing package for lazy loading
Welcome to Bioconductor
Vignettes contain introductory material. To view, type
'browseVignettes()'. To cite Bioconductor, see
'citation("Biobase")' and for packages 'citation("pkgname")'.
Loading required package: grid
Warning in fun(...) :
Rgraphviz built with Graphviz version 2.20.3.
Found installed Graphviz version 2.25.20090912.445. This _may_ cause problems.
Attaching package: 'Rgraphviz'
The following object(s) are masked from 'package:MVCClass':
from
** help
*** installing help indices
** building package indices ...
*** tangling vignette sources ...
'BioMVCClass.Rnw'
** testing if installed package can be loaded
Warning message:
In fun(...) : Rgraphviz built with Graphviz version 2.20.3.
Found installed Graphviz version 2.25.20090912.445. This _may_ cause problems.
* MD5 sums
packaged installation of 'BioMVCClass' as BioMVCClass_1.21.0.zip
* DONE (BioMVCClass)