Back to the "Multiple platform build/check report" | A B C D E [F] G H I J K L M N O P Q R S T U V W X Y Z |
Package 148/462 | Hostname | OS / Arch | BUILD | CHECK | BUILD BIN | ||||
flowClust 2.11.0 Raphael Gottardo
| wilson2 | Linux (openSUSE 11.4) / x86_64 | [ OK ] | WARNINGS | |||||
liverpool | Windows Server 2003 R2 (32-bit) / x64 | OK | WARNINGS | OK | |||||
gewurz | Windows Server 2008 R2 Enterprise (64-bit) / x64 | OK | WARNINGS | OK | |||||
pelham | Mac OS X Leopard (10.5.8) / i386 | OK | WARNINGS | OK |
Package: flowClust |
Version: 2.11.0 |
Command: /home/biocbuild/bbs-2.9-bioc/R/bin/R CMD build --keep-empty-dirs --no-resave-data flowClust |
StartedAt: 2011-05-09 09:58:41 -0700 (Mon, 09 May 2011) |
EndedAt: 2011-05-09 09:59:13 -0700 (Mon, 09 May 2011) |
EllapsedTime: 31.5 seconds |
RetCode: 0 |
Status: OK |
PackageFile: flowClust_2.11.0.tar.gz |
PackageFileSize: 366.9 KiB |
* checking for file ‘flowClust/DESCRIPTION’ ... OK * preparing ‘flowClust’: * checking DESCRIPTION meta-information ... OK * cleaning src * running ‘cleanup’ * installing the package to re-build vignettes * creating vignettes ... OK * cleaning src * running ‘cleanup’ * checking for LF line-endings in source and make files * checking for empty or unneeded directories * looking to see if a ‘data/datalist’ file should be added * building ‘flowClust_2.11.0.tar.gz’