Back to the "Multiple platform build/check report" | A B C D E F [G] H I J K L M N O P Q R S T U V W X Y Z |
Package 194/462 | Hostname | OS / Arch | BUILD | CHECK | BUILD BIN | ||||
GEOquery 2.19.0 Sean Davis
| wilson2 | Linux (openSUSE 11.4) / x86_64 | [ OK ] | OK | |||||
liverpool | Windows Server 2003 R2 (32-bit) / x64 | OK | OK | OK | |||||
gewurz | Windows Server 2008 R2 Enterprise (64-bit) / x64 | OK | OK | OK | |||||
pelham | Mac OS X Leopard (10.5.8) / i386 | OK | OK | OK |
Package: GEOquery |
Version: 2.19.0 |
Command: /home/biocbuild/bbs-2.9-bioc/R/bin/R CMD build --keep-empty-dirs --no-resave-data GEOquery |
StartedAt: 2011-05-09 09:32:33 -0700 (Mon, 09 May 2011) |
EndedAt: 2011-05-09 09:33:57 -0700 (Mon, 09 May 2011) |
EllapsedTime: 83.4 seconds |
RetCode: 0 |
Status: OK |
PackageFile: GEOquery_2.19.0.tar.gz |
PackageFileSize: 13.02 MiB |
* checking for file ‘GEOquery/DESCRIPTION’ ... OK * preparing ‘GEOquery’: * checking DESCRIPTION meta-information ... OK * installing the package to re-build vignettes * creating vignettes ... OK * checking for LF line-endings in source and make files * checking for empty or unneeded directories WARNING: directory ‘GEOquery/inst/Rnw’ is empty * building ‘GEOquery_2.19.0.tar.gz’